BEGIN:VCALENDAR
VERSION:2.0
PRODID:-//ACTR - ECPv6.2.9//NONSGML v1.0//EN
CALSCALE:GREGORIAN
METHOD:PUBLISH
X-ORIGINAL-URL:https://actr.ch
X-WR-CALDESC:évènements pour ACTR
REFRESH-INTERVAL;VALUE=DURATION:PT1H
X-Robots-Tag:noindex
X-PUBLISHED-TTL:PT1H
BEGIN:VTIMEZONE
TZID:Europe/Zurich
BEGIN:DAYLIGHT
TZOFFSETFROM:+0100
TZOFFSETTO:+0200
TZNAME:CEST
DTSTART:20240331T010000
END:DAYLIGHT
BEGIN:STANDARD
TZOFFSETFROM:+0200
TZOFFSETTO:+0100
TZNAME:CET
DTSTART:20241027T010000
END:STANDARD
END:VTIMEZONE
BEGIN:VEVENT
DTSTART;TZID=Europe/Zurich:20240202T180000
DTEND;TZID=Europe/Zurich:20240204T170000
DTSTAMP:20260421T102718
CREATED:20231021T202322Z
LAST-MODIFIED:20231021T202322Z
UID:7059-1706896800-1707066000@actr.ch
SUMMARY:Weekend d'église
DESCRIPTION:Weekend d’église \nDu vendredi 2 février au dimanche 4 février\, en pension complète à la Bessonnaz.
URL:https://actr.ch/event/weekend-deglise-2/
LOCATION:La Bessonne\, Lignerolle\, La Bessonne\, Lignerolle\, Suisse
ATTACH;FMTTYPE=image/jpeg:https://actr.ch/wp-content/uploads/2023/10/2024.02.02_Savethedate_WEeglise.jpg
END:VEVENT
BEGIN:VEVENT
DTSTART;TZID=Europe/Zurich:20240202T190000
DTEND;TZID=Europe/Zurich:20240204T160000
DTSTAMP:20260421T102718
CREATED:20240111T110823Z
LAST-MODIFIED:20240111T110823Z
UID:7411-1706900400-1707062400@actr.ch
SUMMARY:Groupe de jeunes
DESCRIPTION:Vendredi\, samedi & dimanche 2-3-4 février 2024 \nLe groupe de jeune en weekend d’église à la Bessonne
URL:https://actr.ch/event/groupe-de-jeunes-3/
LOCATION:La Bessonne\, Lignerolle\, La Bessonne\, Lignerolle\, Suisse
ATTACH;FMTTYPE=image/jpeg:https://actr.ch/wp-content/uploads/2024/01/2024.02.02-04_GDJ.jpg
END:VEVENT
BEGIN:VEVENT
DTSTART;TZID=Europe/Zurich:20240206T200000
DTEND;TZID=Europe/Zurich:20240206T213000
DTSTAMP:20260421T102718
CREATED:20231219T093411Z
LAST-MODIFIED:20231219T093411Z
UID:7286-1707249600-1707255000@actr.ch
SUMMARY:Partage biblique & Prière
DESCRIPTION:Mardi 6 février 2024 \nPartage biblique et prière: Actes 3.23-31: Prières en temps d’opposition: De la demande… à l’exaucement
URL:https://actr.ch/event/partage-biblique-priere-54/
LOCATION:ACTR\, Chemin des Trois-Rois 5\, Lausanne\, 1005\, Suisse
ATTACH;FMTTYPE=image/jpeg:https://actr.ch/wp-content/uploads/2023/01/2023_PartageBibliqueEtPriere.jpg
END:VEVENT
BEGIN:VEVENT
DTSTART;TZID=Europe/Zurich:20240211T100000
DTEND;TZID=Europe/Zurich:20240211T114500
DTSTAMP:20260421T102718
CREATED:20231216T151725Z
LAST-MODIFIED:20240129T084034Z
UID:7236-1707645600-1707651900@actr.ch
SUMMARY:Culte & Message biblique
DESCRIPTION:Dimanche 11 février 2024 \n10h-11h45: Culte & Message biblique
URL:https://actr.ch/event/culte-message-biblique-108/
LOCATION:ACTR\, Chemin des Trois-Rois 5\, Lausanne\, 1005\, Suisse
ATTACH;FMTTYPE=image/png:https://actr.ch/wp-content/uploads/2023/12/2024.02.11_ImageToUse.png
END:VEVENT
BEGIN:VEVENT
DTSTART;TZID=Europe/Zurich:20240213T200000
DTEND;TZID=Europe/Zurich:20240213T213000
DTSTAMP:20260421T102718
CREATED:20231219T093610Z
LAST-MODIFIED:20231219T093610Z
UID:7288-1707854400-1707859800@actr.ch
SUMMARY:Partage biblique & Prière
DESCRIPTION:Mardi 13 février 2024 \nPartage biblique et prière: Actes 6.1-7: Se consacrer à la prière et à la Parole: dédier à des personnes spécifiques?
URL:https://actr.ch/event/partage-biblique-priere-55/
LOCATION:ACTR\, Chemin des Trois-Rois 5\, Lausanne\, 1005\, Suisse
ATTACH;FMTTYPE=image/jpeg:https://actr.ch/wp-content/uploads/2023/01/2023_PartageBibliqueEtPriere.jpg
END:VEVENT
BEGIN:VEVENT
DTSTART;TZID=Europe/Zurich:20240215T100000
DTEND;TZID=Europe/Zurich:20240215T140000
DTSTAMP:20260421T102718
CREATED:20240206T213617Z
LAST-MODIFIED:20240206T213617Z
UID:7571-1707991200-1708005600@actr.ch
SUMMARY:Jeux & Amitiés
DESCRIPTION:Jeudi 15 février 2024 \nJeux & Amitiés \nDe 10h à 14h\, avec repas \nDans les locaux de l’ACTR. \nInscription auprès de Janelyse [079 424 54 24]
URL:https://actr.ch/event/jeux-amities-17/
LOCATION:ACTR\, Chemin des Trois-Rois 5\, Lausanne\, 1005\, Suisse
ATTACH;FMTTYPE=image/jpeg:https://actr.ch/wp-content/uploads/2024/02/2024.02.15_JeuxAmities.jpg
END:VEVENT
BEGIN:VEVENT
DTSTART;TZID=Europe/Zurich:20240218T100000
DTEND;TZID=Europe/Zurich:20240218T114500
DTSTAMP:20260421T102718
CREATED:20231216T151831Z
LAST-MODIFIED:20240121T220322Z
UID:7238-1708250400-1708256700@actr.ch
SUMMARY:Culte & 1er message de campagne | L'amour compte plus que tout
DESCRIPTION:Dimanche 18 février 2024 \n10h-11h45: Culte & 1er message de campagne | L’amour compte plus que tout (Matthieu 22.36-39\, Colossiens 3.14\, Galates 5.6) — Orateur: Stefan Waldmann \n10h30-11h45: Ecole du dimanche & Garderie
URL:https://actr.ch/event/culte-1er-message-de-campagne/
LOCATION:ACTR\, Chemin des Trois-Rois 5\, Lausanne\, 1005\, Suisse
ATTACH;FMTTYPE=image/jpeg:https://actr.ch/wp-content/uploads/2024/01/relu_Campagne_janvier_24_visuel.jpeg
END:VEVENT
BEGIN:VEVENT
DTSTART;TZID=Europe/Zurich:20240224T183000
DTEND;TZID=Europe/Zurich:20240224T220000
DTSTAMP:20260421T102718
CREATED:20240111T110935Z
LAST-MODIFIED:20240111T110935Z
UID:7414-1708799400-1708812000@actr.ch
SUMMARY:Groupe de jeunes
DESCRIPTION:Samedi 24 février 2024 \nSoirée du groupe de jeunes dès 18h30 dans les locaux de l’ACTR
URL:https://actr.ch/event/groupe-de-jeunes-4/
LOCATION:ACTR\, Chemin des Trois-Rois 5\, Lausanne\, 1005\, Suisse
ATTACH;FMTTYPE=image/jpeg:https://actr.ch/wp-content/uploads/2024/01/2024.02.24_GDJ.jpg
END:VEVENT
BEGIN:VEVENT
DTSTART;TZID=Europe/Zurich:20240225T100000
DTEND;TZID=Europe/Zurich:20240225T114500
DTSTAMP:20260421T102718
CREATED:20231216T151920Z
LAST-MODIFIED:20240121T220500Z
UID:7240-1708855200-1708861500@actr.ch
SUMMARY:Culte & 2ème message de campagne | Aimer comme Dieu vous aime
DESCRIPTION:Dimanche 25 février 2024 \n10h-11h45: Culte & 2ème message de campagne | Aimer comme Dieu vous aime (Jean 13.1-17\, 33-35) — Orateur: Benoît Pfister \n10h30-11h45: Ecole du dimanche & Garderie
URL:https://actr.ch/event/culte-2eme-message-de-campagne/
LOCATION:ACTR\, Chemin des Trois-Rois 5\, Lausanne\, 1005\, Suisse
ATTACH;FMTTYPE=image/jpeg:https://actr.ch/wp-content/uploads/2024/01/relu_Campagne_janvier_24_visuel.jpeg
END:VEVENT
BEGIN:VEVENT
DTSTART;TZID=Europe/Zurich:20240228T140000
DTEND;TZID=Europe/Zurich:20240228T163000
DTSTAMP:20260421T102718
CREATED:20240129T075948Z
LAST-MODIFIED:20240129T080159Z
UID:7525-1709128800-1709137800@actr.ch
SUMMARY:Groupe de l'amitié
DESCRIPTION:Mercredi 28 février 2024 \n14h00: Conférence “Quatre femmes\, quatre histoires\, une généalogie”\, avec Marie Ray\, au local \nPour tous les détails de l’invitation\, c’est ici. \nInscription auprès d’Anne-Lise Flaction | flaction33@bluewin.ch – 021 731 16 58 – 079 646 86 83
URL:https://actr.ch/event/groupe-de-lamitie-9/
LOCATION:ACTR\, Chemin des Trois-Rois 5\, Lausanne\, 1005\, Suisse
ATTACH;FMTTYPE=image/jpeg:https://actr.ch/wp-content/uploads/2024/01/2024.02.28_GroupeDeLamitie.jpg
END:VEVENT
END:VCALENDAR