BEGIN:VCALENDAR
VERSION:2.0
PRODID:-//ACTR - ECPv6.2.9//NONSGML v1.0//EN
CALSCALE:GREGORIAN
METHOD:PUBLISH
X-WR-CALNAME:ACTR
X-ORIGINAL-URL:https://actr.ch
X-WR-CALDESC:évènements pour ACTR
REFRESH-INTERVAL;VALUE=DURATION:PT1H
X-Robots-Tag:noindex
X-PUBLISHED-TTL:PT1H
BEGIN:VTIMEZONE
TZID:Europe/Zurich
BEGIN:DAYLIGHT
TZOFFSETFROM:+0100
TZOFFSETTO:+0200
TZNAME:CEST
DTSTART:20240331T010000
END:DAYLIGHT
BEGIN:STANDARD
TZOFFSETFROM:+0200
TZOFFSETTO:+0100
TZNAME:CET
DTSTART:20241027T010000
END:STANDARD
END:VTIMEZONE
BEGIN:VEVENT
DTSTART;TZID=Europe/Zurich:20240102T200000
DTEND;TZID=Europe/Zurich:20240102T213000
DTSTAMP:20260421T133537
CREATED:20231216T152657Z
LAST-MODIFIED:20231216T152657Z
UID:7255-1704225600-1704231000@actr.ch
SUMMARY:Partage biblique & Prière libre
DESCRIPTION:Mardi 2 janvier 2024 \nPartage biblique et prière libre
URL:https://actr.ch/event/partage-biblique-priere-libre-2/
LOCATION:ACTR\, Chemin des Trois-Rois 5\, Lausanne\, 1005\, Suisse
ATTACH;FMTTYPE=image/jpeg:https://actr.ch/wp-content/uploads/2023/01/2023_PartageBibliqueEtPriere.jpg
END:VEVENT
BEGIN:VEVENT
DTSTART;TZID=Europe/Zurich:20240107T100000
DTEND;TZID=Europe/Zurich:20240107T114500
DTSTAMP:20260421T133537
CREATED:20231216T150926Z
LAST-MODIFIED:20231219T094748Z
UID:7226-1704621600-1704627900@actr.ch
SUMMARY:Culte & Message biblique | Les valeurs fondamentales de l'ACTR
DESCRIPTION:Dimanche 7 janvier 2024 \n10h-11h45: Culte & Message biblique | Les valeurs fondamentales de l’ACTR \nDeuxième prédication sur le thème “Appartenir à la famille de l’ACTR” \nOrateur: 1 ancien [Jean L.] \n10h30-11h45: Ecole du dimanche & Garderie
URL:https://actr.ch/event/culte-message-biblique-nos-croyances/
LOCATION:ACTR\, Chemin des Trois-Rois 5\, Lausanne\, 1005\, Suisse
ATTACH;FMTTYPE=image/jpeg:https://actr.ch/wp-content/uploads/2023/12/2023.12.17_empty.jpg
END:VEVENT
BEGIN:VEVENT
DTSTART;TZID=Europe/Zurich:20240109T200000
DTEND;TZID=Europe/Zurich:20240109T213000
DTSTAMP:20260421T133537
CREATED:20231216T152957Z
LAST-MODIFIED:20231216T152957Z
UID:7257-1704830400-1704835800@actr.ch
SUMMARY:Partage biblique & Prière
DESCRIPTION:Mardi 9 janvier 2024 \nPartage biblique et prière: Actes 3.1-11: Le temps de la prière: occasion de vivre différentes expériences: et pour nous aujourd’hui?
URL:https://actr.ch/event/partage-biblique-priere-53/
LOCATION:ACTR\, Chemin des Trois-Rois 5\, Lausanne\, 1005\, Suisse
ATTACH;FMTTYPE=image/jpeg:https://actr.ch/wp-content/uploads/2023/01/2023_PartageBibliqueEtPriere.jpg
END:VEVENT
BEGIN:VEVENT
DTSTART;TZID=Europe/Zurich:20240113T183000
DTEND;TZID=Europe/Zurich:20240113T220000
DTSTAMP:20260421T133537
CREATED:20240111T110459Z
LAST-MODIFIED:20240111T110459Z
UID:7405-1705170600-1705183200@actr.ch
SUMMARY:Groupe de jeunes
DESCRIPTION:Samedi 13 janvier 2024 \nSoirée de rentrée du groupe de jeunes dès 18h30 dans les locaux de l’ACTR
URL:https://actr.ch/event/groupe-de-jeunes/
LOCATION:ACTR\, Chemin des Trois-Rois 5\, Lausanne\, 1005\, Suisse
ATTACH;FMTTYPE=image/jpeg:https://actr.ch/wp-content/uploads/2024/01/2024.01.13_GDJ.jpg
END:VEVENT
BEGIN:VEVENT
DTSTART;TZID=Europe/Zurich:20240114T100000
DTEND;TZID=Europe/Zurich:20240114T114500
DTSTAMP:20260421T133537
CREATED:20231216T151118Z
LAST-MODIFIED:20240108T123636Z
UID:7229-1705226400-1705232700@actr.ch
SUMMARY:Culte & Message biblique | Cène & Baptême
DESCRIPTION:Dimanche 14 janvier 2024 \n10h-11h45: Culte & Message biblique | Cène & Baptême \nTroisième prédication sur le thème “Appartenir à la famille de l’ACTR” \nOrateur: 1 ancien [Thomas S.] \n10h30-11h45: Ecole du dimanche & Minicell
URL:https://actr.ch/event/culte-message-biblique-cene-bapteme/
LOCATION:ACTR\, Chemin des Trois-Rois 5\, Lausanne\, 1005\, Suisse
ATTACH;FMTTYPE=image/jpeg:https://actr.ch/wp-content/uploads/2023/12/2023.12.17_empty.jpg
END:VEVENT
BEGIN:VEVENT
DTSTART;TZID=Europe/Zurich:20240114T103000
DTEND;TZID=Europe/Zurich:20240114T114500
DTSTAMP:20260421T133537
CREATED:20240108T131051Z
LAST-MODIFIED:20240108T131051Z
UID:7371-1705228200-1705232700@actr.ch
SUMMARY:Minicell
DESCRIPTION:Dimanche 14 janvier 2024 \n10h30-11h45: Minicell\, pour les 0-3 ans \nMinicell\, un programme d’éveil à la foi pour les petits. Moment que les parents sont conviés à vivre conjointement avec leur(s) enfant(s).
URL:https://actr.ch/event/minicell-15/
LOCATION:ACTR\, Chemin des Trois-Rois 5\, Lausanne\, 1005\, Suisse
ATTACH;FMTTYPE=image/jpeg:https://actr.ch/wp-content/uploads/2024/01/2024.01.14_Minicell.jpg
END:VEVENT
BEGIN:VEVENT
DTSTART;TZID=Europe/Zurich:20240118T200000
DTEND;TZID=Europe/Zurich:20240118T213000
DTSTAMP:20260421T133537
CREATED:20231219T091415Z
LAST-MODIFIED:20231219T091623Z
UID:7274-1705608000-1705613400@actr.ch
SUMMARY:Soirée de prière | Semaine universelle de prière
DESCRIPTION:Jeudi 18 janvier 2024 – 20h \nSoirée de prière à ‘Eglise évangélique Lazare \nPour la semaine universelle de prière 14-21 janvier 2024 \nCette soirée de prière remplace le partage biblique & prière habituel du mardi !
URL:https://actr.ch/event/7274/
LOCATION:Eglise évangélique Lazare\, Chemin du Vallon 24\, Bussigny\, 1030\, Suisse
ATTACH;FMTTYPE=image/jpeg:https://actr.ch/wp-content/uploads/2023/12/2024.01.18_SoireeDePriere.jpg
END:VEVENT
BEGIN:VEVENT
DTSTART;TZID=Europe/Zurich:20240119T183000
DTEND;TZID=Europe/Zurich:20240119T223000
DTSTAMP:20260421T133537
CREATED:20240108T125257Z
LAST-MODIFIED:20240113T104955Z
UID:7361-1705689000-1705703400@actr.ch
SUMMARY:Soirée Caleb
DESCRIPTION:Vendredi 19 janvier 2024 \nSoirée Caleb | Rencontre entre hommes \nInscription auprès de Christian (christian.cuendet@sefanet.ch ou 079 347 41 09) \n4 soirées: 19 janvier\, 19 avril\, 24 mai & 14 juin
URL:https://actr.ch/event/soiree-caleb/
LOCATION:ACTR\, Chemin des Trois-Rois 5\, Lausanne\, 1005\, Suisse
ATTACH;FMTTYPE=image/jpeg:https://actr.ch/wp-content/uploads/2024/01/2024.01.19_ProjetCaleb.jpg
END:VEVENT
BEGIN:VEVENT
DTSTART;TZID=Europe/Zurich:20240121T100000
DTEND;TZID=Europe/Zurich:20240121T114500
DTSTAMP:20260421T133537
CREATED:20231216T151259Z
LAST-MODIFIED:20240108T203733Z
UID:7231-1705831200-1705837500@actr.ch
SUMMARY:Culte & Message biblique | Appartenir\, c'est s'engager concrètement
DESCRIPTION:Dimanche 21 janvier 2024 \n10h-11h45: Culte & Message biblique | Appartenir\, c’est s’engager concrètement \nQuatrième prédication sur le thème “Appartenir à la famille de l’ACTR” \nOrateur: 1 ancien [Stefan W.] \n10h30-11h45: Ecole du dimanche & Garderie
URL:https://actr.ch/event/culte-message-biblique-engagement/
LOCATION:ACTR\, Chemin des Trois-Rois 5\, Lausanne\, 1005\, Suisse
ATTACH;FMTTYPE=image/jpeg:https://actr.ch/wp-content/uploads/2023/12/2023.12.17_empty.jpg
END:VEVENT
BEGIN:VEVENT
DTSTART;TZID=Europe/Zurich:20240123T200000
DTEND;TZID=Europe/Zurich:20240123T213000
DTSTAMP:20260421T133537
CREATED:20231219T091946Z
LAST-MODIFIED:20231219T091946Z
UID:7280-1706040000-1706045400@actr.ch
SUMMARY:Soirée FOCUS & Prière pour le Ministère Unité
DESCRIPTION:Mardi 23 janvier 2024 \nSoirée FOCUS & Prière pour le Ministère Unité
URL:https://actr.ch/event/soiree-focus-priere-pour-le-ministere-unite/
LOCATION:ACTR\, Chemin des Trois-Rois 5\, Lausanne\, 1005\, Suisse
ATTACH;FMTTYPE=image/jpeg:https://actr.ch/wp-content/uploads/2023/12/2024.01.23_SoireeFocusUnite.jpg
END:VEVENT
BEGIN:VEVENT
DTSTART;TZID=Europe/Zurich:20240127T183000
DTEND;TZID=Europe/Zurich:20240127T220000
DTSTAMP:20260421T133537
CREATED:20240111T110603Z
LAST-MODIFIED:20240111T110603Z
UID:7408-1706380200-1706392800@actr.ch
SUMMARY:Groupe de jeunes
DESCRIPTION:Samedi 27 janvier 2024 \nSoirée du groupe de jeunes dès 18h30 dans les locaux de l’ACTR
URL:https://actr.ch/event/groupe-de-jeunes-2/
LOCATION:ACTR\, Chemin des Trois-Rois 5\, Lausanne\, 1005\, Suisse
ATTACH;FMTTYPE=image/jpeg:https://actr.ch/wp-content/uploads/2024/01/2024.01.27_GDJ.jpg
END:VEVENT
BEGIN:VEVENT
DTSTART;TZID=Europe/Zurich:20240128T100000
DTEND;TZID=Europe/Zurich:20240128T114500
DTSTAMP:20260421T133537
CREATED:20231216T151420Z
LAST-MODIFIED:20240111T214307Z
UID:7233-1706436000-1706442300@actr.ch
SUMMARY:Culte & Message biblique | Les fondements de l'unité entre frères & soeurs
DESCRIPTION:Dimanche 28 janvier 2024 \n10h-11h45: Culte & Message biblique | Les fondements de l’unité entre frères & soeurs | Philippiens 2 \nOrateur: Roland Kuhnke \n10h30-11h45: Ecole du dimanche & Garderie
URL:https://actr.ch/event/culte-message-biblique-104/
LOCATION:ACTR\, Chemin des Trois-Rois 5\, Lausanne\, 1005\, Suisse
ATTACH;FMTTYPE=image/jpeg:https://actr.ch/wp-content/uploads/2023/12/2024.01.28_ImageToUse.jpg
END:VEVENT
BEGIN:VEVENT
DTSTART;TZID=Europe/Zurich:20240130T200000
DTEND;TZID=Europe/Zurich:20240130T213000
DTSTAMP:20260421T133537
CREATED:20231219T093207Z
LAST-MODIFIED:20240128T001941Z
UID:7283-1706644800-1706650200@actr.ch
SUMMARY:Soirée D'ÉCHANGE & PRIÈRES sur le processus pour devenir membres
DESCRIPTION:Mardi 30 janvier 2024 \nSoirée D’ÉCHANGE & PRIÈRES sur le processus pour devenir membres
URL:https://actr.ch/event/soiree-questions-reponses-prieres-sur-le-processus-pour-devenir-membres/
LOCATION:ACTR\, Chemin des Trois-Rois 5\, Lausanne\, 1005\, Suisse
ATTACH;FMTTYPE=image/jpeg:https://actr.ch/wp-content/uploads/2023/12/2024.01.30_SoireeDechange.jpg
END:VEVENT
BEGIN:VEVENT
DTSTART;TZID=Europe/Zurich:20240131T120000
DTEND;TZID=Europe/Zurich:20240131T140000
DTSTAMP:20260421T133537
CREATED:20240108T201025Z
LAST-MODIFIED:20240108T201025Z
UID:7387-1706702400-1706709600@actr.ch
SUMMARY:P'tite Tablée
DESCRIPTION:Mercredi 31 janvier 2024 \nP’tite tablée \nDans les locaux de l’ACTR dès 12h. \nInscription auprès d’Antoinette G. ou Elisabeth L.
URL:https://actr.ch/event/ptite-tablee-13/
LOCATION:ACTR\, Chemin des Trois-Rois 5\, Lausanne\, 1005\, Suisse
ATTACH;FMTTYPE=image/jpeg:https://actr.ch/wp-content/uploads/2024/01/2024.01.31_PtiteTablee.jpg
END:VEVENT
END:VCALENDAR