BEGIN:VCALENDAR
VERSION:2.0
PRODID:-//ACTR - ECPv6.2.9//NONSGML v1.0//EN
CALSCALE:GREGORIAN
METHOD:PUBLISH
X-ORIGINAL-URL:https://actr.ch
X-WR-CALDESC:évènements pour ACTR
REFRESH-INTERVAL;VALUE=DURATION:PT1H
X-Robots-Tag:noindex
X-PUBLISHED-TTL:PT1H
BEGIN:VTIMEZONE
TZID:Europe/Zurich
BEGIN:DAYLIGHT
TZOFFSETFROM:+0100
TZOFFSETTO:+0200
TZNAME:CEST
DTSTART:20230326T010000
END:DAYLIGHT
BEGIN:STANDARD
TZOFFSETFROM:+0200
TZOFFSETTO:+0100
TZNAME:CET
DTSTART:20231029T010000
END:STANDARD
END:VTIMEZONE
BEGIN:VEVENT
DTSTART;TZID=Europe/Zurich:20231101T143000
DTEND;TZID=Europe/Zurich:20231101T170000
DTSTAMP:20260421T165653
CREATED:20231008T054338Z
LAST-MODIFIED:20231008T054437Z
UID:7011-1698849000-1698858000@actr.ch
SUMMARY:Groupe de l'amitié
DESCRIPTION:Mercredi 1er novembre 2023 \n14h30: Après-midi avec Jean-Luc Chollet\, le plus citadin des paysans lausannois\, au local \nPour tous les détails de l’invitation\, c’est ici. \nInscription auprès d’Anne-Lise Flaction | flaction33@bluewin.ch – 021 731 16 58 – 079 646 86 83
URL:https://actr.ch/event/groupe-de-lamitie-7/
LOCATION:ACTR\, Chemin des Trois-Rois 5\, Lausanne\, 1005\, Suisse
ATTACH;FMTTYPE=image/jpeg:https://actr.ch/wp-content/uploads/2023/10/2023.11.01_GroupeDeLamitie.jpg
END:VEVENT
BEGIN:VEVENT
DTSTART;TZID=Europe/Zurich:20231102T100000
DTEND;TZID=Europe/Zurich:20231102T140000
DTSTAMP:20260421T165653
CREATED:20231016T202330Z
LAST-MODIFIED:20231016T202655Z
UID:7050-1698919200-1698933600@actr.ch
SUMMARY:Jeux & Amitiés
DESCRIPTION:Jeudi 2 novembre 2023 \nJeux & Amitiés \nDe 10h à 14h\, avec repas \nDans les locaux de l’ACTR. \nInscription auprès de Janelyse [079 424 54 24]
URL:https://actr.ch/event/jeux-amities-15/
LOCATION:ACTR\, Chemin des Trois-Rois 5\, Lausanne\, 1005\, Suisse
ATTACH;FMTTYPE=image/jpeg:https://actr.ch/wp-content/uploads/2023/10/2023.11.02_JeuxAmities.jpg
END:VEVENT
BEGIN:VEVENT
DTSTART;TZID=Europe/Zurich:20231105T100000
DTEND;TZID=Europe/Zurich:20231105T114500
DTSTAMP:20260421T165653
CREATED:20231006T122736Z
LAST-MODIFIED:20231012T172303Z
UID:6992-1699178400-1699184700@actr.ch
SUMMARY:Culte & Message biblique | Dimanche de l'église persécutée
DESCRIPTION:Dimanche 5 novembre 2023 \n10h-11h45: Culte & Message biblique | Dimanche de l’église persécutée \n10h30-11h45: Ecole du dimanche & Garderie
URL:https://actr.ch/event/culte-message-biblique-dimanche-de-leglise-persecutee/
LOCATION:ACTR\, Chemin des Trois-Rois 5\, Lausanne\, 1005\, Suisse
ATTACH;FMTTYPE=image/jpeg:https://actr.ch/wp-content/uploads/2023/10/2023.11.05_DimEglisePersecutee.jpg
END:VEVENT
BEGIN:VEVENT
DTSTART;TZID=Europe/Zurich:20231105T103000
DTEND;TZID=Europe/Zurich:20231105T114500
DTSTAMP:20260421T165653
CREATED:20231027T212052Z
LAST-MODIFIED:20231027T212052Z
UID:7070-1699180200-1699184700@actr.ch
SUMMARY:Minicell
DESCRIPTION:Dimanche 5 novembre 2023 \n10h30-11h45: Minicell\, pour les 0-3 ans \nMinicell\, un programme d’éveil à la foi pour les petits. Moment que les parents sont conviés à vivre conjointement avec leur(s) enfant(s).
URL:https://actr.ch/event/minicell-13/
LOCATION:ACTR\, Chemin des Trois-Rois 5\, Lausanne\, 1005\, Suisse
ATTACH;FMTTYPE=image/jpeg:https://actr.ch/wp-content/uploads/2023/10/2023.11.05_Minicell.jpg
END:VEVENT
BEGIN:VEVENT
DTSTART;TZID=Europe/Zurich:20231107T200000
DTEND;TZID=Europe/Zurich:20231107T213000
DTSTAMP:20260421T165653
CREATED:20231006T121336Z
LAST-MODIFIED:20231006T121336Z
UID:6974-1699387200-1699392600@actr.ch
SUMMARY:Partage biblique & Prière
DESCRIPTION:Mardi 7 novembre 2023 \nPartage biblique et prière \nThème: Les demandes de guérison (quelques exemples): ma petite fille est sur le point de mourir (Marc 5:21-24 et 35-43)\, si tu le veux (Luc 5:12-16)\, viens en aide à mon incrédulité (Marc 9:14-27)\, que veux-tu que je fasse pour toi? (Marc 10:46-52). Que peut-on en apprendre? Quelle actualité pour l’église?\nIntroduit par Dominique B.
URL:https://actr.ch/event/partage-biblique-priere-46/
LOCATION:ACTR\, Chemin des Trois-Rois 5\, Lausanne\, 1005\, Suisse
ATTACH;FMTTYPE=image/jpeg:https://actr.ch/wp-content/uploads/2023/01/2023_PartageBibliqueEtPriere.jpg
END:VEVENT
BEGIN:VEVENT
DTSTART;TZID=Europe/Zurich:20231112T100000
DTEND;TZID=Europe/Zurich:20231112T114500
DTSTAMP:20260421T165653
CREATED:20231006T122851Z
LAST-MODIFIED:20231107T114219Z
UID:6994-1699783200-1699789500@actr.ch
SUMMARY:Présentation des enfants\, culte & Message biblique | Les enfants et l'église\, possibilité ou opportunité ?
DESCRIPTION:Dimanche 12 novembre 2023 \n10h-11h45: Présentation des enfants\, culte & Message biblique | Les enfants et l’église\, possibilité ou opportunité ? Orateur: Kimo Horisberger \n10h30-11h45: Ecole du dimanche & Garderie
URL:https://actr.ch/event/presentation-des-enfants-puis-culte-message-biblique/
LOCATION:ACTR\, Chemin des Trois-Rois 5\, Lausanne\, 1005\, Suisse
ATTACH;FMTTYPE=image/jpeg:https://actr.ch/wp-content/uploads/2023/10/2023.11.12_presaaaa.jpg
END:VEVENT
BEGIN:VEVENT
DTSTART;TZID=Europe/Zurich:20231114T200000
DTEND;TZID=Europe/Zurich:20231114T213000
DTSTAMP:20260421T165653
CREATED:20231006T121520Z
LAST-MODIFIED:20231016T203331Z
UID:6976-1699992000-1699997400@actr.ch
SUMMARY:Partage biblique & Prière
DESCRIPTION:Mardi 14 novembre 2023 \nPartage biblique et prière \nThème: Mat 6:5-18: L’enseignement sur la prière et le jeûne: le sermon sur la montagne et le «Notre Père». Comment mettre ses enseignements en pratique dans l’église? Devons-nous les revisiter?\nIntroduit par Jean L.
URL:https://actr.ch/event/partage-biblique-priere-47/
LOCATION:ACTR\, Chemin des Trois-Rois 5\, Lausanne\, 1005\, Suisse
ATTACH;FMTTYPE=image/jpeg:https://actr.ch/wp-content/uploads/2023/01/2023_PartageBibliqueEtPriere.jpg
END:VEVENT
BEGIN:VEVENT
DTSTART;TZID=Europe/Zurich:20231119T100000
DTEND;TZID=Europe/Zurich:20231119T114500
DTSTAMP:20260421T165653
CREATED:20231006T123008Z
LAST-MODIFIED:20231111T223304Z
UID:6996-1700388000-1700394300@actr.ch
SUMMARY:Culte\, Retour des anciens & Message biblique libre
DESCRIPTION:Dimanche 19 novembre 2023 \n10h-11h45: Culte\, Retour des anciens & Message biblique libre \n10h30-11h45: Ecole du dimanche & Garderie
URL:https://actr.ch/event/culte-message-biblique-retour-des-anciens/
LOCATION:ACTR\, Chemin des Trois-Rois 5\, Lausanne\, 1005\, Suisse
ATTACH;FMTTYPE=image/jpeg:https://actr.ch/wp-content/uploads/2023/10/2023.11.19_Vide.jpg
END:VEVENT
BEGIN:VEVENT
DTSTART;TZID=Europe/Zurich:20231119T133000
DTEND;TZID=Europe/Zurich:20231119T153000
DTSTAMP:20260421T165653
CREATED:20231008T054618Z
LAST-MODIFIED:20231023T171525Z
UID:7016-1700400600-1700407800@actr.ch
SUMMARY:Parler de sexualité | Après-midi avec Jessica Volery
DESCRIPTION:Dimanche 19 novembre 2023 \nAprès-midi avec Jessica Volery | Pourquoi et comment parler de sexualité avec les enfants \nMerci de vous inscrire auprès de info@actr.ch \n[Deuxième session le 3 décembre 2023]
URL:https://actr.ch/event/parler-de-sexualite-apres-midi-avec-jessica-volery/
LOCATION:ACTR\, Chemin des Trois-Rois 5\, Lausanne\, 1005\, Suisse
ATTACH;FMTTYPE=image/jpeg:https://actr.ch/wp-content/uploads/2023/10/2023.11.19_ParlerDeSexualite.jpg
END:VEVENT
BEGIN:VEVENT
DTSTART;TZID=Europe/Zurich:20231121T200000
DTEND;TZID=Europe/Zurich:20231121T213000
DTSTAMP:20260421T165653
CREATED:20231006T121651Z
LAST-MODIFIED:20231016T203406Z
UID:6978-1700596800-1700602200@actr.ch
SUMMARY:Partage biblique & Prière
DESCRIPTION:Mardi 21 novembre 2023 \nPartage biblique et prière \nThème: Trois paraboles sur la prière: ami prête-moi trois pains (Luc 11:5-13)\, le juge inique (Luc 18:1-8)\, le pharisien et le publicain (Luc 18:9-14). Avons-nous des comportements de prière à changer en église?\nIntroduit par Jean-Pascal R.
URL:https://actr.ch/event/partage-biblique-priere-48/
LOCATION:ACTR\, Chemin des Trois-Rois 5\, Lausanne\, 1005\, Suisse
ATTACH;FMTTYPE=image/jpeg:https://actr.ch/wp-content/uploads/2023/01/2023_PartageBibliqueEtPriere.jpg
END:VEVENT
BEGIN:VEVENT
DTSTART;TZID=Europe/Zurich:20231126T100000
DTEND;TZID=Europe/Zurich:20231126T113000
DTSTAMP:20260421T165653
CREATED:20231006T123125Z
LAST-MODIFIED:20231106T193356Z
UID:6998-1700992800-1700998200@actr.ch
SUMMARY:Culte Open Door
DESCRIPTION:Dimanche 26 novembre 2023 \n10h-11h30: Culte Open Door \n10h30-11h30: Ecole du dimanche & Garderie
URL:https://actr.ch/event/culte-open-door-12/
LOCATION:ACTR\, Chemin des Trois-Rois 5\, Lausanne\, 1005\, Suisse
ATTACH;FMTTYPE=image/jpeg:https://actr.ch/wp-content/uploads/2023/10/2023.11.26_COD-scaled.jpg
END:VEVENT
BEGIN:VEVENT
DTSTART;TZID=Europe/Zurich:20231128T200000
DTEND;TZID=Europe/Zurich:20231128T213000
DTSTAMP:20260421T165653
CREATED:20231006T121816Z
LAST-MODIFIED:20231016T203450Z
UID:6980-1701201600-1701207000@actr.ch
SUMMARY:Partage biblique & Prière
DESCRIPTION:Mardi 28 novembre 2023 \nPartage biblique et prière \nThème: Matt 18.15-22: Un passage à lire en un bloc: ton frère a péché\, ce que vous lierez\, la prière des deux ou trois\, la présence du Christ\, combien de fois pardonnerai-je? Comment vivre tout cela en église?\nIntroduit par Jacques R.
URL:https://actr.ch/event/partage-biblique-priere-49/
LOCATION:ACTR\, Chemin des Trois-Rois 5\, Lausanne\, 1005\, Suisse
ATTACH;FMTTYPE=image/jpeg:https://actr.ch/wp-content/uploads/2023/01/2023_PartageBibliqueEtPriere.jpg
END:VEVENT
END:VCALENDAR