BEGIN:VCALENDAR
VERSION:2.0
PRODID:-//ACTR - ECPv6.2.9//NONSGML v1.0//EN
CALSCALE:GREGORIAN
METHOD:PUBLISH
X-ORIGINAL-URL:https://actr.ch
X-WR-CALDESC:évènements pour ACTR
REFRESH-INTERVAL;VALUE=DURATION:PT1H
X-Robots-Tag:noindex
X-PUBLISHED-TTL:PT1H
BEGIN:VTIMEZONE
TZID:Europe/Zurich
BEGIN:DAYLIGHT
TZOFFSETFROM:+0100
TZOFFSETTO:+0200
TZNAME:CEST
DTSTART:20230326T010000
END:DAYLIGHT
BEGIN:STANDARD
TZOFFSETFROM:+0200
TZOFFSETTO:+0100
TZNAME:CET
DTSTART:20231029T010000
END:STANDARD
END:VTIMEZONE
BEGIN:VEVENT
DTSTART;TZID=Europe/Zurich:20230903T100000
DTEND;TZID=Europe/Zurich:20230903T114500
DTSTAMP:20260421T221737
CREATED:20230805T120120Z
LAST-MODIFIED:20230828T115252Z
UID:6814-1693735200-1693741500@actr.ch
SUMMARY:Culte & Message biblique | Encore actuels\, les Psaumes ? | Le fondement de la confiance - Ps 27
DESCRIPTION:Dimanche 3 septembre 2023 \n10h-11h45: Culte & Message biblique | Encore actuels\, les Psaumes ? | Le fondement de la confiance – Ps 27 \nOrateur: Benoît Pfister \n10h30-11h45: Ecole du dimanche & Minicell
URL:https://actr.ch/event/culte-message-biblique-encore-actuels-les-psaumes-ps-27/
LOCATION:ACTR\, Chemin des Trois-Rois 5\, Lausanne\, 1005\, Suisse
ATTACH;FMTTYPE=image/jpeg:https://actr.ch/wp-content/uploads/2023/08/2023.09.03PS27_B.jpg
END:VEVENT
BEGIN:VEVENT
DTSTART;TZID=Europe/Zurich:20230903T103000
DTEND;TZID=Europe/Zurich:20230903T114500
DTSTAMP:20260421T221737
CREATED:20230828T115006Z
LAST-MODIFIED:20230828T115006Z
UID:6864-1693737000-1693741500@actr.ch
SUMMARY:Minicell
DESCRIPTION:Dimanche  3 septembre 2023 \n10h30-11h45: Minicell\, pour les 0-3 ans \nMinicell\, un programme d’éveil à la foi pour les petits. Moment que les parents sont conviés à vivre conjointement avec leur(s) enfant(s).
URL:https://actr.ch/event/minicell-11/
LOCATION:ACTR\, Chemin des Trois-Rois 5\, Lausanne\, 1005\, Suisse
ATTACH;FMTTYPE=image/jpeg:https://actr.ch/wp-content/uploads/2023/08/2023.09.03_minicell.jpg
END:VEVENT
BEGIN:VEVENT
DTSTART;TZID=Europe/Zurich:20230905T200000
DTEND;TZID=Europe/Zurich:20230905T213000
DTSTAMP:20260421T221737
CREATED:20230805T120606Z
LAST-MODIFIED:20230822T095828Z
UID:6817-1693944000-1693949400@actr.ch
SUMMARY:Partage biblique & Prière
DESCRIPTION:Mardi 5 septembre 2023 \nPartage biblique et prière \nThème: “Psaume 121 – chant des montées (1): la protection divine”\, introduit par Cédric C.
URL:https://actr.ch/event/partage-biblique-priere-41/
LOCATION:ACTR\, Chemin des Trois-Rois 5\, Lausanne\, 1005\, Suisse
ATTACH;FMTTYPE=image/jpeg:https://actr.ch/wp-content/uploads/2023/01/2023_PartageBibliqueEtPriere.jpg
END:VEVENT
BEGIN:VEVENT
DTSTART;TZID=Europe/Zurich:20230910T100000
DTEND;TZID=Europe/Zurich:20230910T114500
DTSTAMP:20260421T221737
CREATED:20230822T100414Z
LAST-MODIFIED:20230905T072035Z
UID:6850-1694340000-1694346300@actr.ch
SUMMARY:Culte & Message biblique | Encore actuels\, les Psaumes? La louange dans les Psaumes - Orateur: Marc Dirlewanger
DESCRIPTION:Dimanche 10 septembre 2023 \n10h-11h45: Culte & Message biblique | Encore actuels\, les Psaumes ? La louange dans les Psaumes –  Orateur: Marc Dirlewanger \n10h30-11h45: Ecole du dimanche & Garderie
URL:https://actr.ch/event/culte-message-biblique-encore-actuels-les-psaumes-la-louange-dans-les-psaumes-orateur-marc-dirlewanger/
LOCATION:ACTR\, Chemin des Trois-Rois 5\, Lausanne\, 1005\, Suisse
ATTACH;FMTTYPE=image/jpeg:https://actr.ch/wp-content/uploads/2023/08/2023.09.10_Psaumes.jpg
END:VEVENT
BEGIN:VEVENT
DTSTART;TZID=Europe/Zurich:20230912T200000
DTEND;TZID=Europe/Zurich:20230912T213000
DTSTAMP:20260421T221737
CREATED:20230822T100031Z
LAST-MODIFIED:20230822T100031Z
UID:6846-1694548800-1694554200@actr.ch
SUMMARY:Partage biblique & Prière
DESCRIPTION:Mardi 12 septembre 2023 \nPartage biblique et prière \nThème: “Psaume 126 – chant des montées (2): les grandes interventions de l’Eternel”\, introduit par Christian C.
URL:https://actr.ch/event/partage-biblique-priere-40/
LOCATION:ACTR\, Chemin des Trois-Rois 5\, Lausanne\, 1005\, Suisse
ATTACH;FMTTYPE=image/jpeg:https://actr.ch/wp-content/uploads/2023/01/2023_PartageBibliqueEtPriere.jpg
END:VEVENT
BEGIN:VEVENT
DTSTART;TZID=Europe/Zurich:20230914T100000
DTEND;TZID=Europe/Zurich:20230914T140000
DTSTAMP:20260421T221737
CREATED:20230821T201554Z
LAST-MODIFIED:20230905T082436Z
UID:6835-1694685600-1694700000@actr.ch
SUMMARY:Jeux & Amitiés
DESCRIPTION:Jeudi 14 septembre 2023 \nJeux & Amitiés \nDe 10h à 14h\, avec repas \nDans les locaux de l’ACTR. \nInscription auprès de Janelyse [079 424 54 24]
URL:https://actr.ch/event/jeux-amities-13/
LOCATION:ACTR\, Chemin des Trois-Rois 5\, Lausanne\, 1005\, Suisse
ATTACH;FMTTYPE=image/jpeg:https://actr.ch/wp-content/uploads/2023/08/2023.09.14_JeuxAmities.jpg
END:VEVENT
BEGIN:VEVENT
DTSTART;TZID=Europe/Zurich:20230917T100000
DTEND;TZID=Europe/Zurich:20230917T114500
DTSTAMP:20260421T221737
CREATED:20230822T103243Z
LAST-MODIFIED:20230822T104053Z
UID:6853-1694944800-1694951100@actr.ch
SUMMARY:Culte & Message biblique
DESCRIPTION:Dimanche 17 septembre 2023 \n10h-11h45: Culte & Message biblique \n10h30-11h45: Ecole du dimanche & Garderie
URL:https://actr.ch/event/culte-message-biblique-99/
LOCATION:ACTR\, Chemin des Trois-Rois 5\, Lausanne\, 1005\, Suisse
ATTACH;FMTTYPE=image/jpeg:https://actr.ch/wp-content/uploads/2023/08/2023.09.17_imagetouse-Copie-scaled.jpg
END:VEVENT
BEGIN:VEVENT
DTSTART;TZID=Europe/Zurich:20230919T200000
DTEND;TZID=Europe/Zurich:20230919T213000
DTSTAMP:20260421T221737
CREATED:20230822T100205Z
LAST-MODIFIED:20230822T100205Z
UID:6848-1695153600-1695159000@actr.ch
SUMMARY:Partage biblique & Prière
DESCRIPTION:Mardi 19 septembre 2023 \nPartage biblique et prière \nThème: “Psaume 133 & 134 – chant des montées (3): la joie”\, introduit par Dominique B.
URL:https://actr.ch/event/partage-biblique-priere-42/
LOCATION:ACTR\, Chemin des Trois-Rois 5\, Lausanne\, 1005\, Suisse
ATTACH;FMTTYPE=image/jpeg:https://actr.ch/wp-content/uploads/2023/01/2023_PartageBibliqueEtPriere.jpg
END:VEVENT
BEGIN:VEVENT
DTSTART;TZID=Europe/Zurich:20230924T100000
DTEND;TZID=Europe/Zurich:20230924T114500
DTSTAMP:20260421T221737
CREATED:20230822T104525Z
LAST-MODIFIED:20230912T084421Z
UID:6856-1695549600-1695555900@actr.ch
SUMMARY:Culte & Message biblique | Sous la protection du Tout-Puissant | Ps 91
DESCRIPTION:Dimanche 24 septembre 2023 \n10h-11h45: Culte & Message biblique | Encore actuels\, les Psaumes ? Sous la protection du Tout-Puissant | Ps 91 –  Orateur: Pierre-David Pfister \n10h30-11h45: Ecole du dimanche & Garderie
URL:https://actr.ch/event/culte-message-biblique-encore-actuels-les-psaumes-psaume-45-orateur-christophe-argaud/
LOCATION:ACTR\, Chemin des Trois-Rois 5\, Lausanne\, 1005\, Suisse
ATTACH;FMTTYPE=image/jpeg:https://actr.ch/wp-content/uploads/2023/08/2023.09.24_PS91_NEW.jpg
END:VEVENT
BEGIN:VEVENT
DTSTART;TZID=Europe/Zurich:20230926T200000
DTEND;TZID=Europe/Zurich:20230926T213000
DTSTAMP:20260421T221737
CREATED:20230912T085832Z
LAST-MODIFIED:20230930T224203Z
UID:6914-1695758400-1695763800@actr.ch
SUMMARY:Soirée FOCUS & Prière pour le Ministère Enseignement
DESCRIPTION:Mardi 26 septembre 2023 \nSoirée FOCUS & Prière pour le Ministère Enseignement
URL:https://actr.ch/event/6914/
LOCATION:ACTR\, Chemin des Trois-Rois 5\, Lausanne\, 1005\, Suisse
ATTACH;FMTTYPE=image/jpeg:https://actr.ch/wp-content/uploads/2023/09/2023.09.26_SoireeFocusEnseignement.jpg
END:VEVENT
BEGIN:VEVENT
DTSTART;TZID=Europe/Zurich:20230927T143000
DTEND;TZID=Europe/Zurich:20230927T170000
DTSTAMP:20260421T221737
CREATED:20230904T154445Z
LAST-MODIFIED:20230905T082958Z
UID:6881-1695825000-1695834000@actr.ch
SUMMARY:Groupe de l'amitié
DESCRIPTION:Mercredi 27 septembre 2023 \n14h30: Témoignage personnel de Sarah et David Venditti\, au local \nPour tous les détails de l’invitation\, c’est ici. \nInscription auprès d’Anne-Lise Flaction | flaction33@bluewin.ch – 021 731 16 58 – 079 646 86 83
URL:https://actr.ch/event/groupe-de-lamitie-6/
LOCATION:ACTR\, Chemin des Trois-Rois 5\, Lausanne\, 1005\, Suisse
ATTACH;FMTTYPE=image/jpeg:https://actr.ch/wp-content/uploads/2023/09/2023.09.27_GroupeDeLamitieUpdated.jpg
END:VEVENT
BEGIN:VEVENT
DTSTART;TZID=Europe/Zurich:20230928T120000
DTEND;TZID=Europe/Zurich:20230928T140000
DTSTAMP:20260421T221737
CREATED:20230905T081652Z
LAST-MODIFIED:20230905T081847Z
UID:6890-1695902400-1695909600@actr.ch
SUMMARY:P'tite Tablée
DESCRIPTION:Jeudi 28 septembre 2023 \nP’tite tablée \nDans les locaux de l’ACTR dès 12h. \nInscription auprès d’Antoinette G. ou Elisabeth L.
URL:https://actr.ch/event/ptite-tablee-10/
LOCATION:ACTR\, Chemin des Trois-Rois 5\, Lausanne\, 1005\, Suisse
ATTACH;FMTTYPE=image/jpeg:https://actr.ch/wp-content/uploads/2023/09/2023.09.28_ptitetablee.jpg
END:VEVENT
BEGIN:VEVENT
DTSTART;TZID=Europe/Zurich:20230929T183000
DTEND;TZID=Europe/Zurich:20230929T220000
DTSTAMP:20260421T221737
CREATED:20230822T095413Z
LAST-MODIFIED:20230822T095413Z
UID:6840-1696012200-1696024800@actr.ch
SUMMARY:Projet Caleb - Soirée hors cadre
DESCRIPTION:Vendredi 29 septembre 2023 \nSoirée hors carde\, rencontre entre hommes – Le courage d’être\, le courage de vivre ensemble\, le courage d’aller \nInscription auprès de Christian (christian.cuendet@sefanet.ch ou 079 347 41 09)
URL:https://actr.ch/event/projet-caleb-soiree-hors-cadre/
ATTACH;FMTTYPE=image/jpeg:https://actr.ch/wp-content/uploads/2023/08/2023.09.29_Caleb.jpg
END:VEVENT
END:VCALENDAR