BEGIN:VCALENDAR
VERSION:2.0
PRODID:-//ACTR - ECPv6.2.9//NONSGML v1.0//EN
CALSCALE:GREGORIAN
METHOD:PUBLISH
X-ORIGINAL-URL:https://actr.ch
X-WR-CALDESC:évènements pour ACTR
REFRESH-INTERVAL;VALUE=DURATION:PT1H
X-Robots-Tag:noindex
X-PUBLISHED-TTL:PT1H
BEGIN:VTIMEZONE
TZID:Europe/Zurich
BEGIN:DAYLIGHT
TZOFFSETFROM:+0100
TZOFFSETTO:+0200
TZNAME:CEST
DTSTART:20230326T010000
END:DAYLIGHT
BEGIN:STANDARD
TZOFFSETFROM:+0200
TZOFFSETTO:+0100
TZNAME:CET
DTSTART:20231029T010000
END:STANDARD
END:VTIMEZONE
BEGIN:VEVENT
DTSTART;TZID=Europe/Zurich:20230801T200000
DTEND;TZID=Europe/Zurich:20230801T213000
DTSTAMP:20260422T034356
CREATED:20230709T204801Z
LAST-MODIFIED:20230709T204801Z
UID:6790-1690920000-1690925400@actr.ch
SUMMARY:Partage biblique & Prière
DESCRIPTION:Mardi 1er août 2023 \nPartage biblique et prière \nThème: “Psaume 43 – espoir et découragement”. Collectif libre
URL:https://actr.ch/event/partage-biblique-priere-36/
LOCATION:ACTR\, Chemin des Trois-Rois 5\, Lausanne\, 1005\, Suisse
ATTACH;FMTTYPE=image/jpeg:https://actr.ch/wp-content/uploads/2023/01/2023_PartageBibliqueEtPriere.jpg
END:VEVENT
BEGIN:VEVENT
DTSTART;TZID=Europe/Zurich:20230806T100000
DTEND;TZID=Europe/Zurich:20230806T114500
DTSTAMP:20260422T034356
CREATED:20230619T124142Z
LAST-MODIFIED:20230805T115855Z
UID:6701-1691316000-1691322300@actr.ch
SUMMARY:Culte & Message biblique
DESCRIPTION:Dimanche 6 août 2023 \n10h-11h45: Culte & Message biblique | Visite du frère Raju et son épouse Shanti \nNous aurons le privilège d’accueillir ce dimanche 6 août notre frère Raju et sa femme Shanti. Ils sont engagés pour l’évangélisation depuis 30 ans en Inde dans l’état du Karnataka.\nIls ont développé un ministère autour d’un orphelinat\, et une école reconnue par les autorités. Ils nous partageront quelques défis auxquels ils sont confrontés.\nNous prolongerons\, après le culte\, pour ceux qui souhaiteraient plus d’informations\, dans un moment convivial avec un repas tiré des sacs. \nLa garderie est ouverte pour les petits\, si les parents s’arrangent entre eux. \nLes enfants dès 4 ans pourrait suivre un programme spécial intitulé “Mon église comment je la vois” avec Jean-Philippe Chavey
URL:https://actr.ch/event/culte-message-biblique-libre-9/
LOCATION:ACTR\, Chemin des Trois-Rois 5\, Lausanne\, 1005\, Suisse
ATTACH;FMTTYPE=image/jpeg:https://actr.ch/wp-content/uploads/2023/06/2023.08.06_imagetouse_updated-scaled.jpg
END:VEVENT
BEGIN:VEVENT
DTSTART;TZID=Europe/Zurich:20230808T200000
DTEND;TZID=Europe/Zurich:20230808T213000
DTSTAMP:20260422T034356
CREATED:20230709T204933Z
LAST-MODIFIED:20230709T204933Z
UID:6792-1691524800-1691530200@actr.ch
SUMMARY:Partage biblique & Prière
DESCRIPTION:Mardi 8 août 2023 \nPartage biblique et prière \nThème: “Psaume 21 – louange après la victoire”. Collectif libre
URL:https://actr.ch/event/partage-biblique-priere-37/
LOCATION:ACTR\, Chemin des Trois-Rois 5\, Lausanne\, 1005\, Suisse
ATTACH;FMTTYPE=image/jpeg:https://actr.ch/wp-content/uploads/2023/01/2023_PartageBibliqueEtPriere.jpg
END:VEVENT
BEGIN:VEVENT
DTSTART;TZID=Europe/Zurich:20230810T100000
DTEND;TZID=Europe/Zurich:20230810T140000
DTSTAMP:20260422T034356
CREATED:20230805T115117Z
LAST-MODIFIED:20230805T115117Z
UID:6809-1691661600-1691676000@actr.ch
SUMMARY:Jeux & Amitiés
DESCRIPTION:Jeudi 10 août 2023 \nJeux & Amitiés \nDe 10h à 14h\, avec repas \nDans les locaux de l’ACTR. \nInscription auprès de Michèle S. [076 379 85 19]
URL:https://actr.ch/event/jeux-amities-12/
LOCATION:ACTR\, Chemin des Trois-Rois 5\, Lausanne\, 1005\, Suisse
ATTACH;FMTTYPE=image/jpeg:https://actr.ch/wp-content/uploads/2023/08/2023.08.10_JeuxAmities.jpg
END:VEVENT
BEGIN:VEVENT
DTSTART;TZID=Europe/Zurich:20230813T100000
DTEND;TZID=Europe/Zurich:20230813T114500
DTSTAMP:20260422T034356
CREATED:20230619T123632Z
LAST-MODIFIED:20230628T070724Z
UID:6694-1691920800-1691927100@actr.ch
SUMMARY:Culte & Message biblique
DESCRIPTION:Dimanche 13 août 2023 \n10h-11h45: Culte & Message biblique \nIl n’y a pas d’école du dimanche\, mais la garderie est ouverte – Les parents s’arrangent entre eux.
URL:https://actr.ch/event/culte-message-biblique-libre-7/
LOCATION:ACTR\, Chemin des Trois-Rois 5\, Lausanne\, 1005\, Suisse
ATTACH;FMTTYPE=image/jpeg:https://actr.ch/wp-content/uploads/2023/06/2023.08.14_imagetouse2_updated-scaled.jpg
END:VEVENT
BEGIN:VEVENT
DTSTART;TZID=Europe/Zurich:20230815T200000
DTEND;TZID=Europe/Zurich:20230815T213000
DTSTAMP:20260422T034356
CREATED:20230709T205057Z
LAST-MODIFIED:20230709T205057Z
UID:6794-1692129600-1692135000@actr.ch
SUMMARY:Partage biblique & Prière
DESCRIPTION:Mardi 15 août 2023 \nPartage biblique et prière \nThème: “Psaume 72 – le roi parfait”. Collectif libre
URL:https://actr.ch/event/partage-biblique-priere-38/
LOCATION:ACTR\, Chemin des Trois-Rois 5\, Lausanne\, 1005\, Suisse
ATTACH;FMTTYPE=image/jpeg:https://actr.ch/wp-content/uploads/2023/01/2023_PartageBibliqueEtPriere.jpg
END:VEVENT
BEGIN:VEVENT
DTSTART;TZID=Europe/Zurich:20230820T100000
DTEND;TZID=Europe/Zurich:20230820T114500
DTSTAMP:20260422T034356
CREATED:20230619T123756Z
LAST-MODIFIED:20230628T070629Z
UID:6696-1692525600-1692531900@actr.ch
SUMMARY:Culte & Message biblique
DESCRIPTION:Dimanche 20 août 2023 \n10h-11h45: Culte & Message biblique – Présentation des nouveaux groupes d’école du dimanche \n10h30-11h45: Reprise de l’école du dimanche & Garderie
URL:https://actr.ch/event/culte-message-biblique-libre-8/
LOCATION:ACTR\, Chemin des Trois-Rois 5\, Lausanne\, 1005\, Suisse
ATTACH;FMTTYPE=image/jpeg:https://actr.ch/wp-content/uploads/2023/06/2023.08.20_imagetouse_updated-scaled.jpg
END:VEVENT
BEGIN:VEVENT
DTSTART;TZID=Europe/Zurich:20230822T200000
DTEND;TZID=Europe/Zurich:20230822T213000
DTSTAMP:20260422T034356
CREATED:20230710T092306Z
LAST-MODIFIED:20230822T095456Z
UID:6797-1692734400-1692739800@actr.ch
SUMMARY:Partage biblique & Prière
DESCRIPTION:Mardi 22 août 2023 \nPartage biblique et prière \nThème: “Psaume 24 – le roi de gloire”\, introduit par Michel H.
URL:https://actr.ch/event/partage-biblique-priere-39/
LOCATION:ACTR\, Chemin des Trois-Rois 5\, Lausanne\, 1005\, Suisse
ATTACH;FMTTYPE=image/jpeg:https://actr.ch/wp-content/uploads/2023/01/2023_PartageBibliqueEtPriere.jpg
END:VEVENT
BEGIN:VEVENT
DTSTART;TZID=Europe/Zurich:20230827T100000
DTEND;TZID=Europe/Zurich:20230827T114500
DTSTAMP:20260422T034356
CREATED:20230619T124037Z
LAST-MODIFIED:20230628T070604Z
UID:6699-1693130400-1693136700@actr.ch
SUMMARY:Culte & Message biblique
DESCRIPTION:Dimanche 27 août 2023 \n10h-11h45: Culte & Message biblique \n10h30-11h45: Ecole du dimanche & Garderie
URL:https://actr.ch/event/culte-message-biblique-98/
LOCATION:ACTR\, Chemin des Trois-Rois 5\, Lausanne\, 1005\, Suisse
ATTACH;FMTTYPE=image/jpeg:https://actr.ch/wp-content/uploads/2023/06/2023.08.27_imagetouse.jpg
END:VEVENT
BEGIN:VEVENT
DTSTART;TZID=Europe/Zurich:20230827T120000
DTEND;TZID=Europe/Zurich:20230827T170000
DTSTAMP:20260422T034356
CREATED:20230619T123852Z
LAST-MODIFIED:20230626T152916Z
UID:6631-1693137600-1693155600@actr.ch
SUMMARY:Pique-nique d'église
DESCRIPTION:Dimanche 27 août 2023 \nDès 12h: Pique-nique d’église au refuge de Pully\, Stand de Volson
URL:https://actr.ch/event/pique-nique-deglise-2/
LOCATION:Refuge de Volson\, Pully
ATTACH;FMTTYPE=image/jpeg:https://actr.ch/wp-content/uploads/2023/05/2023.08.27_PiqueNique.jpg
END:VEVENT
BEGIN:VEVENT
DTSTART;TZID=Europe/Zurich:20230829T200000
DTEND;TZID=Europe/Zurich:20230829T213000
DTSTAMP:20260422T034356
CREATED:20230821T193349Z
LAST-MODIFIED:20230821T193349Z
UID:6829-1693339200-1693344600@actr.ch
SUMMARY:Soirée de prière Focus Ministère Louange
DESCRIPTION:Mardi 29 août 2023 \nSoirée de prière Focus Ministère Louange
URL:https://actr.ch/event/soiree-de-priere-focus-ministere-louange/
LOCATION:ACTR\, Chemin des Trois-Rois 5\, Lausanne\, 1005\, Suisse
ATTACH;FMTTYPE=image/jpeg:https://actr.ch/wp-content/uploads/2023/08/2023.08.29_FocusLouange.jpg
END:VEVENT
BEGIN:VEVENT
DTSTART;TZID=Europe/Zurich:20230830T120000
DTEND;TZID=Europe/Zurich:20230830T140000
DTSTAMP:20260422T034356
CREATED:20230821T193614Z
LAST-MODIFIED:20230821T193614Z
UID:6832-1693396800-1693404000@actr.ch
SUMMARY:P'tite tablée
DESCRIPTION:Mercredi 30 août 2023 \nP’tite tablée \nDans les locaux de l’ACTR dès 12h. \nInscription auprès d’Antoinette G. ou Elisabeth L.
URL:https://actr.ch/event/ptite-tablee-9/
LOCATION:ACTR\, Chemin des Trois-Rois 5\, Lausanne\, 1005\, Suisse
ATTACH;FMTTYPE=image/jpeg:https://actr.ch/wp-content/uploads/2023/08/2023.08.30_Ptitetablee.jpg
END:VEVENT
END:VCALENDAR