BEGIN:VCALENDAR
VERSION:2.0
PRODID:-//ACTR - ECPv6.2.9//NONSGML v1.0//EN
CALSCALE:GREGORIAN
METHOD:PUBLISH
X-WR-CALNAME:ACTR
X-ORIGINAL-URL:https://actr.ch
X-WR-CALDESC:évènements pour ACTR
REFRESH-INTERVAL;VALUE=DURATION:PT1H
X-Robots-Tag:noindex
X-PUBLISHED-TTL:PT1H
BEGIN:VTIMEZONE
TZID:Europe/Zurich
BEGIN:DAYLIGHT
TZOFFSETFROM:+0100
TZOFFSETTO:+0200
TZNAME:CEST
DTSTART:20230326T010000
END:DAYLIGHT
BEGIN:STANDARD
TZOFFSETFROM:+0200
TZOFFSETTO:+0100
TZNAME:CET
DTSTART:20231029T010000
END:STANDARD
END:VTIMEZONE
BEGIN:VEVENT
DTSTART;TZID=Europe/Zurich:20230502T200000
DTEND;TZID=Europe/Zurich:20230502T213000
DTSTAMP:20260422T134923
CREATED:20230329T202641Z
LAST-MODIFIED:20230329T202641Z
UID:6453-1683057600-1683063000@actr.ch
SUMMARY:Partage biblique & Prière
DESCRIPTION:Mardi 2 mai 2023 \nPartage biblique et prière \nThème: “Les hommes vaillants de David\, recensement et peste” (2 Samuel 23.1-7 (8.38) + 24.1-25) \nPrésentateur: Eric L.
URL:https://actr.ch/event/partage-biblique-priere-24/
LOCATION:ACTR\, Chemin des Trois-Rois 5\, Lausanne\, 1005\, Suisse
ATTACH;FMTTYPE=image/jpeg:https://actr.ch/wp-content/uploads/2023/01/2023_PartageBibliqueEtPriere.jpg
END:VEVENT
BEGIN:VEVENT
DTSTART;TZID=Europe/Zurich:20230503T193000
DTEND;TZID=Europe/Zurich:20230503T213000
DTSTAMP:20260422T134923
CREATED:20230130T132829Z
LAST-MODIFIED:20230130T132829Z
UID:6081-1683142200-1683149400@actr.ch
SUMMARY:AlphaLive | La Foi: Comment savoir si j'ai la foi?
DESCRIPTION:Mercredi 3 mai 2023 – 19h30 \nLa Foi: Comment savoir si j’ai la foi? \nExplore la vie\, la foi\, le sens: 7 sessions AlphaLive \nRepas + Exposé + Discussion \nwww.fr.alphalive.ch \nInfo & Inscription: alphalive@actr.ch
URL:https://actr.ch/event/alphalive-la-foi-comment-savoir-si-jai-la-foi/
LOCATION:ACTR\, Chemin des Trois-Rois 5\, Lausanne\, 1005\, Suisse
ATTACH;FMTTYPE=image/jpeg:https://actr.ch/wp-content/uploads/2023/01/2023.03.08_alphalive_dates.jpg
END:VEVENT
BEGIN:VEVENT
DTSTART;TZID=Europe/Zurich:20230504T100000
DTEND;TZID=Europe/Zurich:20230504T140000
DTSTAMP:20260422T134923
CREATED:20230419T100323Z
LAST-MODIFIED:20230419T100323Z
UID:6503-1683194400-1683208800@actr.ch
SUMMARY:Jeux & Amitiés
DESCRIPTION:Jeudi 4 mail 2023 \nJeux & Amitiés \nDe 10h à 14h\, avec repas \nDans les locaux de l’ACTR. \nInscription auprès de Michèle S. [076 379 85 19]
URL:https://actr.ch/event/jeux-amities-10/
LOCATION:ACTR\, Chemin des Trois-Rois 5\, Lausanne\, 1005\, Suisse
ATTACH;FMTTYPE=image/jpeg:https://actr.ch/wp-content/uploads/2023/04/2023.05.04_JeuxAmities.jpg
END:VEVENT
BEGIN:VEVENT
DTSTART;TZID=Europe/Zurich:20230507T100000
DTEND;TZID=Europe/Zurich:20230507T150000
DTSTAMP:20260422T134923
CREATED:20230329T202810Z
LAST-MODIFIED:20230503T201145Z
UID:6455-1683453600-1683471600@actr.ch
SUMMARY:Culte & Message biblique | Encore actuels\, les Psaumes? Portique des Psaumes 1 & 2 - Orateur: Joël Prohin
DESCRIPTION:Dimanche 7 mai 2023 \n10h-11h45: Culte\, avec introduction pour les enfants & Message biblique | Encore actuels\, les Psaumes? Portique des Psaumes 1 & 2 – Orateur: Joël Prohin \n10h30-11h45: Ecole du dimanche & Minicell \nPrière-contact à la fin du culte \nDès 12h: Repas canadien
URL:https://actr.ch/event/culte-message-biblique-95/
LOCATION:ACTR\, Chemin des Trois-Rois 5\, Lausanne\, 1005\, Suisse
ATTACH;FMTTYPE=image/jpeg:https://actr.ch/wp-content/uploads/2023/03/2023.05.07_NEW.jpg
END:VEVENT
BEGIN:VEVENT
DTSTART;TZID=Europe/Zurich:20230507T103000
DTEND;TZID=Europe/Zurich:20230507T114500
DTSTAMP:20260422T134923
CREATED:20230329T203127Z
LAST-MODIFIED:20230503T201720Z
UID:6457-1683455400-1683459900@actr.ch
SUMMARY:Minicell
DESCRIPTION:Dimanche 7 mai 2023 \n10h30-11h45: Minicell\, pour les 0-3 ans \nMinicell\, un programme d’éveil à la foi pour les petits. Moment que les parents sont conviés à vivre conjointement avec leur(s) enfant(s).
URL:https://actr.ch/event/minicell-9/
LOCATION:ACTR\, Chemin des Trois-Rois 5\, Lausanne\, 1005\, Suisse
ATTACH;FMTTYPE=image/jpeg:https://actr.ch/wp-content/uploads/2023/03/2023.05.07_Minicell.jpg
END:VEVENT
BEGIN:VEVENT
DTSTART;TZID=Europe/Zurich:20230507T120000
DTEND;TZID=Europe/Zurich:20230507T150000
DTSTAMP:20260422T134923
CREATED:20230329T203225Z
LAST-MODIFIED:20230403T122259Z
UID:6460-1683460800-1683471600@actr.ch
SUMMARY:Repas canadien
DESCRIPTION:Dimanche 7 mai 2023 \nDès 12h: Repas canadien à l’église
URL:https://actr.ch/event/repas-canadien/
LOCATION:ACTR\, Chemin des Trois-Rois 5\, Lausanne\, 1005\, Suisse
ATTACH;FMTTYPE=image/jpeg:https://actr.ch/wp-content/uploads/2023/03/2023.05.07_RepasCanadien.jpg
END:VEVENT
BEGIN:VEVENT
DTSTART;TZID=Europe/Zurich:20230509T200000
DTEND;TZID=Europe/Zurich:20230509T213000
DTSTAMP:20260422T134923
CREATED:20230422T225306Z
LAST-MODIFIED:20230503T201929Z
UID:6526-1683662400-1683667800@actr.ch
SUMMARY:Partage biblique & Prière
DESCRIPTION:Mardi 9 mai 2023 \nPartage biblique et prière \nThème: “Psaumes 3 & 4”
URL:https://actr.ch/event/partage-biblique-priere-26/
LOCATION:ACTR\, Chemin des Trois-Rois 5\, Lausanne\, 1005\, Suisse
ATTACH;FMTTYPE=image/jpeg:https://actr.ch/wp-content/uploads/2023/01/2023_PartageBibliqueEtPriere.jpg
END:VEVENT
BEGIN:VEVENT
DTSTART;TZID=Europe/Zurich:20230514T100000
DTEND;TZID=Europe/Zurich:20230514T114500
DTSTAMP:20260422T134923
CREATED:20230422T223855Z
LAST-MODIFIED:20230501T092511Z
UID:6511-1684058400-1684064700@actr.ch
SUMMARY:Culte & Message biblique | À la recherche du bonheur [Ps 119] - Orateur: Christian C.
DESCRIPTION:Dimanche 14 mai 2023 \n10h-11h45: Culte & Message biblique | À la recherche du bonheur [Ps 119] – Orateur: Christian C. \n10h30-11h45: Ecole du dimanche & Garderie
URL:https://actr.ch/event/culte-message-biblique-97/
LOCATION:ACTR\, Chemin des Trois-Rois 5\, Lausanne\, 1005\, Suisse
ATTACH;FMTTYPE=image/jpeg:https://actr.ch/wp-content/uploads/2023/04/2023.05.14_NEEW.jpg
END:VEVENT
BEGIN:VEVENT
DTSTART;TZID=Europe/Zurich:20230516T200000
DTEND;TZID=Europe/Zurich:20230516T213000
DTSTAMP:20260422T134923
CREATED:20230422T225416Z
LAST-MODIFIED:20230503T202044Z
UID:6528-1684267200-1684272600@actr.ch
SUMMARY:Partage biblique & Prière
DESCRIPTION:Mardi 16 mai 2023 \nPartage biblique et prière \nThème: “Psaume 119”
URL:https://actr.ch/event/partage-biblique-priere-27/
LOCATION:ACTR\, Chemin des Trois-Rois 5\, Lausanne\, 1005\, Suisse
ATTACH;FMTTYPE=image/jpeg:https://actr.ch/wp-content/uploads/2023/01/2023_PartageBibliqueEtPriere.jpg
END:VEVENT
BEGIN:VEVENT
DTSTART;TZID=Europe/Zurich:20230521T100000
DTEND;TZID=Europe/Zurich:20230521T114500
DTSTAMP:20260422T134923
CREATED:20230422T224102Z
LAST-MODIFIED:20230515T071037Z
UID:6514-1684663200-1684669500@actr.ch
SUMMARY:Culte & Message biblique libre
DESCRIPTION:Dimanche 21 mai 2023 \n10h-11h45: Culte & Message biblique libre \n10h30-11h45: Programme “vacances” pour tous les enfants
URL:https://actr.ch/event/culte-message-biblique-libre-4/
LOCATION:ACTR\, Chemin des Trois-Rois 5\, Lausanne\, 1005\, Suisse
ATTACH;FMTTYPE=image/jpeg:https://actr.ch/wp-content/uploads/2023/04/2023.05.21_Image.jpg
END:VEVENT
BEGIN:VEVENT
DTSTART;TZID=Europe/Zurich:20230523T200000
DTEND;TZID=Europe/Zurich:20230523T213000
DTSTAMP:20260422T134923
CREATED:20230422T225531Z
LAST-MODIFIED:20230503T203415Z
UID:6530-1684872000-1684877400@actr.ch
SUMMARY:Partage biblique & Prière
DESCRIPTION:Mardi 23 mai 2023 \nPartage biblique et prière \nThème: “Psaume 119”
URL:https://actr.ch/event/partage-biblique-priere-28/
LOCATION:ACTR\, Chemin des Trois-Rois 5\, Lausanne\, 1005\, Suisse
ATTACH;FMTTYPE=image/jpeg:https://actr.ch/wp-content/uploads/2023/01/2023_PartageBibliqueEtPriere.jpg
END:VEVENT
BEGIN:VEVENT
DTSTART;TZID=Europe/Zurich:20230524T143000
DTEND;TZID=Europe/Zurich:20230524T170000
DTSTAMP:20260422T134923
CREATED:20230508T140655Z
LAST-MODIFIED:20230508T140813Z
UID:6572-1684938600-1684947600@actr.ch
SUMMARY:Groupe de l'amitié
DESCRIPTION:Mercredi 24 mai 2023 \nÀ 14h30: Visionnage d’un film & collation à l’ACTR \nPour tous les détails de l’invitation\, c’est ici. \nInscription d’ici le 17 mai auprès d’Anne-Lise Flaction | flaction33@bluewin.ch – 021 731 16 58 – 079 646 86 83
URL:https://actr.ch/event/groupe-de-lamitie-4/
LOCATION:ACTR\, Chemin des Trois-Rois 5\, Lausanne\, 1005\, Suisse
ATTACH;FMTTYPE=image/jpeg:https://actr.ch/wp-content/uploads/2023/05/2023.05.24_GroupeDeLamitie.jpg
END:VEVENT
BEGIN:VEVENT
DTSTART;TZID=Europe/Zurich:20230524T193000
DTEND;TZID=Europe/Zurich:20230524T213000
DTSTAMP:20260422T134923
CREATED:20230130T132950Z
LAST-MODIFIED:20230130T133158Z
UID:6083-1684956600-1684963800@actr.ch
SUMMARY:AlphaLive | Prier: Pourquoi et comment?
DESCRIPTION:Mercredi 24 mai 2023 – 19h30 \nPrier: Pourquoi et comment? \nExplore la vie\, la foi\, le sens: 7 sessions AlphaLive \nRepas + Exposé + Discussion \nwww.fr.alphalive.ch \nInfo & Inscription: alphalive@actr.ch
URL:https://actr.ch/event/6083/
LOCATION:ACTR\, Chemin des Trois-Rois 5\, Lausanne\, 1005\, Suisse
ATTACH;FMTTYPE=image/jpeg:https://actr.ch/wp-content/uploads/2023/01/2023.03.08_alphalive_dates.jpg
END:VEVENT
BEGIN:VEVENT
DTSTART;TZID=Europe/Zurich:20230526T183000
DTEND;TZID=Europe/Zurich:20230526T220000
DTSTAMP:20260422T134923
CREATED:20230116T134838Z
LAST-MODIFIED:20230116T165617Z
UID:5985-1685125800-1685138400@actr.ch
SUMMARY:Projet Caleb - 4ème soirée
DESCRIPTION:Vendredi 26 mai 2023 \n4ème rencontre des 5 soirées entre hommes – Le courage d’être\, le courage de vivre ensemble\, le courage d’aller \nInscription auprès de Christian (christian.cuendet@sefanet.ch ou 079 347 41 09) \n5 soirées: 24 février\, 31 mars\, 28 avril\, 26 mai\, 23 juin
URL:https://actr.ch/event/projet-caleb-4eme-soiree/
LOCATION:ACTR\, Chemin des Trois-Rois 5\, Lausanne\, 1005\, Suisse
ATTACH;FMTTYPE=image/jpeg:https://actr.ch/wp-content/uploads/2023/01/2023.02.24_ProjetCalelSansDates.jpg
END:VEVENT
BEGIN:VEVENT
DTSTART;TZID=Europe/Zurich:20230528T100000
DTEND;TZID=Europe/Zurich:20230528T114500
DTSTAMP:20260422T134923
CREATED:20230422T224217Z
LAST-MODIFIED:20230530T091227Z
UID:6517-1685268000-1685274300@actr.ch
SUMMARY:Culte & Message biblique libre
DESCRIPTION:Dimanche 28 mai 2023 \n10h-11h45: Culte & Message biblique libre \n10h30-11h45: Programme “vacances” pour tous les enfants
URL:https://actr.ch/event/culte-message-biblique-libre-5/
LOCATION:ACTR\, Chemin des Trois-Rois 5\, Lausanne\, 1005\, Suisse
ATTACH;FMTTYPE=image/jpeg:https://actr.ch/wp-content/uploads/2023/04/2023.05.28_imagerec.jpg
END:VEVENT
BEGIN:VEVENT
DTSTART;TZID=Europe/Zurich:20230530T200000
DTEND;TZID=Europe/Zurich:20230530T213000
DTSTAMP:20260422T134923
CREATED:20230422T225634Z
LAST-MODIFIED:20230530T091257Z
UID:6532-1685476800-1685482200@actr.ch
SUMMARY:Partage biblique & Prière
DESCRIPTION:Mardi 30 mai 2023 \nPartage biblique et prière \nThème: “Psaume 19”\, introduit par Jean L.
URL:https://actr.ch/event/partage-biblique-priere-29/
LOCATION:ACTR\, Chemin des Trois-Rois 5\, Lausanne\, 1005\, Suisse
ATTACH;FMTTYPE=image/jpeg:https://actr.ch/wp-content/uploads/2023/01/2023_PartageBibliqueEtPriere.jpg
END:VEVENT
BEGIN:VEVENT
DTSTART;TZID=Europe/Zurich:20230531T120000
DTEND;TZID=Europe/Zurich:20230531T140000
DTSTAMP:20260422T134923
CREATED:20230527T215808Z
LAST-MODIFIED:20230527T215808Z
UID:6618-1685534400-1685541600@actr.ch
SUMMARY:P'tite tablée
DESCRIPTION:Mercredi 31 mai 2023 \nP’tite tablée \nDans les locaux de l’ACTR dès 12h. \nInscription auprès d’Antoinette G. ou Elisabeth L.
URL:https://actr.ch/event/ptite-tablee-7/
LOCATION:ACTR\, Chemin des Trois-Rois 5\, Lausanne\, 1005\, Suisse
ATTACH;FMTTYPE=image/jpeg:https://actr.ch/wp-content/uploads/2023/05/2023.05.31_PtiteTablee.jpg
END:VEVENT
END:VCALENDAR