BEGIN:VCALENDAR
VERSION:2.0
PRODID:-//ACTR - ECPv6.2.9//NONSGML v1.0//EN
CALSCALE:GREGORIAN
METHOD:PUBLISH
X-WR-CALNAME:ACTR
X-ORIGINAL-URL:https://actr.ch
X-WR-CALDESC:évènements pour ACTR
REFRESH-INTERVAL;VALUE=DURATION:PT1H
X-Robots-Tag:noindex
X-PUBLISHED-TTL:PT1H
BEGIN:VTIMEZONE
TZID:Europe/Zurich
BEGIN:DAYLIGHT
TZOFFSETFROM:+0100
TZOFFSETTO:+0200
TZNAME:CEST
DTSTART:20230326T010000
END:DAYLIGHT
BEGIN:STANDARD
TZOFFSETFROM:+0200
TZOFFSETTO:+0100
TZNAME:CET
DTSTART:20231029T010000
END:STANDARD
END:VTIMEZONE
BEGIN:VEVENT
DTSTART;TZID=Europe/Zurich:20230402T100000
DTEND;TZID=Europe/Zurich:20230402T114500
DTSTAMP:20260422T185436
CREATED:20230211T220203Z
LAST-MODIFIED:20230318T220242Z
UID:6155-1680429600-1680435900@actr.ch
SUMMARY:Culte & Message biblique | Suis-je légitime pour SERVIR ?
DESCRIPTION:Dimanche 2 avril 2023 \n10h-11h45: Culte & Message biblique | Suis-je légitime pour SERVIR ? – Orateur: Matthieu Cuendet \n10h30-11h45: Ecole du dimanche & Garderie
URL:https://actr.ch/event/culte-message-biblique-servir/
LOCATION:ACTR\, Chemin des Trois-Rois 5\, Lausanne\, 1005\, Suisse
ATTACH;FMTTYPE=image/jpeg:https://actr.ch/wp-content/uploads/2023/02/2023.04.02_Servir_UneVisionPourNotreEglise.jpg
END:VEVENT
BEGIN:VEVENT
DTSTART;TZID=Europe/Zurich:20230402T120000
DTEND;TZID=Europe/Zurich:20230402T140000
DTSTAMP:20260422T185436
CREATED:20230313T141725Z
LAST-MODIFIED:20230313T141725Z
UID:6287-1680436800-1680444000@actr.ch
SUMMARY:Repas à l'église
DESCRIPTION:Dimanche 2 avril 2023 \nRepas à l’église\, pour celles et ceux qui ont rejoint l’église ces 12 derniers mois environ \nDès 12h \nInscription auprès de Thomas Saner | thomisaner@sunrise.ch
URL:https://actr.ch/event/repas-a-leglise/
LOCATION:ACTR\, Chemin des Trois-Rois 5\, Lausanne\, 1005\, Suisse
ATTACH;FMTTYPE=image/jpeg:https://actr.ch/wp-content/uploads/2023/03/2023.04.02_RepasDesNews.jpg
END:VEVENT
BEGIN:VEVENT
DTSTART;TZID=Europe/Zurich:20230404T200000
DTEND;TZID=Europe/Zurich:20230404T213000
DTSTAMP:20260422T185436
CREATED:20230211T215310Z
LAST-MODIFIED:20230403T112916Z
UID:6146-1680638400-1680643800@actr.ch
SUMMARY:Soirée Prière Focus Fonds Missionnaire
DESCRIPTION:Soirée Prière Focus Fonds Missionnaire \nSylvie Fuchs sera présente\, et témoignera brièvement de la raison de son engagement  comme missionnaire (maintenant au Mali). \nVisioconférence aussi avec une autre missionnaire\, Claudia Petrequin\, qui nous expliquera en quelques minutes son engagement dans les pays de l’Est. \nSoirée dont le but est de faire (re)découvrir différentes facettes du travail missionnaire. Les aspects d’évangélisation\, mais aussi le côté humanitaire\, social\, et compassionnel. Notre souhait serait que chacun puisse aussi découvrir comment il/elle peut être concerné par la mission (soutien par l’intérêt au travail fait\, par la prière\, par un apport financier\, mais aussi possibilité de s’investir soi-même !)
URL:https://actr.ch/event/soiree-priere-focus-fonds-missionnaire/
LOCATION:ACTR\, Chemin des Trois-Rois 5\, Lausanne\, 1005\, Suisse
ATTACH;FMTTYPE=image/jpeg:https://actr.ch/wp-content/uploads/2023/02/2023.04.04_SoireePriereFondsMi_Last.jpg
END:VEVENT
BEGIN:VEVENT
DTSTART;TZID=Europe/Zurich:20230405T193000
DTEND;TZID=Europe/Zurich:20230405T213000
DTSTAMP:20260422T185436
CREATED:20230130T132630Z
LAST-MODIFIED:20230130T133218Z
UID:6079-1680723000-1680730200@actr.ch
SUMMARY:AlphaLive | La Croix: Pourquoi Jésus est-il mort?
DESCRIPTION:Mercredi 5 avril 2023 – 19h30 \nLa Croix: Pourquoi Jésus est-il mort? \nExplore la vie\, la foi\, le sens: 7 sessions AlphaLive \nRepas + Exposé + Discussion \nwww.fr.alphalive.ch \nInfo & Inscription: alphalive@actr.ch
URL:https://actr.ch/event/alphalive-la-croix-pourquoi-jesus-est-il-mort/
LOCATION:ACTR\, Chemin des Trois-Rois 5\, Lausanne\, 1005\, Suisse
ATTACH;FMTTYPE=image/jpeg:https://actr.ch/wp-content/uploads/2023/01/2023.03.08_alphalive_dates.jpg
END:VEVENT
BEGIN:VEVENT
DTSTART;TZID=Europe/Zurich:20230406T100000
DTEND;TZID=Europe/Zurich:20230406T140000
DTSTAMP:20260422T185436
CREATED:20230313T121919Z
LAST-MODIFIED:20230313T121919Z
UID:6275-1680775200-1680789600@actr.ch
SUMMARY:Jeux & Amitiés
DESCRIPTION:Jeudi 6 avril 2023 \nJeux & Amitiés \nDe 10h à 14h\, avec repas \nDans les locaux de l’ACTR. \nInscription auprès de Janelyse G. [079 424 54 24]
URL:https://actr.ch/event/jeux-amities-9/
LOCATION:ACTR\, Chemin des Trois-Rois 5\, Lausanne\, 1005\, Suisse
ATTACH;FMTTYPE=image/jpeg:https://actr.ch/wp-content/uploads/2023/03/2023.04.06_JeuxAmities.jpg
END:VEVENT
BEGIN:VEVENT
DTSTART;TZID=Europe/Zurich:20230409T100000
DTEND;TZID=Europe/Zurich:20230409T114500
DTSTAMP:20260422T185436
CREATED:20230329T201058Z
LAST-MODIFIED:20230329T201058Z
UID:6439-1681034400-1681040700@actr.ch
SUMMARY:Culte de Pâques & Message biblique
DESCRIPTION:Dimanche 9 avril 2023 \n10h-11h45: Culte de Pâques & Message biblique \n10h30-11h45: Ecole du dimanche & Garderie
URL:https://actr.ch/event/culte-de-paques-message-biblique/
LOCATION:ACTR\, Chemin des Trois-Rois 5\, Lausanne\, 1005\, Suisse
ATTACH;FMTTYPE=image/jpeg:https://actr.ch/wp-content/uploads/2023/03/2023.04.09_CulteDePaques.jpg
END:VEVENT
BEGIN:VEVENT
DTSTART;TZID=Europe/Zurich:20230411T200000
DTEND;TZID=Europe/Zurich:20230411T213000
DTSTAMP:20260422T185436
CREATED:20230329T201510Z
LAST-MODIFIED:20230329T201510Z
UID:6443-1681243200-1681248600@actr.ch
SUMMARY:Partage biblique sur le verbe SERVIR & Prière
DESCRIPTION:Mardi 11 avril 2023 \nPartage biblique et prière \nReprise du verbe SERVIR [du message de dimanche] en petits groupes à l’ACTR.
URL:https://actr.ch/event/partage-biblique-sur-le-verbe-servir-priere/
LOCATION:ACTR\, Chemin des Trois-Rois 5\, Lausanne\, 1005\, Suisse
ATTACH;FMTTYPE=image/jpeg:https://actr.ch/wp-content/uploads/2023/01/2023_PartageBibliqueEtPriere.jpg
END:VEVENT
BEGIN:VEVENT
DTSTART;TZID=Europe/Zurich:20230416T100000
DTEND;TZID=Europe/Zurich:20230416T114500
DTSTAMP:20260422T185436
CREATED:20230306T213233Z
LAST-MODIFIED:20230318T220605Z
UID:6253-1681639200-1681645500@actr.ch
SUMMARY:Culte & Message biblique | Pour RAYONNER\, cherchez le centre !
DESCRIPTION:Dimanche 16 avril 2023 \n10h-11h45: Culte & Message biblique | Pour RAYONNER\, cherchez le centre ! – Orateur: Clément Friderici \n10h30-11h45: Ecole du dimanche & Garderie
URL:https://actr.ch/event/6253/
LOCATION:ACTR\, Chemin des Trois-Rois 5\, Lausanne\, 1005\, Suisse
ATTACH;FMTTYPE=image/jpeg:https://actr.ch/wp-content/uploads/2023/03/2023.04.16_Rayonner_UneVisionPourNotreEglise.jpg
END:VEVENT
BEGIN:VEVENT
DTSTART;TZID=Europe/Zurich:20230418T200000
DTEND;TZID=Europe/Zurich:20230418T213000
DTSTAMP:20260422T185436
CREATED:20230329T201923Z
LAST-MODIFIED:20230329T201923Z
UID:6447-1681848000-1681853400@actr.ch
SUMMARY:Partage biblique sur le verbe RAYONNER & Prière
DESCRIPTION:Mardi 18 avril 2023 \nPartage biblique et prière \nReprise du verbe RAYONNER [du message de dimanche] en petits groupes à l’ACTR.
URL:https://actr.ch/event/partage-biblique-sur-le-verbe-rayonner-priere/
LOCATION:ACTR\, Chemin des Trois-Rois 5\, Lausanne\, 1005\, Suisse
ATTACH;FMTTYPE=image/jpeg:https://actr.ch/wp-content/uploads/2023/01/2023_PartageBibliqueEtPriere.jpg
END:VEVENT
BEGIN:VEVENT
DTSTART;TZID=Europe/Zurich:20230423T100000
DTEND;TZID=Europe/Zurich:20230423T114500
DTSTAMP:20260422T185436
CREATED:20230306T213423Z
LAST-MODIFIED:20230318T220531Z
UID:6257-1682244000-1682250300@actr.ch
SUMMARY:Culte & Message biblique | VIVRE CHRIST dans la liberté et la joie
DESCRIPTION:Dimanche 23 avril 2023 \n10h-11h45: Culte & Message biblique | VIVRE CHRIST dans la liberté et la joie – Orateur: Gérald Stocker \n10h30-11h45: Ecole du dimanche & Garderie
URL:https://actr.ch/event/culte-message-biblique-vivre-christ-dans-la-liberte-et-la-joie/
LOCATION:ACTR\, Chemin des Trois-Rois 5\, Lausanne\, 1005\, Suisse
ATTACH;FMTTYPE=image/jpeg:https://actr.ch/wp-content/uploads/2023/03/2023.04.23_VivreChrist_UneVisionPourNotreEglise.jpg
END:VEVENT
BEGIN:VEVENT
DTSTART;TZID=Europe/Zurich:20230425T200000
DTEND;TZID=Europe/Zurich:20230425T213000
DTSTAMP:20260422T185436
CREATED:20230329T202059Z
LAST-MODIFIED:20230329T202059Z
UID:6449-1682452800-1682458200@actr.ch
SUMMARY:Partage biblique sur le verbe VIVRE & Prière
DESCRIPTION:Mardi 25 avril 2023 \nPartage biblique et prière \nReprise du verbe VIVRE [du message de dimanche] en petits groupes à l’ACTR.
URL:https://actr.ch/event/partage-biblique-sur-le-verbe-vivre-priere/
LOCATION:ACTR\, Chemin des Trois-Rois 5\, Lausanne\, 1005\, Suisse
ATTACH;FMTTYPE=image/jpeg:https://actr.ch/wp-content/uploads/2023/01/2023_PartageBibliqueEtPriere.jpg
END:VEVENT
BEGIN:VEVENT
DTSTART;TZID=Europe/Zurich:20230426T120000
DTEND;TZID=Europe/Zurich:20230426T140000
DTSTAMP:20260422T185436
CREATED:20230419T095638Z
LAST-MODIFIED:20230419T095638Z
UID:6500-1682510400-1682517600@actr.ch
SUMMARY:P'tite Tablée
DESCRIPTION:Mercredi 26 avril 2023 \nP’tite tablée \nDans les locaux de l’ACTR dès 12h. \nInscription auprès d’Antoinette G. ou Elisabeth L.
URL:https://actr.ch/event/ptite-tablee-6/
LOCATION:ACTR\, Chemin des Trois-Rois 5\, Lausanne\, 1005\, Suisse
ATTACH;FMTTYPE=image/jpeg:https://actr.ch/wp-content/uploads/2023/04/2023.04.26_PtiteTablee.jpg
END:VEVENT
BEGIN:VEVENT
DTSTART;TZID=Europe/Zurich:20230428T183000
DTEND;TZID=Europe/Zurich:20230428T220000
DTSTAMP:20260422T185436
CREATED:20230116T134659Z
LAST-MODIFIED:20230116T165650Z
UID:5982-1682706600-1682719200@actr.ch
SUMMARY:Projet Caleb - 3ème soirée
DESCRIPTION:Vendredi 28 avril 2023 \n3ème rencontre des 5 soirées entre hommes – Le courage d’être\, le courage de vivre ensemble\, le courage d’aller \nInscription auprès de Christian (christian.cuendet@sefanet.ch ou 079 347 41 09) \n5 soirées: 24 février\, 31 mars\, 28 avril\, 26 mai\, 23 juin
URL:https://actr.ch/event/projet-caleb-3eme-soiree/
LOCATION:ACTR\, Chemin des Trois-Rois 5\, Lausanne\, 1005\, Suisse
ATTACH;FMTTYPE=image/jpeg:https://actr.ch/wp-content/uploads/2023/01/2023.02.24_ProjetCalelSansDates.jpg
END:VEVENT
BEGIN:VEVENT
DTSTART;TZID=Europe/Zurich:20230430T100000
DTEND;TZID=Europe/Zurich:20230430T114500
DTSTAMP:20260422T185436
CREATED:20230417T192527Z
LAST-MODIFIED:20230422T230330Z
UID:6496-1682848800-1682855100@actr.ch
SUMMARY:Culte introduit par un témoignage de Sylvie Fuchs\, missionnaire au Mali & Message biblique libre
DESCRIPTION:Dimanche 30 avril 2023 \n10h-11h45: Culte & Message biblique \nTémoignage de Sylvie Fuchs\, missionnaire au Mali\, en début de culte \n10h30-11h45: Ecole du dimanche & Garderie \n11h30-11h45: Présentation des comptes de l’ACTR
URL:https://actr.ch/event/culte-message-biblique-96/
LOCATION:ACTR\, Chemin des Trois-Rois 5\, Lausanne\, 1005\, Suisse
ATTACH;FMTTYPE=image/jpeg:https://actr.ch/wp-content/uploads/2023/04/2023.04.30_Culte-.jpg
END:VEVENT
END:VCALENDAR