BEGIN:VCALENDAR
VERSION:2.0
PRODID:-//ACTR - ECPv6.2.9//NONSGML v1.0//EN
CALSCALE:GREGORIAN
METHOD:PUBLISH
X-ORIGINAL-URL:https://actr.ch
X-WR-CALDESC:évènements pour ACTR
REFRESH-INTERVAL;VALUE=DURATION:PT1H
X-Robots-Tag:noindex
X-PUBLISHED-TTL:PT1H
BEGIN:VTIMEZONE
TZID:Europe/Zurich
BEGIN:DAYLIGHT
TZOFFSETFROM:+0100
TZOFFSETTO:+0200
TZNAME:CEST
DTSTART:20230326T010000
END:DAYLIGHT
BEGIN:STANDARD
TZOFFSETFROM:+0200
TZOFFSETTO:+0100
TZNAME:CET
DTSTART:20231029T010000
END:STANDARD
END:VTIMEZONE
BEGIN:VEVENT
DTSTART;TZID=Europe/Zurich:20230305T100000
DTEND;TZID=Europe/Zurich:20230305T114500
DTSTAMP:20260422T234215
CREATED:20230211T212409Z
LAST-MODIFIED:20230220T092507Z
UID:6127-1678010400-1678016700@actr.ch
SUMMARY:Culte & Message biblique | Tous ambassadeurs - Orateur: Jérémy Magnenat
DESCRIPTION:Dimanche 5 mars 2023 \n10h-11h45: Culte & Message biblique | Tous ambassadeurs – Orateur: Jérémy Magnenat \n10h30-11h45: Ecole du dimanche & Garderie
URL:https://actr.ch/event/culte-message-biblique-tous-ambassadeurs-orateur-jeremy-magnenat/
LOCATION:ACTR\, Chemin des Trois-Rois 5\, Lausanne\, 1005\, Suisse
ATTACH;FMTTYPE=image/jpeg:https://actr.ch/wp-content/uploads/2023/02/2023.03.05_dimanche.jpg
END:VEVENT
BEGIN:VEVENT
DTSTART;TZID=Europe/Zurich:20230307T200000
DTEND;TZID=Europe/Zurich:20230307T213000
DTSTAMP:20260422T234215
CREATED:20230211T214348Z
LAST-MODIFIED:20230227T212027Z
UID:6134-1678219200-1678224600@actr.ch
SUMMARY:Soirée Prière - Focus Ministère Rayonnement
DESCRIPTION:Mardi 7 mars 2023 \nSoirée de prière focus Ministère Rayonnement \nPrésentateur: Benoît P.
URL:https://actr.ch/event/soiree-priere-focus-ministere-evangelisation/
LOCATION:ACTR\, Chemin des Trois-Rois 5\, Lausanne\, 1005\, Suisse
ATTACH;FMTTYPE=image/jpeg:https://actr.ch/wp-content/uploads/2023/02/2023.03.07_FocusMinistereRayonnement.jpg
END:VEVENT
BEGIN:VEVENT
DTSTART;TZID=Europe/Zurich:20230308T193000
DTEND;TZID=Europe/Zurich:20230308T213000
DTSTAMP:20260422T234215
CREATED:20230130T131922Z
LAST-MODIFIED:20230130T132331Z
UID:6070-1678303800-1678311000@actr.ch
SUMMARY:AlphaLive | La Vie: Quel est le sens de la vie?
DESCRIPTION:Mercredi 8 mars 2023 – 19h30 \nLa Vie: Quel est le sens de la vie? \nExplore la vie\, la foi\, le sens: 7 sessions AlphaLive \nRepas + Exposé + Discussion \nwww.fr.alphalive.ch \nInfo & Inscription: alphalive@actr.ch
URL:https://actr.ch/event/alphalive/
LOCATION:ACTR\, Chemin des Trois-Rois 5\, Lausanne\, 1005\, Suisse
ATTACH;FMTTYPE=image/jpeg:https://actr.ch/wp-content/uploads/2023/01/2023.03.08_alphalive_dates.jpg
END:VEVENT
BEGIN:VEVENT
DTSTART;TZID=Europe/Zurich:20230309T100000
DTEND;TZID=Europe/Zurich:20230309T140000
DTSTAMP:20260422T234215
CREATED:20230227T213240Z
LAST-MODIFIED:20230227T213711Z
UID:6227-1678356000-1678370400@actr.ch
SUMMARY:Jeux & Amitiés
DESCRIPTION:Jeudi 9 mars 2023 \nJeux & Amitiés \nDe 10h à 14h\, avec repas \nDans les locaux de l’ACTR. \nInscription auprès de Janelyse G. [079 424 54 24]
URL:https://actr.ch/event/jeux-amities-8/
LOCATION:ACTR\, Chemin des Trois-Rois 5\, Lausanne\, 1005\, Suisse
ATTACH;FMTTYPE=image/jpeg:https://actr.ch/wp-content/uploads/2023/02/2023.03.09_JeuxAmities.jpg
END:VEVENT
BEGIN:VEVENT
DTSTART;TZID=Europe/Zurich:20230312T100000
DTEND;TZID=Europe/Zurich:20230312T113000
DTSTAMP:20260422T234215
CREATED:20230211T215649Z
LAST-MODIFIED:20230228T063127Z
UID:6148-1678615200-1678620600@actr.ch
SUMMARY:CULTE OPEN DOOR
DESCRIPTION:Dimanche 12 mars 2023 \n10h-11h30: Culte OPEN DOOR: Peut-on raisonnablement croire en l’existence de Dieu? \nOrateur: Benoît Pfister \n \n10h15-11h30: Garderie & Ecole du dimanche
URL:https://actr.ch/event/culte-open-door-11/
LOCATION:ACTR\, Chemin des Trois-Rois 5\, Lausanne\, 1005\, Suisse
ATTACH;FMTTYPE=image/jpeg:https://actr.ch/wp-content/uploads/2023/02/2023.03.12_CODnew.jpg
END:VEVENT
BEGIN:VEVENT
DTSTART;TZID=Europe/Zurich:20230314T200000
DTEND;TZID=Europe/Zurich:20230314T213000
DTSTAMP:20260422T234215
CREATED:20230211T214907Z
LAST-MODIFIED:20230227T212323Z
UID:6140-1678824000-1678829400@actr.ch
SUMMARY:Soirée témoignage Portes-Ouvertes
DESCRIPTION:Mardi 14 mars 2023 \nSoirée témoignage Portes-Ouvertes \n«Quand la vie te tend des citrons\, fais de la citronnade» \nNotre oratrice découvre Jésus très jeune\, et ses parents la chassent de la maison. Ils pensent qu’elle ne tiendra pas deux semaines.\nVingt ans plus tard\, elle rayonne toujours de l’amour de Dieu. Elle est une grande source de bénédiction pour beaucoup de chrétiens en Afrique du Nord. \nDe chrétienne persécutée à business-woman pétillante\, en mission pour Jésus 24h/24\, Malika (nom d’emprunt) a une méthode:\n«Quand la vie te tend des citrons\, fais de la citronnade!»\nDes rencontres pour entendre son témoignage stimulant et plein de vitamines et booster votre foi. \nEntrée libre\, collecte en faveur des projets femmes de Portes Ouvertes. \nToutes les informations de la tournée sont ici.
URL:https://actr.ch/event/temoignage-portes-ouvertes/
LOCATION:ACTR\, Chemin des Trois-Rois 5\, Lausanne\, 1005\, Suisse
ATTACH;FMTTYPE=image/jpeg:https://actr.ch/wp-content/uploads/2023/02/2023.03.14_SoireePortesOuvertes.jpg
END:VEVENT
BEGIN:VEVENT
DTSTART;TZID=Europe/Zurich:20230319T100000
DTEND;TZID=Europe/Zurich:20230319T114500
DTSTAMP:20260422T234215
CREATED:20230211T215926Z
LAST-MODIFIED:20230318T215953Z
UID:6151-1679220000-1679226300@actr.ch
SUMMARY:Culte & Message biblique | ACCUEILLIR\, "comme Christ vous a accueillis"
DESCRIPTION:Dimanche 19 mars 2023 \n10h-11h45: Culte & Message biblique | ACCUEILLIR\, “comme Christ vous a accueillis” – Orateur: Jean Lacombe \n10h30-11h45: Ecole du dimanche & Garderie
URL:https://actr.ch/event/culte-message-biblique-accueillir/
LOCATION:ACTR\, Chemin des Trois-Rois 5\, Lausanne\, 1005\, Suisse
ATTACH;FMTTYPE=image/jpeg:https://actr.ch/wp-content/uploads/2023/02/2023.03.19_Accueillir_UneVisionPourNotreEglise.jpg
END:VEVENT
BEGIN:VEVENT
DTSTART;TZID=Europe/Zurich:20230321T200000
DTEND;TZID=Europe/Zurich:20230321T213000
DTSTAMP:20260422T234215
CREATED:20230211T215030Z
LAST-MODIFIED:20230329T200723Z
UID:6142-1679428800-1679434200@actr.ch
SUMMARY:Partage biblique sur le verbe ACCUEILLIR & Prière
DESCRIPTION:Mardi 21 mars 2023 \nPartage biblique & Prière \nReprise du verbe ACCUEILLIR [du message de dimanche] en petits groupes à l’ACTR. \nLes détails & questions à débattre sont ici.
URL:https://actr.ch/event/partage-biblique-priere-22/
LOCATION:ACTR\, Chemin des Trois-Rois 5\, Lausanne\, 1005\, Suisse
ATTACH;FMTTYPE=image/jpeg:https://actr.ch/wp-content/uploads/2023/01/2023_PartageBibliqueEtPriere.jpg
END:VEVENT
BEGIN:VEVENT
DTSTART;TZID=Europe/Zurich:20230322T120000
DTEND;TZID=Europe/Zurich:20230322T140000
DTSTAMP:20260422T234215
CREATED:20230225T224705Z
LAST-MODIFIED:20230225T224705Z
UID:6211-1679486400-1679493600@actr.ch
SUMMARY:P'tite Tablée
DESCRIPTION:Mercredi 22 mars 2023 \nP’tite tablée \nDans les locaux de l’ACTR dès 12h. \nInscription auprès d’Antoinette G. ou Elisabeth L.
URL:https://actr.ch/event/ptite-tablee-5/
LOCATION:ACTR\, Chemin des Trois-Rois 5\, Lausanne\, 1005\, Suisse
ATTACH;FMTTYPE=image/jpeg:https://actr.ch/wp-content/uploads/2023/02/2023.03.22_PtiteTablee.jpg
END:VEVENT
BEGIN:VEVENT
DTSTART;TZID=Europe/Zurich:20230322T193000
DTEND;TZID=Europe/Zurich:20230322T213000
DTSTAMP:20260422T234215
CREATED:20230130T132235Z
LAST-MODIFIED:20230130T132452Z
UID:6074-1679513400-1679520600@actr.ch
SUMMARY:AlphaLive | Jésus: Qui est Jésus?
DESCRIPTION:Mercredi 22 mars 2023 – 19h30 \nJésus: Qui est Jésus? \nExplore la vie\, la foi\, le sens: 7 sessions AlphaLive \nRepas + Exposé + Discussion \nwww.fr.alphalive.ch \nInfo & Inscription: alphalive@actr.ch
URL:https://actr.ch/event/alphalive-2/
LOCATION:ACTR\, Chemin des Trois-Rois 5\, Lausanne\, 1005\, Suisse
ATTACH;FMTTYPE=image/jpeg:https://actr.ch/wp-content/uploads/2023/01/2023.03.08_alphalive_dates.jpg
END:VEVENT
BEGIN:VEVENT
DTSTART;TZID=Europe/Zurich:20230324T190000
DTEND;TZID=Europe/Zurich:20230324T220000
DTSTAMP:20260422T234215
CREATED:20230313T121604Z
LAST-MODIFIED:20230313T121604Z
UID:6272-1679684400-1679695200@actr.ch
SUMMARY:Soirée Jeux
DESCRIPTION:Vendredi 24 mars 2023 \nSoirée Jeux \nDès 19h pour pique-niquer \nDès 19h30 pour jouer \nDans les locaux de l’ACTR.
URL:https://actr.ch/event/soiree-jeux-5/
LOCATION:ACTR\, Chemin des Trois-Rois 5\, Lausanne\, 1005\, Suisse
ATTACH;FMTTYPE=image/jpeg:https://actr.ch/wp-content/uploads/2023/03/2023.03.24_SoireeJeux.jpg
END:VEVENT
BEGIN:VEVENT
DTSTART;TZID=Europe/Zurich:20230326T100000
DTEND;TZID=Europe/Zurich:20230326T114500
DTSTAMP:20260422T234215
CREATED:20230211T220046Z
LAST-MODIFIED:20230318T220124Z
UID:6153-1679824800-1679831100@actr.ch
SUMMARY:Culte & Message biblique | Se rapprocher de Dieu pour être TRANSFORMÉ
DESCRIPTION:Dimanche 26 mars 2023 \n10h-11h45: Culte & Message biblique | Se rapprocher de Dieu pour être TRANSFORMÉ – Orateur: Stefan Waldmann \n10h30-11h45: Ecole du dimanche & Minicell
URL:https://actr.ch/event/culte-message-biblique-transformer/
LOCATION:ACTR\, Chemin des Trois-Rois 5\, Lausanne\, 1005\, Suisse
ATTACH;FMTTYPE=image/jpeg:https://actr.ch/wp-content/uploads/2023/02/2023.03.26_Transformer_UneVisionPourNotreEglise.jpg
END:VEVENT
BEGIN:VEVENT
DTSTART;TZID=Europe/Zurich:20230326T103000
DTEND;TZID=Europe/Zurich:20230326T114500
DTSTAMP:20260422T234215
CREATED:20230224T085058Z
LAST-MODIFIED:20230224T085323Z
UID:6206-1679826600-1679831100@actr.ch
SUMMARY:Minicell
DESCRIPTION:Dimanche 26 mars 2023 \n10h30-11h45: Minicell\, pour les 0-3 ans
URL:https://actr.ch/event/minicell-8/
LOCATION:ACTR\, Chemin des Trois-Rois 5\, Lausanne\, 1005\, Suisse
ATTACH;FMTTYPE=image/jpeg:https://actr.ch/wp-content/uploads/2023/02/2023.03.26_minicell.jpg
END:VEVENT
BEGIN:VEVENT
DTSTART;TZID=Europe/Zurich:20230328T200000
DTEND;TZID=Europe/Zurich:20230328T213000
DTSTAMP:20260422T234215
CREATED:20230211T215159Z
LAST-MODIFIED:20230329T200647Z
UID:6144-1680033600-1680039000@actr.ch
SUMMARY:Partage biblique sur le verbe TRANSFORMER & Prière
DESCRIPTION:Mardi 28 mars 2023 \nPartage biblique et prière \nReprise du verbe TRANSFORMER [du message de dimanche] en petits groupes à l’ACTR. \nLes questions à débattre disponibles sont ici.
URL:https://actr.ch/event/partage-biblique-priere-23/
LOCATION:ACTR\, Chemin des Trois-Rois 5\, Lausanne\, 1005\, Suisse
ATTACH;FMTTYPE=image/jpeg:https://actr.ch/wp-content/uploads/2023/01/2023_PartageBibliqueEtPriere.jpg
END:VEVENT
BEGIN:VEVENT
DTSTART;TZID=Europe/Zurich:20230329T114500
DTEND;TZID=Europe/Zurich:20230329T150000
DTSTAMP:20260422T234215
CREATED:20230313T122533Z
LAST-MODIFIED:20230313T122703Z
UID:6278-1680090300-1680102000@actr.ch
SUMMARY:Groupe de l'amitié
DESCRIPTION:Mercredi 29 mars 2023 \nÀ 11h45: Repas d’anniversaires & Quizz \nPour tous les détails de l’invitation\, c’est ici. \nInscription avant le 25 mars auprès d’Anne-Lise Flaction | flaction33@bluewin.ch – 021 731 16 58 – 079 646 86 83
URL:https://actr.ch/event/groupe-de-lamitie-3/
LOCATION:ACTR\, Chemin des Trois-Rois 5\, Lausanne\, 1005\, Suisse
ATTACH;FMTTYPE=image/jpeg:https://actr.ch/wp-content/uploads/2023/03/2023.03.29_GroupeDeLamitie.jpg
END:VEVENT
BEGIN:VEVENT
DTSTART;TZID=Europe/Zurich:20230331T183000
DTEND;TZID=Europe/Zurich:20230331T220000
DTSTAMP:20260422T234215
CREATED:20230116T134531Z
LAST-MODIFIED:20230116T165716Z
UID:5979-1680287400-1680300000@actr.ch
SUMMARY:Projet Caleb - 2ème soirée
DESCRIPTION:Vendredi 31 mars 2023 \n2ème rencontre des 5 soirées entre hommes – Le courage d’être\, le courage de vivre ensemble\, le courage d’aller \nInscription auprès de Christian (christian.cuendet@sefanet.ch ou 079 347 41 09) \n5 soirées: 24 février\, 31 mars\, 28 avril\, 26 mai\, 23 juin
URL:https://actr.ch/event/projet-caleb-2eme-soiree/
LOCATION:ACTR\, Chemin des Trois-Rois 5\, Lausanne\, 1005\, Suisse
ATTACH;FMTTYPE=image/jpeg:https://actr.ch/wp-content/uploads/2023/01/2023.02.24_ProjetCalelSansDates.jpg
END:VEVENT
END:VCALENDAR