BEGIN:VCALENDAR
VERSION:2.0
PRODID:-//ACTR - ECPv6.2.9//NONSGML v1.0//EN
CALSCALE:GREGORIAN
METHOD:PUBLISH
X-ORIGINAL-URL:https://actr.ch
X-WR-CALDESC:évènements pour ACTR
REFRESH-INTERVAL;VALUE=DURATION:PT1H
X-Robots-Tag:noindex
X-PUBLISHED-TTL:PT1H
BEGIN:VTIMEZONE
TZID:Europe/Zurich
BEGIN:DAYLIGHT
TZOFFSETFROM:+0100
TZOFFSETTO:+0200
TZNAME:CEST
DTSTART:20230326T010000
END:DAYLIGHT
BEGIN:STANDARD
TZOFFSETFROM:+0200
TZOFFSETTO:+0100
TZNAME:CET
DTSTART:20231029T010000
END:STANDARD
END:VTIMEZONE
BEGIN:VEVENT
DTSTART;TZID=Europe/Zurich:20230203T190000
DTEND;TZID=Europe/Zurich:20230205T170000
DTSTAMP:20260423T070523
CREATED:20221122T113338Z
LAST-MODIFIED:20230130T123755Z
UID:5704-1675450800-1675616400@actr.ch
SUMMARY:Weekend d'église
DESCRIPTION:Weekend d’église \nDu vendredi 3 février au dimanche 5 février\, en pension complète à la Bessonnaz \nPour finir la campagne ACTR 2023 en beauté \nMessage 5: Vivre\, c’est être unis dans l’espérance (Philippiens 3v16\, 20) – Orateur: Thomas Sanchez \nMessage 6: Vivre\, c’est courir pour gagner le Christ (Philippiens 3v12) – Orateur: Gérald Stocker \nTOUTES LES INFORMATIONS SONT DISPONIBLES ICI.
URL:https://actr.ch/event/weekend-deglise/
LOCATION:La Bessonne\, Lignerolle\, La Bessonne\, Lignerolle\, Suisse
ATTACH;FMTTYPE=image/jpeg:https://actr.ch/wp-content/uploads/2022/11/2023.02.03_WeekendDeglise.jpg
END:VEVENT
BEGIN:VEVENT
DTSTART;TZID=Europe/Zurich:20230205T093000
DTEND;TZID=Europe/Zurich:20230205T113000
DTSTAMP:20260423T070523
CREATED:20230130T073223Z
LAST-MODIFIED:20230130T123915Z
UID:6055-1675589400-1675596600@actr.ch
SUMMARY:Pas de culte à l'ACTR
DESCRIPTION:Il n’y aura pas de culte à l’ACTR le dimanche 5 février 2023. \nComme alternative\, d’autres cultes ont lieu dans la région\, comme à Renens\, Rue de la Savonnerie 7 à 9h30.
URL:https://actr.ch/event/pas-de-culte-aux-trois-rois/
ATTACH;FMTTYPE=image/jpeg:https://actr.ch/wp-content/uploads/2023/01/2023.01.29_infoCulte.jpg
END:VEVENT
BEGIN:VEVENT
DTSTART;TZID=Europe/Zurich:20230207T200000
DTEND;TZID=Europe/Zurich:20230207T213000
DTSTAMP:20260423T070523
CREATED:20230107T221646Z
LAST-MODIFIED:20230131T154512Z
UID:5925-1675800000-1675805400@actr.ch
SUMMARY:Soirée Focus Ministère
DESCRIPTION:Mardi 7 février 2023 \nSoirée Focus Ministère Pastoral
URL:https://actr.ch/event/soiree-focus-ministere/
LOCATION:ACTR\, Chemin des Trois-Rois 5\, Lausanne\, 1005\, Suisse
CATEGORIES:Activités
ATTACH;FMTTYPE=image/jpeg:https://actr.ch/wp-content/uploads/2023/01/2023.02.07_SoireeFocusMinisterePastoral_Correct.jpg
END:VEVENT
BEGIN:VEVENT
DTSTART;TZID=Europe/Zurich:20230209T100000
DTEND;TZID=Europe/Zurich:20230209T140000
DTSTAMP:20260423T070523
CREATED:20230123T115559Z
LAST-MODIFIED:20230214T205316Z
UID:6015-1675936800-1675951200@actr.ch
SUMMARY:Jeux & Amitiés
DESCRIPTION:Jeudi 9 février 2023 \nJeux & Amitiés \nDe 10h à 14h\, avec repas \nDans les locaux de l’ACTR. \nInscription auprès de Janelyse G.
URL:https://actr.ch/event/jeux-amities-7/
LOCATION:ACTR\, Chemin des Trois-Rois 5\, Lausanne\, 1005\, Suisse
ATTACH;FMTTYPE=image/jpeg:https://actr.ch/wp-content/uploads/2023/01/2023.02.09_JeuxAmities.jpg
END:VEVENT
BEGIN:VEVENT
DTSTART;TZID=Europe/Zurich:20230212T100000
DTEND;TZID=Europe/Zurich:20230212T114500
DTSTAMP:20260423T070523
CREATED:20230107T221229Z
LAST-MODIFIED:20230211T210629Z
UID:5918-1676196000-1676202300@actr.ch
SUMMARY:Culte & Message biblique
DESCRIPTION:Dimanche 12 février 2023 \n10h-11h45: Culte & Message biblique libre
URL:https://actr.ch/event/culte-message-biblique-91/
LOCATION:ACTR\, Chemin des Trois-Rois 5\, Lausanne\, 1005\, Suisse
ATTACH;FMTTYPE=image/jpeg:https://actr.ch/wp-content/uploads/2023/01/2023.02.06_newsletterimage.jpg
END:VEVENT
BEGIN:VEVENT
DTSTART;TZID=Europe/Zurich:20230214T200000
DTEND;TZID=Europe/Zurich:20230214T213000
DTSTAMP:20260423T070523
CREATED:20230107T221905Z
LAST-MODIFIED:20230211T214534Z
UID:5927-1676404800-1676410200@actr.ch
SUMMARY:Partage biblique & Prière
DESCRIPTION:Mardi 14 février 2023 \nPartage biblique et prière \nThème: “Tensions entre Judéens et Israélites” (2 Samuel 19.42-20.26)
URL:https://actr.ch/event/partage-biblique-priere-19/
LOCATION:ACTR\, Chemin des Trois-Rois 5\, Lausanne\, 1005\, Suisse
ATTACH;FMTTYPE=image/jpeg:https://actr.ch/wp-content/uploads/2023/01/2023_PartageBibliqueEtPriere.jpg
END:VEVENT
BEGIN:VEVENT
DTSTART;TZID=Europe/Zurich:20230215T120000
DTEND;TZID=Europe/Zurich:20230215T140000
DTSTAMP:20260423T070523
CREATED:20230116T212739Z
LAST-MODIFIED:20230116T212739Z
UID:5993-1676462400-1676469600@actr.ch
SUMMARY:P'tite tablée
DESCRIPTION:Mercredi 15 février 2023 \nP’tite tablée \nDans les locaux de l’ACTR dès 12h. \nInscription auprès d’Antoinette G. ou Elisabeth L.
URL:https://actr.ch/event/ptite-tablee-4/
LOCATION:ACTR\, Chemin des Trois-Rois 5\, Lausanne\, 1005\, Suisse
ATTACH;FMTTYPE=image/jpeg:https://actr.ch/wp-content/uploads/2023/01/2023.02.15_PtiteTablee.jpg
END:VEVENT
BEGIN:VEVENT
DTSTART;TZID=Europe/Zurich:20230219T100000
DTEND;TZID=Europe/Zurich:20230219T114500
DTSTAMP:20260423T070523
CREATED:20230107T221325Z
LAST-MODIFIED:20230211T211838Z
UID:5920-1676800800-1676807100@actr.ch
SUMMARY:Culte & Message biblique | "Crois en toi; Crois en Lui"
DESCRIPTION:Dimanche 19 février 2023 \n10h-11h45: Culte & Message biblique | “Crois en toi; Crois en Lui” – Orateur: Filipe F. \n10h30-11h45: Ecole du dimanche & Garderie
URL:https://actr.ch/event/culte-message-biblique-92/
LOCATION:ACTR\, Chemin des Trois-Rois 5\, Lausanne\, 1005\, Suisse
ATTACH;FMTTYPE=image/jpeg:https://actr.ch/wp-content/uploads/2023/01/2023.02.19_Culte.jpg
END:VEVENT
BEGIN:VEVENT
DTSTART;TZID=Europe/Zurich:20230221T200000
DTEND;TZID=Europe/Zurich:20230221T213000
DTSTAMP:20260423T070523
CREATED:20230107T222115Z
LAST-MODIFIED:20230211T214624Z
UID:5929-1677009600-1677015000@actr.ch
SUMMARY:Partage biblique & Prière
DESCRIPTION:Mardi 21 février 2023 \nPartage biblique et prière \nThème: “Vengeance des Gabaonites\, derniers exploits contre les Philistins” (2 Samuel 21)
URL:https://actr.ch/event/partage-biblique-priere-20/
LOCATION:ACTR\, Chemin des Trois-Rois 5\, Lausanne\, 1005\, Suisse
ATTACH;FMTTYPE=image/jpeg:https://actr.ch/wp-content/uploads/2023/01/2023_PartageBibliqueEtPriere.jpg
END:VEVENT
BEGIN:VEVENT
DTSTART;TZID=Europe/Zurich:20230224T183000
DTEND;TZID=Europe/Zurich:20230224T220000
DTSTAMP:20260423T070523
CREATED:20230116T134230Z
LAST-MODIFIED:20230116T165759Z
UID:5975-1677263400-1677276000@actr.ch
SUMMARY:Projet Caleb - 1ère soirée
DESCRIPTION:Vendredi 24 février 2023 \n1ère rencontre des 5 soirées entre hommes – Le courage d’être\, le courage de vivre ensemble\, le courage d’aller \nInscription auprès de Christian (christian.cuendet@sefanet.ch ou 079 347 41 09) \n5 soirées: 24 février\, 31 mars\, 28 avril\, 26 mai\, 23 juin
URL:https://actr.ch/event/projet-caleb-1ere-soiree/
LOCATION:ACTR\, Chemin des Trois-Rois 5\, Lausanne\, 1005\, Suisse
ATTACH;FMTTYPE=image/jpeg:https://actr.ch/wp-content/uploads/2023/01/2023.02.24_ProjetCalelSansDates.jpg
END:VEVENT
BEGIN:VEVENT
DTSTART;TZID=Europe/Zurich:20230226T100000
DTEND;TZID=Europe/Zurich:20230226T114500
DTSTAMP:20260423T070523
CREATED:20230107T221429Z
LAST-MODIFIED:20230224T082733Z
UID:5922-1677405600-1677411900@actr.ch
SUMMARY:Culte & Message biblique libre
DESCRIPTION:Dimanche 26 février 2023 \n10h-11h45: Culte & Message biblique libre \nUne collecte spéciale pour les victimes du tremblement de terre en Syrie et en Turquie aura lieu. \n10h30-11h45: Ecole du dimanche & Minicell
URL:https://actr.ch/event/culte-message-biblique-93/
LOCATION:ACTR\, Chemin des Trois-Rois 5\, Lausanne\, 1005\, Suisse
ATTACH;FMTTYPE=image/jpeg:https://actr.ch/wp-content/uploads/2023/01/2023.02.26_dimdim.jpg
END:VEVENT
BEGIN:VEVENT
DTSTART;TZID=Europe/Zurich:20230226T103000
DTEND;TZID=Europe/Zurich:20230226T114500
DTSTAMP:20260423T070523
CREATED:20230224T081802Z
LAST-MODIFIED:20230224T081802Z
UID:6199-1677407400-1677411900@actr.ch
SUMMARY:Minicell
DESCRIPTION:Dimanche 26 février 2023 \n10h30-11h45: Minicell\, pour les 0-3 ans
URL:https://actr.ch/event/minicell-7/
LOCATION:ACTR\, Chemin des Trois-Rois 5\, Lausanne\, 1005\, Suisse
ATTACH;FMTTYPE=image/jpeg:https://actr.ch/wp-content/uploads/2023/02/2023.02.26_minicell.jpg
END:VEVENT
BEGIN:VEVENT
DTSTART;TZID=Europe/Zurich:20230228T200000
DTEND;TZID=Europe/Zurich:20230228T213000
DTSTAMP:20260423T070523
CREATED:20230107T223847Z
LAST-MODIFIED:20230227T211847Z
UID:5932-1677614400-1677619800@actr.ch
SUMMARY:Partage biblique & Prière
DESCRIPTION:Mardi 28 février 2023 \nPartage biblique et prière \nThème: “Cantique de délivrance de David” (2 Samuel 22.1-51) \nPrésentateur: Clément D.
URL:https://actr.ch/event/partage-biblique-priere-21/
LOCATION:ACTR\, Chemin des Trois-Rois 5\, Lausanne\, 1005\, Suisse
ATTACH;FMTTYPE=image/jpeg:https://actr.ch/wp-content/uploads/2023/01/2023_PartageBibliqueEtPriere.jpg
END:VEVENT
END:VCALENDAR