BEGIN:VCALENDAR
VERSION:2.0
PRODID:-//ACTR - ECPv6.2.9//NONSGML v1.0//EN
CALSCALE:GREGORIAN
METHOD:PUBLISH
X-WR-CALNAME:ACTR
X-ORIGINAL-URL:https://actr.ch
X-WR-CALDESC:évènements pour ACTR
REFRESH-INTERVAL;VALUE=DURATION:PT1H
X-Robots-Tag:noindex
X-PUBLISHED-TTL:PT1H
BEGIN:VTIMEZONE
TZID:Europe/Zurich
BEGIN:DAYLIGHT
TZOFFSETFROM:+0100
TZOFFSETTO:+0200
TZNAME:CEST
DTSTART:20220327T010000
END:DAYLIGHT
BEGIN:STANDARD
TZOFFSETFROM:+0200
TZOFFSETTO:+0100
TZNAME:CET
DTSTART:20221030T010000
END:STANDARD
END:VTIMEZONE
BEGIN:VEVENT
DTSTART;TZID=Europe/Zurich:20221101T200000
DTEND;TZID=Europe/Zurich:20221101T213000
DTSTAMP:20260423T051909
CREATED:20220919T104858Z
LAST-MODIFIED:20221016T230153Z
UID:5372-1667332800-1667338200@actr.ch
SUMMARY:Soirée Prière
DESCRIPTION:Soirée prière \nFocus ministère unité
URL:https://actr.ch/event/soiree-priere-2/
LOCATION:ACTR\, Chemin des Trois-Rois 5\, Lausanne\, 1005\, Suisse
ATTACH;FMTTYPE=image/jpeg:https://actr.ch/wp-content/uploads/2022/09/2022.11.01_SoireePriereUnite.jpg
END:VEVENT
BEGIN:VEVENT
DTSTART;TZID=Europe/Zurich:20221103T100000
DTEND;TZID=Europe/Zurich:20221103T140000
DTSTAMP:20260423T051909
CREATED:20221017T201511Z
LAST-MODIFIED:20221104T134359Z
UID:5474-1667469600-1667484000@actr.ch
SUMMARY:Jeux & Amitiés
DESCRIPTION:Jeudi 3 novembre 2022 \nJeux & Amitiés \nDe 10h à 14h\, avec repas \nDans les locaux de l’ACTR. \nInscription auprès de Michèle S.
URL:https://actr.ch/event/jeux-amities-4/
LOCATION:ACTR\, Chemin des Trois-Rois 5\, Lausanne\, 1005\, Suisse
ATTACH;FMTTYPE=image/jpeg:https://actr.ch/wp-content/uploads/2022/10/2022.11.03_JeuxAmities2.jpg
END:VEVENT
BEGIN:VEVENT
DTSTART;TZID=Europe/Zurich:20221106T100000
DTEND;TZID=Europe/Zurich:20221106T114500
DTSTAMP:20260423T051909
CREATED:20220919T101225Z
LAST-MODIFIED:20220919T101225Z
UID:5350-1667728800-1667735100@actr.ch
SUMMARY:Culte & Troisième conférence spécial famille au sens large
DESCRIPTION:Dimanche 6 novembre 2022 \n10h: Culte \n11h: Conférence de Thierry & Monique Juvet \n10h30-11h45: Garderie & Ecole du dimanche
URL:https://actr.ch/event/culte-troisieme-conference-special-famille-au-sens-large/
LOCATION:ACTR\, Chemin des Trois-Rois 5\, Lausanne\, 1005\, Suisse
ATTACH;FMTTYPE=image/jpeg:https://actr.ch/wp-content/uploads/2022/09/Cartepostale_fond-4sept.jpg
END:VEVENT
BEGIN:VEVENT
DTSTART;TZID=Europe/Zurich:20221106T110000
DTEND;TZID=Europe/Zurich:20221106T114500
DTSTAMP:20260423T051909
CREATED:20220919T101532Z
LAST-MODIFIED:20220921T191144Z
UID:5352-1667732400-1667735100@actr.ch
SUMMARY:Troisième conférence spécial famille au sens large: Les conflits\, une école de l'amour
DESCRIPTION:Dimanche 6 novembre 2022 \n11h: Conférence de Thierry & Monique Juvet: Les conflits\, une école de l’amour
URL:https://actr.ch/event/troisieme-conference-special-famille-au-sens-large-les-conflits-une-ecole-de-lamour/
LOCATION:ACTR\, Chemin des Trois-Rois 5\, Lausanne\, 1005\, Suisse
ATTACH;FMTTYPE=image/png:https://actr.ch/wp-content/uploads/2022/09/Conf3_SpecialFamille.png
END:VEVENT
BEGIN:VEVENT
DTSTART;TZID=Europe/Zurich:20221108T200000
DTEND;TZID=Europe/Zurich:20221108T213000
DTSTAMP:20260423T051909
CREATED:20220919T095516Z
LAST-MODIFIED:20220919T095516Z
UID:5330-1667937600-1667943000@actr.ch
SUMMARY:Partage biblique & Prière
DESCRIPTION:Partage biblique et prière \nThème: “Retour d’Absalom” (2 Samuel 14) \nIntroduit par Christian C.
URL:https://actr.ch/event/partage-biblique-priere-12/
LOCATION:ACTR\, Chemin des Trois-Rois 5\, Lausanne\, 1005\, Suisse
ATTACH;FMTTYPE=image/jpeg:https://actr.ch/wp-content/uploads/2017/05/ACTR-la-parole-de-Dieu-1-e1496258536129.jpg
END:VEVENT
BEGIN:VEVENT
DTSTART;TZID=Europe/Zurich:20221113T100000
DTEND;TZID=Europe/Zurich:20221113T114500
DTSTAMP:20260423T051909
CREATED:20220919T101647Z
LAST-MODIFIED:20221108T100050Z
UID:5355-1668333600-1668339900@actr.ch
SUMMARY:Culte & Message biblique
DESCRIPTION:Dimanche 13 novembre 2022 \n10h-11h45: Culte & Message biblique | L’église persécutée – Orateur: Raymond F. \nCollecte spéciale pour les réfugiés Afghans: soutien pour l’hébergement et la subsistance de réfugiés chrétiens dans un pays adjacent à forte majorité musulmane\nCCP: 10-274393-2\, Portes ouvertes Suisse\, mention “Réfugiés afghans” \n10h30-11h45: Minicell & Ecole du dimanche
URL:https://actr.ch/event/culte-message-biblique-88/
LOCATION:ACTR\, Chemin des Trois-Rois 5\, Lausanne\, 1005\, Suisse
ATTACH;FMTTYPE=image/jpeg:https://actr.ch/wp-content/uploads/2022/09/2022.11.13_EglisePer.jpg
END:VEVENT
BEGIN:VEVENT
DTSTART;TZID=Europe/Zurich:20221113T103000
DTEND;TZID=Europe/Zurich:20221113T114500
DTSTAMP:20260423T051909
CREATED:20220919T101846Z
LAST-MODIFIED:20220919T102610Z
UID:5359-1668335400-1668339900@actr.ch
SUMMARY:Minicell
DESCRIPTION:Dimanche 13 novembre 2022 \n10h30-11h45: Minicell\, pour les 0-3 ans \nAnimé par Justine
URL:https://actr.ch/event/minicell-5/
LOCATION:ACTR\, Chemin des Trois-Rois 5\, Lausanne\, 1005\, Suisse
ATTACH;FMTTYPE=image/jpeg:https://actr.ch/wp-content/uploads/2022/09/2022.10.13_minicell.jpg
END:VEVENT
BEGIN:VEVENT
DTSTART;TZID=Europe/Zurich:20221113T120000
DTEND;TZID=Europe/Zurich:20221113T160000
DTSTAMP:20260423T051909
CREATED:20221016T231319Z
LAST-MODIFIED:20221017T142149Z
UID:5461-1668340800-1668355200@actr.ch
SUMMARY:Repas invité-invitant
DESCRIPTION:Dimanche 13 novembre 2022 \nRepas invité-invitant.  \nLes moments d’échanges et de partages sont précieux. Pour que ces liens puissent être entretenus\, un repas convivial entre générations vous est proposé. Deux possibilités s’ouvrent à vous: recevoir à votre table  [ou]  être invité. \nMerci de vous inscrire jusqu’au 31 octobre auprès de Sylviane M. \nPour voir le recto & le verso du flyer\, c’est ici.
URL:https://actr.ch/event/repas-invite-invitant/
ATTACH;FMTTYPE=image/jpeg:https://actr.ch/wp-content/uploads/2022/10/2022.11.13_RepasInvite-invitant_Recto.jpg
END:VEVENT
BEGIN:VEVENT
DTSTART;TZID=Europe/Zurich:20221115T200000
DTEND;TZID=Europe/Zurich:20221115T213000
DTSTAMP:20260423T051909
CREATED:20220919T095652Z
LAST-MODIFIED:20220919T095652Z
UID:5332-1668542400-1668547800@actr.ch
SUMMARY:Partage biblique & Prière
DESCRIPTION:Partage biblique et prière \nThème: “Prise de pouvoir d’Absalom et fuite de David” (2 Samuel 15)
URL:https://actr.ch/event/partage-biblique-priere-13/
LOCATION:ACTR\, Chemin des Trois-Rois 5\, Lausanne\, 1005\, Suisse
ATTACH;FMTTYPE=image/jpeg:https://actr.ch/wp-content/uploads/2017/05/ACTR-la-parole-de-Dieu-1-e1496258536129.jpg
END:VEVENT
BEGIN:VEVENT
DTSTART;TZID=Europe/Zurich:20221120T100000
DTEND;TZID=Europe/Zurich:20221120T150000
DTSTAMP:20260423T051909
CREATED:20220919T102119Z
LAST-MODIFIED:20221114T144644Z
UID:5361-1668938400-1668956400@actr.ch
SUMMARY:Culte & Message biblique |  Moi je suis la résurrection et la vie... Crois-tu cela?\, puis repas & partage de la vision commune des anciens
DESCRIPTION:Dimanche 20 novembre 2022 \n10h-11h45: Culte & Message biblique | Moi je suis la résurrection et la vie… Crois-tu cela? – Orateur: Christophe A\, prédication basée sur Jean 11 \n10h30-11h45: Ecole du dimanche & Garderie \n12h30: Repas\, puis partage de la vision commune des anciens suite à leur weekend retraite à Leysin
URL:https://actr.ch/event/culte-message-biblique-89/
LOCATION:ACTR\, Chemin des Trois-Rois 5\, Lausanne\, 1005\, Suisse
ATTACH;FMTTYPE=image/png:https://actr.ch/wp-content/uploads/2022/09/2022.11.20_LeysinJPG.png
END:VEVENT
BEGIN:VEVENT
DTSTART;TZID=Europe/Zurich:20221120T133000
DTEND;TZID=Europe/Zurich:20221120T150000
DTSTAMP:20260423T051909
CREATED:20221108T100401Z
LAST-MODIFIED:20221114T143635Z
UID:5539-1668951000-1668956400@actr.ch
SUMMARY:Partage de la vision commune des anciens
DESCRIPTION:Dimanche 20 novembre 2022 \nLes anciens se sont retrouvés pour une retraite à Leysin. Ils auront le plaisir de vous partager leur vision commune.
URL:https://actr.ch/event/retour-des-anciens/
LOCATION:ACTR\, Chemin des Trois-Rois 5\, Lausanne\, 1005\, Suisse
ATTACH;FMTTYPE=image/png:https://actr.ch/wp-content/uploads/2022/09/2022.11.20_LeysinJPG.png
END:VEVENT
BEGIN:VEVENT
DTSTART;TZID=Europe/Zurich:20221122T200000
DTEND;TZID=Europe/Zurich:20221122T213000
DTSTAMP:20260423T051909
CREATED:20220919T095813Z
LAST-MODIFIED:20220919T095813Z
UID:5334-1669147200-1669152600@actr.ch
SUMMARY:Partage biblique & Prière
DESCRIPTION:Partage biblique et prière \nThème: “Malédiction contre David” (2 Samuel 16-17.4)
URL:https://actr.ch/event/partage-biblique-priere-14/
LOCATION:ACTR\, Chemin des Trois-Rois 5\, Lausanne\, 1005\, Suisse
ATTACH;FMTTYPE=image/jpeg:https://actr.ch/wp-content/uploads/2017/05/ACTR-la-parole-de-Dieu-1-e1496258536129.jpg
END:VEVENT
BEGIN:VEVENT
DTSTART;TZID=Europe/Zurich:20221124T140000
DTEND;TZID=Europe/Zurich:20221124T160000
DTSTAMP:20260423T051909
CREATED:20221107T195140Z
LAST-MODIFIED:20221107T195140Z
UID:5521-1669298400-1669305600@actr.ch
SUMMARY:Atelier d'après-midi
DESCRIPTION:Jeudi 24 novembre 2022 \nAtelier d’après-midi \n14-16h: Création de chaînes-décorative \nInscription nécessaire auprès d’Antoinette [078.738.89.73] Places limitées & participation aux frais.
URL:https://actr.ch/event/atelier-dapres-midi/
LOCATION:ACTR\, Chemin des Trois-Rois 5\, Lausanne\, 1005\, Suisse
ATTACH;FMTTYPE=image/png:https://actr.ch/wp-content/uploads/2022/11/2022.11.24_AtelierDapresmidi.png
END:VEVENT
BEGIN:VEVENT
DTSTART;TZID=Europe/Zurich:20221125T190000
DTEND;TZID=Europe/Zurich:20221125T220000
DTSTAMP:20260423T051909
CREATED:20221121T143406Z
LAST-MODIFIED:20221121T143416Z
UID:5665-1669402800-1669413600@actr.ch
SUMMARY:Soirée Jeux
DESCRIPTION:Vendredi 25 novembre 2022 \nSoirée Jeux \nDès 19h pour pique-niquer \nDès 19h30 pour jouer \nDans les locaux de l’ACTR.
URL:https://actr.ch/event/5665/
LOCATION:ACTR\, Chemin des Trois-Rois 5\, Lausanne\, 1005\, Suisse
ATTACH;FMTTYPE=image/jpeg:https://actr.ch/wp-content/uploads/2022/11/2022.11.25_SoireeJeux.jpg
END:VEVENT
BEGIN:VEVENT
DTSTART;TZID=Europe/Zurich:20221126T100000
DTEND;TZID=Europe/Zurich:20221126T120000
DTSTAMP:20260423T051909
CREATED:20221107T195744Z
LAST-MODIFIED:20221107T195744Z
UID:5524-1669456800-1669464000@actr.ch
SUMMARY:Matinée d'ateliers
DESCRIPTION:Samedi 26 novembre 2022 \nMatinée d’ateliers \n10-12h:  \n\nCréation de couronnes  – inscription auprès de Maya [079.698.84.93]\nConfection de biscuits – inscription auprès de Liliane [076.428.99.28]\nCréation de chaînes-décorative – inscription auprès d’Antoinette [078.738.89.73]\n\nInscription nécessaire. Places limitées & participation aux frais.
URL:https://actr.ch/event/matinee-dateliers/
LOCATION:ACTR\, Chemin des Trois-Rois 5\, Lausanne\, 1005\, Suisse
ATTACH;FMTTYPE=image/png:https://actr.ch/wp-content/uploads/2022/11/2022.11.26_MatineeDateliers.png
END:VEVENT
BEGIN:VEVENT
DTSTART;TZID=Europe/Zurich:20221127T100000
DTEND;TZID=Europe/Zurich:20221127T113000
DTSTAMP:20260423T051909
CREATED:20220919T102302Z
LAST-MODIFIED:20221107T200113Z
UID:5363-1669543200-1669548600@actr.ch
SUMMARY:CULTE OPEN DOOR
DESCRIPTION:Dimanche 27 novembre 2022 \n10h-11h30: Culte OPEN DOOR: Si Dieu est si bon\, pourquoi les chrétiens peuvent-ils être si mauvais? \nOrateur: Simon Grunder \n10h30-11h30: Garderie & Ecole du dimanche
URL:https://actr.ch/event/culte-open-door-10/
LOCATION:ACTR\, Chemin des Trois-Rois 5\, Lausanne\, 1005\, Suisse
ATTACH;FMTTYPE=image/jpeg:https://actr.ch/wp-content/uploads/2022/09/2022.11.27_CulteOpenDoor-scaled.jpg
END:VEVENT
BEGIN:VEVENT
DTSTART;TZID=Europe/Zurich:20221129T200000
DTEND;TZID=Europe/Zurich:20221129T213000
DTSTAMP:20260423T051909
CREATED:20220919T100032Z
LAST-MODIFIED:20220919T100032Z
UID:5336-1669752000-1669757400@actr.ch
SUMMARY:Partage biblique & Prière
DESCRIPTION:Partage biblique et prière \nThème: “Hushaï face à Absalom et David” (2 Samuel 17.5-18)
URL:https://actr.ch/event/partage-biblique-priere-15/
LOCATION:ACTR\, Chemin des Trois-Rois 5\, Lausanne\, 1005\, Suisse
ATTACH;FMTTYPE=image/jpeg:https://actr.ch/wp-content/uploads/2017/05/ACTR-la-parole-de-Dieu-1-e1496258536129.jpg
END:VEVENT
BEGIN:VEVENT
DTSTART;TZID=Europe/Zurich:20221130T120000
DTEND;TZID=Europe/Zurich:20221130T140000
DTSTAMP:20260423T051909
CREATED:20221123T212929Z
LAST-MODIFIED:20221127T190856Z
UID:5729-1669809600-1669816800@actr.ch
SUMMARY:P'tite tablée
DESCRIPTION:Mercredi 30 novembre 2022 \nP’tite tablée \nDans les locaux de l’ACTR dès 12h. \nInscription auprès d’Antoinette G. ou Elisabeth L.
URL:https://actr.ch/event/ptite-tablee-2/
LOCATION:ACTR\, Chemin des Trois-Rois 5\, Lausanne\, 1005\, Suisse
ATTACH;FMTTYPE=image/jpeg:https://actr.ch/wp-content/uploads/2022/11/2022.11.30_PtiteTableeNewJ.jpg
END:VEVENT
END:VCALENDAR