BEGIN:VCALENDAR
VERSION:2.0
PRODID:-//ACTR - ECPv6.2.9//NONSGML v1.0//EN
CALSCALE:GREGORIAN
METHOD:PUBLISH
X-ORIGINAL-URL:https://actr.ch
X-WR-CALDESC:évènements pour ACTR
REFRESH-INTERVAL;VALUE=DURATION:PT1H
X-Robots-Tag:noindex
X-PUBLISHED-TTL:PT1H
BEGIN:VTIMEZONE
TZID:Europe/Zurich
BEGIN:DAYLIGHT
TZOFFSETFROM:+0100
TZOFFSETTO:+0200
TZNAME:CEST
DTSTART:20220327T010000
END:DAYLIGHT
BEGIN:STANDARD
TZOFFSETFROM:+0200
TZOFFSETTO:+0100
TZNAME:CET
DTSTART:20221030T010000
END:STANDARD
END:VTIMEZONE
BEGIN:VEVENT
DTSTART;TZID=Europe/Zurich:20221002T100000
DTEND;TZID=Europe/Zurich:20221002T113000
DTSTAMP:20260423T111707
CREATED:20220905T131422Z
LAST-MODIFIED:20220926T113729Z
UID:5269-1664704800-1664710200@actr.ch
SUMMARY:Culte OPEN DOOR
DESCRIPTION:Dimanche 2 octobre 2022 \n10h00-11h30: Culte OPEN DOOR \nOrateur: Christophe Argaud    -> Teaser \n10h30-11h30: Garderie & Ecole du dimanche \nDès 12h00: Repas [Burgers] \n  \n-> invitation en pdf
URL:https://actr.ch/event/culte-open-door-9/
LOCATION:ACTR\, Chemin des Trois-Rois 5\, Lausanne\, 1005\, Suisse
ATTACH;FMTTYPE=image/png:https://actr.ch/wp-content/uploads/2022/09/2022.10.02_CulteOpenDoor_Argaud.png
END:VEVENT
BEGIN:VEVENT
DTSTART;TZID=Europe/Zurich:20221004T200000
DTEND;TZID=Europe/Zurich:20221004T213000
DTSTAMP:20260423T111707
CREATED:20220817T134458Z
LAST-MODIFIED:20220926T113139Z
UID:5166-1664913600-1664919000@actr.ch
SUMMARY:Soirée prière
DESCRIPTION:Soirée prière \nFocus ministère louange \nIntroduit par Benoît P.
URL:https://actr.ch/event/soiree-priere/
LOCATION:ACTR\, Chemin des Trois-Rois 5\, Lausanne\, 1005\, Suisse
ATTACH;FMTTYPE=image/jpeg:https://actr.ch/wp-content/uploads/2022/08/2022.10.04_SoireePriere_FocusMinistereLouange.jpg
END:VEVENT
BEGIN:VEVENT
DTSTART;TZID=Europe/Zurich:20221006T100000
DTEND;TZID=Europe/Zurich:20221006T140000
DTSTAMP:20260423T111707
CREATED:20220926T112740Z
LAST-MODIFIED:20220926T112740Z
UID:5390-1665050400-1665064800@actr.ch
SUMMARY:Jeux & Amitiés
DESCRIPTION:Jeux & Amitiés \n10h-14\, avec repas \nDans les locaux de l’ACTR. \nInscription auprès de Janelyse
URL:https://actr.ch/event/jeux-amities-3/
LOCATION:ACTR\, Chemin des Trois-Rois 5\, Lausanne\, 1005\, Suisse
ATTACH;FMTTYPE=image/jpeg:https://actr.ch/wp-content/uploads/2022/09/2022.10.06_JeuxAmities.jpg
END:VEVENT
BEGIN:VEVENT
DTSTART;TZID=Europe/Zurich:20221009T100000
DTEND;TZID=Europe/Zurich:20221009T150000
DTSTAMP:20260423T111707
CREATED:20220909T211115Z
LAST-MODIFIED:20220909T211115Z
UID:5289-1665309600-1665327600@actr.ch
SUMMARY:Culte & Deuxième conférence "Spécial Famille au sens large"
DESCRIPTION:Dimanche 9 octobre 2022 \nProgramme: \n10h: Culte \n11h: Conférence de Jan & Corinne Haury \n12h15: Repas en commun [préparé par l’ACTR] \n13h30-15h: 2 ateliers; animation prévue pour les enfants
URL:https://actr.ch/event/culte-deuxieme-conference-special-famille-au-sens-large/
LOCATION:ACTR\, Chemin des Trois-Rois 5\, Lausanne\, 1005\, Suisse
ATTACH;FMTTYPE=image/jpeg:https://actr.ch/wp-content/uploads/2022/09/Cartepostale_fond-4sept.jpg
END:VEVENT
BEGIN:VEVENT
DTSTART;TZID=Europe/Zurich:20221009T110000
DTEND;TZID=Europe/Zurich:20221009T150000
DTSTAMP:20260423T111707
CREATED:20220909T211702Z
LAST-MODIFIED:20220909T211702Z
UID:5292-1665313200-1665327600@actr.ch
SUMMARY:Deuxième conférence Spécial Famille au sens large: Mieux communiquer pour mieux s'aimer
DESCRIPTION:Dimanche 9 octobre 2022 \n11h: Conférence de Jan & Corinne Haury \n12h30: Repas en commun [préparé par l’ACTR] \n13h30-15h: Deux ateliers: 1) Communiquer en temps de crise (micro ou macro évènement) – 2) Comment communiquer – pour éviter le conflit – au milieu du conflit – après le conflit ; animation prévue pour les enfants
URL:https://actr.ch/event/deuxieme-conference-special-famille-au-sens-large-mieux-communiquer-pour-mieux-saimer/
LOCATION:ACTR\, Chemin des Trois-Rois 5\, Lausanne\, 1005\, Suisse
ATTACH;FMTTYPE=image/jpeg:https://actr.ch/wp-content/uploads/2022/09/2022.10.09_DeuxiemeConfSpecialFamille.jpg
END:VEVENT
BEGIN:VEVENT
DTSTART;TZID=Europe/Zurich:20221011T200000
DTEND;TZID=Europe/Zurich:20221011T213000
DTSTAMP:20260423T111707
CREATED:20220919T094802Z
LAST-MODIFIED:20220919T094802Z
UID:5323-1665518400-1665523800@actr.ch
SUMMARY:Partage biblique & Prière
DESCRIPTION:Partage biblique et prière \nThème: “Adultère et crime de David (1): Les faits” (2 Samuel 11) \nIntroduit par Jacques R.
URL:https://actr.ch/event/partage-biblique-priere-9/
LOCATION:ACTR\, Chemin des Trois-Rois 5\, Lausanne\, 1005\, Suisse
ATTACH;FMTTYPE=image/jpeg:https://actr.ch/wp-content/uploads/2017/05/ACTR-la-parole-de-Dieu-1-e1496258536129.jpg
END:VEVENT
BEGIN:VEVENT
DTSTART;TZID=Europe/Zurich:20221012T143000
DTEND;TZID=Europe/Zurich:20221012T170000
DTSTAMP:20260423T111707
CREATED:20221001T210237Z
LAST-MODIFIED:20221001T210752Z
UID:5398-1665585000-1665594000@actr.ch
SUMMARY:Groupe de l'amitié - Sortie
DESCRIPTION:Mercredi 12 octobre 2022\, à 14h30 \nGroupe de l’amitié\, sortie au moulin de Sévery \nPour visualiser l’invitation & pour tout détails\, c’est ici. \n 
URL:https://actr.ch/event/groupe-de-lamitie-sortie/
LOCATION:Route du Moulin 10\, 1141 Sévery\, Route du Moulin 10\, Sévery\, 1141\, Suisse
ATTACH;FMTTYPE=image/jpeg:https://actr.ch/wp-content/uploads/2022/10/2022.10.12_Groupe-.jpg
END:VEVENT
BEGIN:VEVENT
DTSTART;TZID=Europe/Zurich:20221016T100000
DTEND;TZID=Europe/Zurich:20221016T114500
DTSTAMP:20260423T111707
CREATED:20220919T100413Z
LAST-MODIFIED:20221009T192102Z
UID:5342-1665914400-1665920700@actr.ch
SUMMARY:Culte & Message biblique
DESCRIPTION:Dimanche 16 octobre 2022 \n10h-11h45: Culte & Message biblique \n10h30-11h45: Ecole du dimanche & Garderie
URL:https://actr.ch/event/culte-message-biblique-85/
LOCATION:ACTR\, Chemin des Trois-Rois 5\, Lausanne\, 1005\, Suisse
ATTACH;FMTTYPE=image/jpeg:https://actr.ch/wp-content/uploads/2022/09/2022.10.16_lastlast.jpg
END:VEVENT
BEGIN:VEVENT
DTSTART;TZID=Europe/Zurich:20221018T200000
DTEND;TZID=Europe/Zurich:20221018T213000
DTSTAMP:20260423T111707
CREATED:20220919T095029Z
LAST-MODIFIED:20221007T220727Z
UID:5325-1666123200-1666128600@actr.ch
SUMMARY:Partage biblique & Prière
DESCRIPTION:Partage biblique et prière \nThème: “Adultère et crime de David (2): Prise de conscience et repentance” (2 Samuel 12) \nIntroduit par Clément D.
URL:https://actr.ch/event/partage-biblique-priere-10/
LOCATION:ACTR\, Chemin des Trois-Rois 5\, Lausanne\, 1005\, Suisse
ATTACH;FMTTYPE=image/jpeg:https://actr.ch/wp-content/uploads/2017/05/ACTR-la-parole-de-Dieu-1-e1496258536129.jpg
END:VEVENT
BEGIN:VEVENT
DTSTART;TZID=Europe/Zurich:20221023T100000
DTEND;TZID=Europe/Zurich:20221023T114500
DTSTAMP:20260423T111707
CREATED:20220919T100513Z
LAST-MODIFIED:20221016T230040Z
UID:5344-1666519200-1666525500@actr.ch
SUMMARY:Culte & Message biblique libre
DESCRIPTION:Dimanche 23 octobre 2022 \n10h-11h45: Culte & Message biblique libre \n10h30-11h45: Ecole du dimanche & Garderie
URL:https://actr.ch/event/culte-message-biblique-86/
LOCATION:ACTR\, Chemin des Trois-Rois 5\, Lausanne\, 1005\, Suisse
ATTACH;FMTTYPE=image/jpeg:https://actr.ch/wp-content/uploads/2022/09/20221023_image.jpg
END:VEVENT
BEGIN:VEVENT
DTSTART;TZID=Europe/Zurich:20221025T200000
DTEND;TZID=Europe/Zurich:20221025T213000
DTSTAMP:20260423T111707
CREATED:20220919T095308Z
LAST-MODIFIED:20220919T095308Z
UID:5328-1666728000-1666733400@actr.ch
SUMMARY:Partage biblique & Prière
DESCRIPTION:Partage biblique et prière \nThème: “Viol de Tamar\, assassinat d’Amnon\, fuite d’Absalom (2 Samuel 13) \nIntroduit par Stéphane R.
URL:https://actr.ch/event/partage-biblique-priere-11/
LOCATION:ACTR\, Chemin des Trois-Rois 5\, Lausanne\, 1005\, Suisse
ATTACH;FMTTYPE=image/jpeg:https://actr.ch/wp-content/uploads/2017/05/ACTR-la-parole-de-Dieu-1-e1496258536129.jpg
END:VEVENT
BEGIN:VEVENT
DTSTART;TZID=Europe/Zurich:20221026T120000
DTEND;TZID=Europe/Zurich:20221026T140000
DTSTAMP:20260423T111707
CREATED:20221016T230816Z
LAST-MODIFIED:20221017T203418Z
UID:5458-1666785600-1666792800@actr.ch
SUMMARY:P'tite tablée
DESCRIPTION:Mercredi 26 octobre 2022 \nP’tite tablée \nDans les locaux de l’ACTR dès 12h. \nInscription auprès d’Antoinette G. ou Elisabeth L.
URL:https://actr.ch/event/ptite-tablee/
LOCATION:ACTR\, Chemin des Trois-Rois 5\, Lausanne\, 1005\, Suisse
ATTACH;FMTTYPE=image/jpeg:https://actr.ch/wp-content/uploads/2022/10/2022.10.26_PtiteTableeAimprimer.jpg
END:VEVENT
BEGIN:VEVENT
DTSTART;TZID=Europe/Zurich:20221028T190000
DTEND;TZID=Europe/Zurich:20221028T220000
DTSTAMP:20260423T111707
CREATED:20221017T201157Z
LAST-MODIFIED:20221017T201157Z
UID:5471-1666983600-1666994400@actr.ch
SUMMARY:Soirée Jeux
DESCRIPTION:Vendredi 28 octobre 2022 \nSoirée Jeux \nDès 19h pour pique-niquer \nDès 19h30 pour jouer \nDans les locaux de l’ACTR.
URL:https://actr.ch/event/soiree-jeux-3/
LOCATION:ACTR\, Chemin des Trois-Rois 5\, Lausanne\, 1005\, Suisse
ATTACH;FMTTYPE=image/jpeg:https://actr.ch/wp-content/uploads/2022/10/2022.10.28_SoireeJeux.jpg
END:VEVENT
BEGIN:VEVENT
DTSTART;TZID=Europe/Zurich:20221030T100000
DTEND;TZID=Europe/Zurich:20221030T114500
DTSTAMP:20260423T111707
CREATED:20220919T100603Z
LAST-MODIFIED:20221024T151848Z
UID:5346-1667124000-1667130300@actr.ch
SUMMARY:Culte & Message biblique "1Corinthiens 10: Comment vivre intelligemment sa liberté" - Orateur: Jean L.
DESCRIPTION:Dimanche 30 octobre 2022 \n10h-11h45: Culte & Message biblique “1Corinthiens 10: Comment vivre intelligemment sa liberté” – Orateur: Jean L. [En amont. les chapitres 8 à 10 peuvent être lus]. Introduction & animation du culte par le groupe de jeunes \n10h30-11h45: Garderie & Ecole du dimanche
URL:https://actr.ch/event/culte-message-biblique-87/
LOCATION:ACTR\, Chemin des Trois-Rois 5\, Lausanne\, 1005\, Suisse
ATTACH;FMTTYPE=image/jpeg:https://actr.ch/wp-content/uploads/2022/09/2022.10.24_piclausanne.jpg
END:VEVENT
END:VCALENDAR