BEGIN:VCALENDAR
VERSION:2.0
PRODID:-//ACTR - ECPv6.2.9//NONSGML v1.0//EN
CALSCALE:GREGORIAN
METHOD:PUBLISH
X-ORIGINAL-URL:https://actr.ch
X-WR-CALDESC:évènements pour ACTR
REFRESH-INTERVAL;VALUE=DURATION:PT1H
X-Robots-Tag:noindex
X-PUBLISHED-TTL:PT1H
BEGIN:VTIMEZONE
TZID:Europe/Zurich
BEGIN:DAYLIGHT
TZOFFSETFROM:+0100
TZOFFSETTO:+0200
TZNAME:CEST
DTSTART:20220327T010000
END:DAYLIGHT
BEGIN:STANDARD
TZOFFSETFROM:+0200
TZOFFSETTO:+0100
TZNAME:CET
DTSTART:20221030T010000
END:STANDARD
END:VTIMEZONE
BEGIN:VEVENT
DTSTART;TZID=Europe/Zurich:20220901T100000
DTEND;TZID=Europe/Zurich:20220901T130000
DTSTAMP:20260423T111546
CREATED:20220829T205309Z
LAST-MODIFIED:20220829T211916Z
UID:5246-1662026400-1662037200@actr.ch
SUMMARY:Jeux & Amitiés
DESCRIPTION:Jeudi 1 septembre 2022 \n10h-13h\, avec repas : Jeux & Amitiés \nInscription auprès de Janelyse
URL:https://actr.ch/event/jeux-amities-2/
LOCATION:ACTR\, Chemin des Trois-Rois 5\, Lausanne\, 1005\, Suisse
ATTACH;FMTTYPE=image/jpeg:https://actr.ch/wp-content/uploads/2022/08/2022.09.01_JeuxAmitiesCP.jpg
END:VEVENT
BEGIN:VEVENT
DTSTART;TZID=Europe/Zurich:20220904T100000
DTEND;TZID=Europe/Zurich:20220904T150000
DTSTAMP:20260423T111546
CREATED:20220817T141605Z
LAST-MODIFIED:20220817T141605Z
UID:5188-1662285600-1662303600@actr.ch
SUMMARY:Culte & Première conférence "Spécial Famille au sens large"
DESCRIPTION:Dimanche 4 septembre 2022 \nProgramme: \n10h: Culte \n11h: Conférence de Guy Zeller \n12h30: Repas préparé par l’ACTR \n13h30-15h: Ateliers animés par Guy Zeller et Noémie & Loïc Marsch; animation prévue pour les enfants
URL:https://actr.ch/event/culte-premiere-conference-special-famille-au-sens-large/
LOCATION:ACTR\, Chemin des Trois-Rois 5\, Lausanne\, 1005\, Suisse
ATTACH;FMTTYPE=image/jpeg:https://actr.ch/wp-content/uploads/2022/08/2022.09.04_dim.jpg
END:VEVENT
BEGIN:VEVENT
DTSTART;TZID=Europe/Zurich:20220904T110000
DTEND;TZID=Europe/Zurich:20220904T150000
DTSTAMP:20260423T111546
CREATED:20220817T141756Z
LAST-MODIFIED:20220822T203450Z
UID:5192-1662289200-1662303600@actr.ch
SUMMARY:Première conférence Spécial Famille au sens large: Une vision pour les enfants dans l'église
DESCRIPTION:Dimanche 4 septembre 2022 \n11h: Conférence de Guy Zeller [Une vision pour les enfants dans l’église] \n12h30: Repas préparé par l’ACTR \n13h30-15h: Ateliers animés par Guy Zeller et Noémie & Loïc Marsch: 1) Devenir des pères et des mères qui reflètent le Père 2) Vivre la foi en famille – Animation prévue pour les enfants
URL:https://actr.ch/event/premiere-conference-special-famille-au-sens-large/
LOCATION:ACTR\, Chemin des Trois-Rois 5\, Lausanne\, 1005\, Suisse
ATTACH;FMTTYPE=image/jpeg:https://actr.ch/wp-content/uploads/2022/08/2022.09.04_Une-vision-pour-les-enfants-dans-leglise.jpg
END:VEVENT
BEGIN:VEVENT
DTSTART;TZID=Europe/Zurich:20220906T200000
DTEND;TZID=Europe/Zurich:20220906T213000
DTSTAMP:20260423T111546
CREATED:20220817T133829Z
LAST-MODIFIED:20220829T205027Z
UID:5156-1662494400-1662499800@actr.ch
SUMMARY:Soirée prière
DESCRIPTION:Soirée prière \nFocus ministère enfance / jeunesse
URL:https://actr.ch/event/partage-biblique-priere-5/
LOCATION:ACTR\, Chemin des Trois-Rois 5\, Lausanne\, 1005\, Suisse
ATTACH;FMTTYPE=image/jpeg:https://actr.ch/wp-content/uploads/2022/08/2022.09.06_SoireePriereCP.jpg
END:VEVENT
BEGIN:VEVENT
DTSTART;TZID=Europe/Zurich:20220907T143000
DTEND;TZID=Europe/Zurich:20220907T163000
DTSTAMP:20260423T111546
CREATED:20220829T205742Z
LAST-MODIFIED:20220909T204430Z
UID:5249-1662561000-1662568200@actr.ch
SUMMARY:Groupe de l'amitié
DESCRIPTION:Mercredi 7 septembre 2022 \nDès 14h30: Conférence de la Mission Braille\, suivie d’une collation \nPlus de détails\, ici. \nInscription auprès de Anne-Lise Flaction flaction33@bluewin.ch – 021 731 16 58 – 079 646 86 83
URL:https://actr.ch/event/groupe-de-lamitie/
LOCATION:ACTR\, Chemin des Trois-Rois 5\, Lausanne\, 1005\, Suisse
ATTACH;FMTTYPE=image/jpeg:https://actr.ch/wp-content/uploads/2022/08/2022.09.07_GroupeDelamitie.jpg
END:VEVENT
BEGIN:VEVENT
DTSTART;TZID=Europe/Zurich:20220911T100000
DTEND;TZID=Europe/Zurich:20220911T114500
DTSTAMP:20260423T111546
CREATED:20220905T131226Z
LAST-MODIFIED:20220905T135530Z
UID:5267-1662890400-1662896700@actr.ch
SUMMARY:Culte & Message biblique
DESCRIPTION:Dimanche 11 septembre 2022 \n10h00-11h45: Culte & Message biblique libre \n10h30-11h45: Garderie & Ecole du dimanche
URL:https://actr.ch/event/culte-message-biblique-83/
LOCATION:ACTR\, Chemin des Trois-Rois 5\, Lausanne\, 1005\, Suisse
ATTACH;FMTTYPE=image/png:https://actr.ch/wp-content/uploads/2022/09/2022.09.11_montagne.enjpg_.png
END:VEVENT
BEGIN:VEVENT
DTSTART;TZID=Europe/Zurich:20220913T200000
DTEND;TZID=Europe/Zurich:20220913T213000
DTSTAMP:20260423T111546
CREATED:20220817T134032Z
LAST-MODIFIED:20220817T134032Z
UID:5160-1663099200-1663104600@actr.ch
SUMMARY:Partage biblique & Prière
DESCRIPTION:Partage biblique et prière \nThème: “Apogée de David (1): Une promesse pour sa maison” (2 Samuel 7) \nIntroduit par Eric Lecomte
URL:https://actr.ch/event/partage-biblique-priere-6/
LOCATION:ACTR\, Chemin des Trois-Rois 5\, Lausanne\, 1005\, Suisse
ATTACH;FMTTYPE=image/jpeg:https://actr.ch/wp-content/uploads/2017/05/ACTR-la-parole-de-Dieu-1-e1496258536129.jpg
END:VEVENT
BEGIN:VEVENT
DTSTART;TZID=Europe/Zurich:20220918T100000
DTEND;TZID=Europe/Zurich:20220918T114500
DTSTAMP:20260423T111546
CREATED:20220909T204711Z
LAST-MODIFIED:20220910T224754Z
UID:5279-1663495200-1663501500@actr.ch
SUMMARY:Culte & Message biblique libre
DESCRIPTION:Dimanche 18 septembre 2022 \n10h- 11h45: Culte & Message biblique libre \n10h30-11h45: Garderie & Ecole du dimanche
URL:https://actr.ch/event/culte-message-biblique-libre/
LOCATION:ACTR\, Chemin des Trois-Rois 5\, Lausanne\, 1005\, Suisse
ATTACH;FMTTYPE=image/jpeg:https://actr.ch/wp-content/uploads/2022/09/dahlias-5578683_1920.jpg
END:VEVENT
BEGIN:VEVENT
DTSTART;TZID=Europe/Zurich:20220920T200000
DTEND;TZID=Europe/Zurich:20220920T213000
DTSTAMP:20260423T111546
CREATED:20220817T134203Z
LAST-MODIFIED:20220817T134203Z
UID:5162-1663704000-1663709400@actr.ch
SUMMARY:Partage biblique & Prière
DESCRIPTION:Partage biblique et prière \nThème: “Apogée de David (2): Pardon/Accueil pour Mephibosheth” (2 Samuel 9) \nIntroduit par Clément Dupertuis
URL:https://actr.ch/event/partage-biblique-priere-7/
LOCATION:ACTR\, Chemin des Trois-Rois 5\, Lausanne\, 1005\, Suisse
ATTACH;FMTTYPE=image/jpeg:https://actr.ch/wp-content/uploads/2017/05/ACTR-la-parole-de-Dieu-1-e1496258536129.jpg
END:VEVENT
BEGIN:VEVENT
DTSTART;TZID=Europe/Zurich:20220925T100000
DTEND;TZID=Europe/Zurich:20220925T114500
DTSTAMP:20260423T111546
CREATED:20220909T205052Z
LAST-MODIFIED:20220912T194746Z
UID:5281-1664100000-1664106300@actr.ch
SUMMARY:Culte & Message biblique
DESCRIPTION:Dimanche 25 septembre 2022 \n10h-11h45: Culte & Message biblique: Libéré\, pour quoi? \nOrateur: Benoît Pfister \n10h30-11h45: Minicell & Ecole du dimanche
URL:https://actr.ch/event/culte-message-biblique-84/
LOCATION:ACTR\, Chemin des Trois-Rois 5\, Lausanne\, 1005\, Suisse
ATTACH;FMTTYPE=image/jpeg:https://actr.ch/wp-content/uploads/2022/09/2022.09.25_imagedeux.jpg
END:VEVENT
BEGIN:VEVENT
DTSTART;TZID=Europe/Zurich:20220925T103000
DTEND;TZID=Europe/Zurich:20220925T114500
DTSTAMP:20260423T111546
CREATED:20220909T205833Z
LAST-MODIFIED:20220919T093939Z
UID:5284-1664101800-1664106300@actr.ch
SUMMARY:Minicell
DESCRIPTION:Dimanche 25 septembre 2022 \n10h30-11h45: Minicell\, pour les 0-3 ans \nAnimé par Coralie
URL:https://actr.ch/event/minicell-4/
LOCATION:ACTR\, Chemin des Trois-Rois 5\, Lausanne\, 1005\, Suisse
ATTACH;FMTTYPE=image/jpeg:https://actr.ch/wp-content/uploads/2022/09/2022.09.25_newnewminicell.jpg
END:VEVENT
BEGIN:VEVENT
DTSTART;TZID=Europe/Zurich:20220927T200000
DTEND;TZID=Europe/Zurich:20220927T213000
DTSTAMP:20260423T111546
CREATED:20220817T134338Z
LAST-MODIFIED:20220817T134338Z
UID:5164-1664308800-1664314200@actr.ch
SUMMARY:Partage biblique & Prière
DESCRIPTION:Partage biblique et prière \nThème: “Apogée de David (3): Victoire complète sur ses ennemis” (2 Samuel 8 & 10)
URL:https://actr.ch/event/partage-biblique-priere-8/
LOCATION:ACTR\, Chemin des Trois-Rois 5\, Lausanne\, 1005\, Suisse
ATTACH;FMTTYPE=image/jpeg:https://actr.ch/wp-content/uploads/2017/05/ACTR-la-parole-de-Dieu-1-e1496258536129.jpg
END:VEVENT
BEGIN:VEVENT
DTSTART;TZID=Europe/Zurich:20220930T190000
DTEND;TZID=Europe/Zurich:20220930T220000
DTSTAMP:20260423T111546
CREATED:20220926T111833Z
LAST-MODIFIED:20220926T111833Z
UID:5387-1664564400-1664575200@actr.ch
SUMMARY:Soirée Jeux
DESCRIPTION:Soirée Jeux \nDès 19h pour pique-niquer \nDès 19h30 pour jouer \nDans les locaux de l’ACTR.
URL:https://actr.ch/event/soiree-jeux-2/
LOCATION:ACTR\, Chemin des Trois-Rois 5\, Lausanne\, 1005\, Suisse
ATTACH;FMTTYPE=image/jpeg:https://actr.ch/wp-content/uploads/2022/09/2022.09.30_SoireeJeux.jpg
END:VEVENT
END:VCALENDAR