BEGIN:VCALENDAR
VERSION:2.0
PRODID:-//ACTR - ECPv6.2.9//NONSGML v1.0//EN
CALSCALE:GREGORIAN
METHOD:PUBLISH
X-ORIGINAL-URL:https://actr.ch
X-WR-CALDESC:évènements pour ACTR
REFRESH-INTERVAL;VALUE=DURATION:PT1H
X-Robots-Tag:noindex
X-PUBLISHED-TTL:PT1H
BEGIN:VTIMEZONE
TZID:Europe/Zurich
BEGIN:DAYLIGHT
TZOFFSETFROM:+0100
TZOFFSETTO:+0200
TZNAME:CEST
DTSTART:20220327T010000
END:DAYLIGHT
BEGIN:STANDARD
TZOFFSETFROM:+0200
TZOFFSETTO:+0100
TZNAME:CET
DTSTART:20221030T010000
END:STANDARD
END:VTIMEZONE
BEGIN:VEVENT
DTSTART;TZID=Europe/Zurich:20220802T200000
DTEND;TZID=Europe/Zurich:20220802T213000
DTSTAMP:20260423T124254
CREATED:20220625T212543Z
LAST-MODIFIED:20220715T113657Z
UID:5094-1659470400-1659475800@actr.ch
SUMMARY:Partage biblique & prière
DESCRIPTION:Partage biblique et prière \nThème: “Sacre de David sur Juda et d’Ish-Bosheth sur Israël” (2 Samuel 2) \nPrésentateur: André Cusin
URL:https://actr.ch/event/etude-biblique-priere-189/
LOCATION:ACTR\, Chemin des Trois-Rois 5\, Lausanne\, 1005\, Suisse
ATTACH;FMTTYPE=image/jpeg:https://actr.ch/wp-content/uploads/2017/05/ACTR-la-parole-de-Dieu-1-e1496258536129.jpg
END:VEVENT
BEGIN:VEVENT
DTSTART;TZID=Europe/Zurich:20220807T100000
DTEND;TZID=Europe/Zurich:20220807T114500
DTSTAMP:20260423T124254
CREATED:20220715T114738Z
LAST-MODIFIED:20220715T115619Z
UID:5124-1659866400-1659872700@actr.ch
SUMMARY:Culte & Message biblique
DESCRIPTION:Dimanche 7 août 2022 \nProgramme: \n10h00-11h45: Culte & Message biblique libre
URL:https://actr.ch/event/culte-message-biblique-79/
LOCATION:ACTR\, Chemin des Trois-Rois 5\, Lausanne\, 1005\, Suisse
ATTACH;FMTTYPE=image/jpeg:https://actr.ch/wp-content/uploads/2022/07/landscape-ete.jpg
END:VEVENT
BEGIN:VEVENT
DTSTART;TZID=Europe/Zurich:20220809T200000
DTEND;TZID=Europe/Zurich:20220809T213000
DTSTAMP:20260423T124254
CREATED:20220715T113850Z
LAST-MODIFIED:20220715T115756Z
UID:5114-1660075200-1660080600@actr.ch
SUMMARY:Partage biblique & Prière
DESCRIPTION:Partage biblique et prière \nThème: “Assassinat d’Abner” (2 Samuel 3) \nPrésentateur: Raphaël Chevalley
URL:https://actr.ch/event/partage-biblique-priere/
LOCATION:ACTR\, Chemin des Trois-Rois 5\, Lausanne\, 1005\, Suisse
ATTACH;FMTTYPE=image/jpeg:https://actr.ch/wp-content/uploads/2017/05/ACTR-la-parole-de-Dieu-1-e1496258536129.jpg
END:VEVENT
BEGIN:VEVENT
DTSTART;TZID=Europe/Zurich:20220814T100000
DTEND;TZID=Europe/Zurich:20220814T114500
DTSTAMP:20260423T124254
CREATED:20220715T114855Z
LAST-MODIFIED:20220817T134910Z
UID:5126-1660471200-1660477500@actr.ch
SUMMARY:Culte & Message biblique
DESCRIPTION:Dimanche 14 août 2022 \nProgramme: \n10h00-11h45: Culte & Message biblique libre\, Fête d’inauguration du local suivie d’un apéro \n10h30-11h45: Garderie pour les 0-10 ans
URL:https://actr.ch/event/culte-message-biblique-80/
LOCATION:ACTR\, Chemin des Trois-Rois 5\, Lausanne\, 1005\, Suisse
ATTACH;FMTTYPE=image/png:https://actr.ch/wp-content/uploads/2022/07/Inaugurationlocal.aout2022.png
END:VEVENT
BEGIN:VEVENT
DTSTART;TZID=Europe/Zurich:20220816T200000
DTEND;TZID=Europe/Zurich:20220816T213000
DTSTAMP:20260423T124254
CREATED:20220715T114037Z
LAST-MODIFIED:20220715T115922Z
UID:5116-1660680000-1660685400@actr.ch
SUMMARY:Partage biblique & Prière
DESCRIPTION:Partage biblique et prière \nThème: “Assassinat d’Isch Bosheth” (2 Samuel 4) \nPrésentateur: Clément Friderici
URL:https://actr.ch/event/partage-biblique-priere-2/
LOCATION:ACTR\, Chemin des Trois-Rois 5\, Lausanne\, 1005\, Suisse
ATTACH;FMTTYPE=image/jpeg:https://actr.ch/wp-content/uploads/2017/05/ACTR-la-parole-de-Dieu-1-e1496258536129.jpg
END:VEVENT
BEGIN:VEVENT
DTSTART;TZID=Europe/Zurich:20220821T100000
DTEND;TZID=Europe/Zurich:20220821T114500
DTSTAMP:20260423T124254
CREATED:20220817T135246Z
LAST-MODIFIED:20220817T135246Z
UID:5173-1661076000-1661082300@actr.ch
SUMMARY:Culte & Message biblique
DESCRIPTION:Dimanche 21 août 2022 \nProgramme: \n10h00-11h45: Culte & Message biblique libre\, Présentation des groupes d’école du dimanche \n10h30-11h45: Garderie pour les 0-10 ans
URL:https://actr.ch/event/culte-message-biblique-81/
LOCATION:ACTR\, Chemin des Trois-Rois 5\, Lausanne\, 1005\, Suisse
ATTACH;FMTTYPE=image/png:https://actr.ch/wp-content/uploads/2022/08/2022.08.21.dim_.png
END:VEVENT
BEGIN:VEVENT
DTSTART;TZID=Europe/Zurich:20220823T200000
DTEND;TZID=Europe/Zurich:20220823T213000
DTSTAMP:20260423T124254
CREATED:20220715T114144Z
LAST-MODIFIED:20220817T133424Z
UID:5118-1661284800-1661290200@actr.ch
SUMMARY:Partage biblique & Prière
DESCRIPTION:Partage biblique et prière \nThème: “Prise de Jérusalem” (2 Samuel 5) \nIntroduit par Gérald Stocker
URL:https://actr.ch/event/partage-biblique-priere-3/
LOCATION:ACTR\, Chemin des Trois-Rois 5\, Lausanne\, 1005\, Suisse
ATTACH;FMTTYPE=image/jpeg:https://actr.ch/wp-content/uploads/2017/05/ACTR-la-parole-de-Dieu-1-e1496258536129.jpg
END:VEVENT
BEGIN:VEVENT
DTSTART;TZID=Europe/Zurich:20220826T190000
DTEND;TZID=Europe/Zurich:20220826T220000
DTSTAMP:20260423T124254
CREATED:20220822T204016Z
LAST-MODIFIED:20220822T204016Z
UID:5200-1661540400-1661551200@actr.ch
SUMMARY:Soirée Jeux
DESCRIPTION:Vendredi 26 août 2022 \nDès 19h pour pique-niquer \nDès 19h30 pour jouer
URL:https://actr.ch/event/soiree-jeux/
LOCATION:ACTR\, Chemin des Trois-Rois 5\, Lausanne\, 1005\, Suisse
ATTACH;FMTTYPE=image/jpeg:https://actr.ch/wp-content/uploads/2022/08/2022.08.26_Soiree-jeux.jpg
END:VEVENT
BEGIN:VEVENT
DTSTART;TZID=Europe/Zurich:20220828T100000
DTEND;TZID=Europe/Zurich:20220828T114500
DTSTAMP:20260423T124254
CREATED:20220817T135752Z
LAST-MODIFIED:20220817T140327Z
UID:5176-1661680800-1661687100@actr.ch
SUMMARY:Culte & Message biblique
DESCRIPTION:Dimanche 28 août 2022 \nProgramme: \n10h00-11h45: Culte & Message biblique libre \n10h30-11h45: Minicell\, pour les 0-3 ans \nDès 12h: Pique-nique d’église au refuge de Sauvabelin
URL:https://actr.ch/event/culte-message-biblique-82/
LOCATION:ACTR\, Chemin des Trois-Rois 5\, Lausanne\, 1005\, Suisse
ATTACH;FMTTYPE=image/jpeg:https://actr.ch/wp-content/uploads/2022/08/2022.08.28.dim_.jpg
END:VEVENT
BEGIN:VEVENT
DTSTART;TZID=Europe/Zurich:20220828T103000
DTEND;TZID=Europe/Zurich:20220828T114500
DTSTAMP:20260423T124254
CREATED:20220817T140615Z
LAST-MODIFIED:20220817T140615Z
UID:5185-1661682600-1661687100@actr.ch
SUMMARY:Minicell
DESCRIPTION:Dimanche 28 août 2022 \n10h30-11h45: Minicell\, pour les 0-3 ans
URL:https://actr.ch/event/minicell-3/
LOCATION:ACTR\, Chemin des Trois-Rois 5\, Lausanne\, 1005\, Suisse
ATTACH;FMTTYPE=image/png:https://actr.ch/wp-content/uploads/2022/08/2022.08.28_minicell.png
END:VEVENT
BEGIN:VEVENT
DTSTART;TZID=Europe/Zurich:20220828T120000
DTEND;TZID=Europe/Zurich:20220828T170000
DTSTAMP:20260423T124254
CREATED:20220817T140103Z
LAST-MODIFIED:20220817T140103Z
UID:5179-1661688000-1661706000@actr.ch
SUMMARY:Pique-nique d'église
DESCRIPTION:Dimanche 28 août 2022 \nDès 12h: Pique-nique d’église au refuge de Sauvabelin
URL:https://actr.ch/event/pique-nique-deglise/
LOCATION:Refuge de Sauvabelin\, Route de la Clochatte 7\, Lausanne\, 1018\, Suisse
ATTACH;FMTTYPE=image/png:https://actr.ch/wp-content/uploads/2022/08/Pique-nique-deglise-a-Sauvabelin.mentioncultealactr.png
END:VEVENT
BEGIN:VEVENT
DTSTART;TZID=Europe/Zurich:20220830T200000
DTEND;TZID=Europe/Zurich:20220830T213000
DTSTAMP:20260423T124254
CREATED:20220817T133531Z
LAST-MODIFIED:20220817T133630Z
UID:5154-1661889600-1661895000@actr.ch
SUMMARY:Partage biblique & Prière
DESCRIPTION:Partage biblique et prière \nThème: “Transport de l’arche à Jérusalem” (2 Samuel 6) \nIntroduit par Jean-Pascal Richir
URL:https://actr.ch/event/partage-biblique-priere-4/
LOCATION:ACTR\, Chemin des Trois-Rois 5\, Lausanne\, 1005\, Suisse
ATTACH;FMTTYPE=image/jpeg:https://actr.ch/wp-content/uploads/2017/05/ACTR-la-parole-de-Dieu-1-e1496258536129.jpg
END:VEVENT
END:VCALENDAR