BEGIN:VCALENDAR
VERSION:2.0
PRODID:-//ACTR - ECPv6.2.9//NONSGML v1.0//EN
CALSCALE:GREGORIAN
METHOD:PUBLISH
X-ORIGINAL-URL:https://actr.ch
X-WR-CALDESC:évènements pour ACTR
REFRESH-INTERVAL;VALUE=DURATION:PT1H
X-Robots-Tag:noindex
X-PUBLISHED-TTL:PT1H
BEGIN:VTIMEZONE
TZID:Europe/Zurich
BEGIN:DAYLIGHT
TZOFFSETFROM:+0100
TZOFFSETTO:+0200
TZNAME:CEST
DTSTART:20220327T010000
END:DAYLIGHT
BEGIN:STANDARD
TZOFFSETFROM:+0200
TZOFFSETTO:+0100
TZNAME:CET
DTSTART:20221030T010000
END:STANDARD
END:VTIMEZONE
BEGIN:VEVENT
DTSTART;TZID=Europe/Zurich:20220702T093000
DTEND;TZID=Europe/Zurich:20220702T130000
DTSTAMP:20260423T201526
CREATED:20220523T085234Z
LAST-MODIFIED:20220628T073751Z
UID:4999-1656754200-1656766800@actr.ch
SUMMARY:Sortie accrobranche pour les enfants
DESCRIPTION:Sortie de l’école du dimanche\, garderie & groupe de jeunes en [accrobranche] \nAu Signal de Bougy \nProgramme:  \nDès 9h30: Cafés & croissants \nDès 10h: accrobranche pour les enfants dès 4 ans; place de jeux pour les plus petits \nEnfants\, parents & moniteurs partageront ensuite un pique-nique sorti du sac !
URL:https://actr.ch/event/sortie-accrobranche-pour-les-enfants/
LOCATION:Signal de Bougy\, Route du Signal\, Bougy-Villars\, 1172\, Suisse
CATEGORIES:Activités
ATTACH;FMTTYPE=image/png:https://actr.ch/wp-content/uploads/2022/05/2022.07.02_accrobranche.png
END:VEVENT
BEGIN:VEVENT
DTSTART;TZID=Europe/Zurich:20220703T100000
DTEND;TZID=Europe/Zurich:20220711T114500
DTSTAMP:20260423T201526
CREATED:20220625T071043Z
LAST-MODIFIED:20220625T222851Z
UID:5063-1656842400-1657539900@actr.ch
SUMMARY:Culte & Message biblique
DESCRIPTION:Dimanche 3 juillet 2022 \nProgramme: \n10h00-11h45: Culte & Message biblique libre \n10h30-11h45: Atelier enfants “Préparation surprise pour l’église”
URL:https://actr.ch/event/culte-message-biblique-74/
LOCATION:ACTR\, Chemin des Trois-Rois 5\, Lausanne\, 1005\, Suisse
ATTACH;FMTTYPE=image/jpeg:https://actr.ch/wp-content/uploads/2022/06/champ-ete-.jpg
END:VEVENT
BEGIN:VEVENT
DTSTART;TZID=Europe/Zurich:20220705T200000
DTEND;TZID=Europe/Zurich:20220705T213000
DTSTAMP:20260423T201526
CREATED:20220625T071733Z
LAST-MODIFIED:20220625T205404Z
UID:5068-1657051200-1657056600@actr.ch
SUMMARY:Etude biblique & prière
DESCRIPTION:Etude biblique et prière \nThème: “Fuite de David” (1 Samuel 27) \nOrateur: Thomas Saner
URL:https://actr.ch/event/etude-biblique-priere-185/
LOCATION:ACTR\, Chemin des Trois-Rois 5\, Lausanne\, 1005\, Suisse
ATTACH;FMTTYPE=image/jpeg:https://actr.ch/wp-content/uploads/2017/05/ACTR-la-parole-de-Dieu-1-e1496258536129.jpg
END:VEVENT
BEGIN:VEVENT
DTSTART;TZID=Europe/Zurich:20220707T100000
DTEND;TZID=Europe/Zurich:20220707T140000
DTSTAMP:20260423T201526
CREATED:20220625T072238Z
LAST-MODIFIED:20220625T205304Z
UID:5070-1657188000-1657202400@actr.ch
SUMMARY:Jeux & Amitiés
DESCRIPTION:Jeux & Amitiés \nDès 10h \nDès 12h: repas \n  \nInscriptions auprès de Janelyse
URL:https://actr.ch/event/jeux-amities/
LOCATION:ACTR\, Chemin des Trois-Rois 5\, Lausanne\, 1005\, Suisse
ATTACH;FMTTYPE=image/png:https://actr.ch/wp-content/uploads/2022/06/Jeux-Amilie_2022.07.07.png
END:VEVENT
BEGIN:VEVENT
DTSTART;TZID=Europe/Zurich:20220710T100000
DTEND;TZID=Europe/Zurich:20220710T114500
DTSTAMP:20260423T201526
CREATED:20220625T210252Z
LAST-MODIFIED:20220625T210252Z
UID:5075-1657447200-1657453500@actr.ch
SUMMARY:Culte & Message biblique
DESCRIPTION:Dimanche 10 juillet 2022 \nProgramme: \n10h00-11h45: Culte & Message biblique libre
URL:https://actr.ch/event/culte-message-biblique-75/
LOCATION:ACTR\, Chemin des Trois-Rois 5\, Lausanne\, 1005\, Suisse
ATTACH;FMTTYPE=image/jpeg:https://actr.ch/wp-content/uploads/2022/06/ete-italie.jpg
END:VEVENT
BEGIN:VEVENT
DTSTART;TZID=Europe/Zurich:20220712T200000
DTEND;TZID=Europe/Zurich:20220712T213000
DTSTAMP:20260423T201526
CREATED:20220625T210618Z
LAST-MODIFIED:20220625T210618Z
UID:5079-1657656000-1657661400@actr.ch
SUMMARY:Etude biblique & prière
DESCRIPTION:Etude biblique et prière \nThème: “Consultation d’une medium par Saül” (1 Samuel 28) \nOrateur: Liliane Lacombe
URL:https://actr.ch/event/etude-biblique-priere-186/
LOCATION:ACTR\, Chemin des Trois-Rois 5\, Lausanne\, 1005\, Suisse
ATTACH;FMTTYPE=image/jpeg:https://actr.ch/wp-content/uploads/2017/05/ACTR-la-parole-de-Dieu-1-e1496258536129.jpg
END:VEVENT
BEGIN:VEVENT
DTSTART;TZID=Europe/Zurich:20220717T100000
DTEND;TZID=Europe/Zurich:20220717T114500
DTSTAMP:20260423T201526
CREATED:20220625T211306Z
LAST-MODIFIED:20220715T114405Z
UID:5081-1658052000-1658058300@actr.ch
SUMMARY:Culte & Message biblique
DESCRIPTION:Dimanche 17 juillet 2022 \nProgramme: \n10h00-11h45: Culte introduit par des témoignages de camps & Message biblique libre \nDès 10h30: Garderie ouverte pour les 0-10 ans
URL:https://actr.ch/event/culte-message-biblique-76/
LOCATION:ACTR\, Chemin des Trois-Rois 5\, Lausanne\, 1005\, Suisse
ATTACH;FMTTYPE=image/jpeg:https://actr.ch/wp-content/uploads/2022/06/ete-fleurs.jpg
END:VEVENT
BEGIN:VEVENT
DTSTART;TZID=Europe/Zurich:20220719T200000
DTEND;TZID=Europe/Zurich:20220719T213000
DTSTAMP:20260423T201526
CREATED:20220625T212122Z
LAST-MODIFIED:20220715T113630Z
UID:5090-1658260800-1658266200@actr.ch
SUMMARY:Partage biblique & prière
DESCRIPTION:Partage biblique et prière \nThème: “David exclu de l’armée philistine\, victoire sur les Amalécites” (1 Samuel 29&30) \nPrésentateur: Raymond Filliez
URL:https://actr.ch/event/etude-biblique-priere-187/
LOCATION:ACTR\, Chemin des Trois-Rois 5\, Lausanne\, 1005\, Suisse
ATTACH;FMTTYPE=image/jpeg:https://actr.ch/wp-content/uploads/2017/05/ACTR-la-parole-de-Dieu-1-e1496258536129.jpg
END:VEVENT
BEGIN:VEVENT
DTSTART;TZID=Europe/Zurich:20220724T100000
DTEND;TZID=Europe/Zurich:20220724T114500
DTSTAMP:20260423T201526
CREATED:20220625T211432Z
LAST-MODIFIED:20220715T114602Z
UID:5084-1658656800-1658663100@actr.ch
SUMMARY:Culte & Message biblique
DESCRIPTION:Dimanche 24 juillet 2022 \nProgramme: \n10h00-11h45: Culte & Message biblique libre \nDès 10h30: Garderie ouverte pour les 0-10 ans
URL:https://actr.ch/event/culte-message-biblique-77/
LOCATION:ACTR\, Chemin des Trois-Rois 5\, Lausanne\, 1005\, Suisse
ATTACH;FMTTYPE=image/jpeg:https://actr.ch/wp-content/uploads/2022/06/ete-sunset-montagne-de-la-table.jpg
END:VEVENT
BEGIN:VEVENT
DTSTART;TZID=Europe/Zurich:20220726T200000
DTEND;TZID=Europe/Zurich:20220726T213000
DTSTAMP:20260423T201526
CREATED:20220625T212336Z
LAST-MODIFIED:20220715T113604Z
UID:5092-1658865600-1658871000@actr.ch
SUMMARY:Partage biblique & prière
DESCRIPTION:Partage biblique et prière \nThème: “Mort de Saül et Jonathan; Deuil de David” (1 Samuel 31 & 2 Samuel 1) \nPrésentateur: Dominique Bourgeois
URL:https://actr.ch/event/etude-biblique-priere-188/
LOCATION:ACTR\, Chemin des Trois-Rois 5\, Lausanne\, 1005\, Suisse
ATTACH;FMTTYPE=image/jpeg:https://actr.ch/wp-content/uploads/2017/05/ACTR-la-parole-de-Dieu-1-e1496258536129.jpg
END:VEVENT
BEGIN:VEVENT
DTSTART;TZID=Europe/Zurich:20220731T100000
DTEND;TZID=Europe/Zurich:20220731T114500
DTSTAMP:20260423T201526
CREATED:20220625T211806Z
LAST-MODIFIED:20220625T211806Z
UID:5087-1659261600-1659267900@actr.ch
SUMMARY:Culte & Message biblique
DESCRIPTION:Dimanche 31 juillet 2022 \nProgramme: \n10h00-11h45: Culte & Message biblique libre
URL:https://actr.ch/event/culte-message-biblique-78/
LOCATION:ACTR\, Chemin des Trois-Rois 5\, Lausanne\, 1005\, Suisse
ATTACH;FMTTYPE=image/jpeg:https://actr.ch/wp-content/uploads/2022/06/ete-bateau-eau.jpg
END:VEVENT
END:VCALENDAR