BEGIN:VCALENDAR
VERSION:2.0
PRODID:-//ACTR - ECPv6.2.9//NONSGML v1.0//EN
CALSCALE:GREGORIAN
METHOD:PUBLISH
X-WR-CALNAME:ACTR
X-ORIGINAL-URL:https://actr.ch
X-WR-CALDESC:évènements pour ACTR
REFRESH-INTERVAL;VALUE=DURATION:PT1H
X-Robots-Tag:noindex
X-PUBLISHED-TTL:PT1H
BEGIN:VTIMEZONE
TZID:Europe/Zurich
BEGIN:DAYLIGHT
TZOFFSETFROM:+0100
TZOFFSETTO:+0200
TZNAME:CEST
DTSTART:20220327T010000
END:DAYLIGHT
BEGIN:STANDARD
TZOFFSETFROM:+0200
TZOFFSETTO:+0100
TZNAME:CET
DTSTART:20221030T010000
END:STANDARD
END:VTIMEZONE
BEGIN:VEVENT
DTSTART;TZID=Europe/Zurich:20220401T200000
DTEND;TZID=Europe/Zurich:20220401T220000
DTSTAMP:20260424T095828
CREATED:20220322T073912Z
LAST-MODIFIED:20220322T073912Z
UID:4862-1648843200-1648850400@actr.ch
SUMMARY:Soirée louange
DESCRIPTION:SOIRÉE LOUANGE \nQuand: Vendredi 1er avril à 20h00 \nOu: au local de l’ACTR \nPour qui: Soyez tous les bienvenus!!!!
URL:https://actr.ch/event/soiree-louange/
LOCATION:ACTR\, Chemin des Trois-Rois 5\, Lausanne\, 1005\, Suisse
ATTACH;FMTTYPE=image/png:https://actr.ch/wp-content/uploads/2022/03/louange_ACTR_visuel.png
END:VEVENT
BEGIN:VEVENT
DTSTART;TZID=Europe/Zurich:20220403T100000
DTEND;TZID=Europe/Zurich:20220403T114500
DTSTAMP:20260424T095828
CREATED:20220321T093124Z
LAST-MODIFIED:20220321T093124Z
UID:4859-1648980000-1648986300@actr.ch
SUMMARY:CULTE + Spectacle des enfants
DESCRIPTION:Dimanche 3 avril \nProgramme: SPECTACLE DES ENFANTS \nParabole “Le grand festin” \n  \n10h00-11h45 :Message\, culte\, apéro \n 
URL:https://actr.ch/event/culte-spectacle-des-enfants/
LOCATION:ACTR\, Chemin des Trois-Rois 5\, Lausanne\, 1005\, Suisse
ATTACH;FMTTYPE=image/png:https://actr.ch/wp-content/uploads/2022/03/3.avril_.2022_spectable-grand-festin.png
END:VEVENT
BEGIN:VEVENT
DTSTART;TZID=Europe/Zurich:20220405T200000
DTEND;TZID=Europe/Zurich:20220405T213000
DTSTAMP:20260424T095828
CREATED:20220328T082104Z
LAST-MODIFIED:20220328T082104Z
UID:4881-1649188800-1649194200@actr.ch
SUMMARY:Etude biblique & prière
DESCRIPTION:Etude biblique et prière (en présentiel) \nThème: Guerre contre les Philistins et exploit de Jonathan (1 Sam 13. 47 – 15.35) \nOrateur: Liliane Lacombe
URL:https://actr.ch/event/etude-biblique-priere-174/
LOCATION:ACTR\, Chemin des Trois-Rois 5\, Lausanne\, 1005\, Suisse
ATTACH;FMTTYPE=image/jpeg:https://actr.ch/wp-content/uploads/2017/05/ACTR-la-parole-de-Dieu-1-e1496258536129.jpg
END:VEVENT
BEGIN:VEVENT
DTSTART;TZID=Europe/Zurich:20220410T100000
DTEND;TZID=Europe/Zurich:20220410T114500
DTSTAMP:20260424T095829
CREATED:20220328T082535Z
LAST-MODIFIED:20220328T082535Z
UID:4883-1649584800-1649591100@actr.ch
SUMMARY:Culte & message biblique
DESCRIPTION:Dimanche 10 avril \nProgramme: \n10h00-11h10: Culte \n11h10-11h45: Message biblique:  “Notre relation à l’argent”\n \nOrateur: Christophe Argaud \n11h50-12h20: Présentation des comptes ACTR 2021 par Virgile Rochat \n  \n 10h30: 11h45: Ecole du dimanche et garderie
URL:https://actr.ch/event/culte-message-biblique-63/
LOCATION:ACTR\, Chemin des Trois-Rois 5\, Lausanne\, 1005\, Suisse
ATTACH;FMTTYPE=image/jpeg:https://actr.ch/wp-content/uploads/2021/04/160498456_10159065592098599_8795541286796449815_o.jpg
END:VEVENT
BEGIN:VEVENT
DTSTART;TZID=Europe/Zurich:20220412T200000
DTEND;TZID=Europe/Zurich:20220412T213000
DTSTAMP:20260424T095829
CREATED:20220404T154313Z
LAST-MODIFIED:20220404T154313Z
UID:4889-1649793600-1649799000@actr.ch
SUMMARY:Etude biblique et prière
DESCRIPTION:Etude biblique et prière \nThème: Guerre de Saül et désobéissance contre les Amalécites (1 Sam 14.47 – 15.35) \nOrateur: Gérald Stocker
URL:https://actr.ch/event/etude-biblique-et-priere-9/
ATTACH;FMTTYPE=image/jpeg:https://actr.ch/wp-content/uploads/2017/05/ACTR-la-parole-de-Dieu-1-e1496258536129.jpg
END:VEVENT
BEGIN:VEVENT
DTSTART;TZID=Europe/Zurich:20220417T100000
DTEND;TZID=Europe/Zurich:20220417T114500
DTSTAMP:20260424T095829
CREATED:20220404T154546Z
LAST-MODIFIED:20220410T143802Z
UID:4891-1650189600-1650195900@actr.ch
SUMMARY:Culte de Pâques et message biblique
DESCRIPTION:Dimanche 17 avril \nProgramme: \n10h00-11h10: Culte \n11h10-11h45: Message biblique:  sujet libre\n \n  \nVacances scolaire\, pas d’école du dimanche
URL:https://actr.ch/event/culte-et-message-biblique-39/
LOCATION:ACTR\, Chemin des Trois-Rois 5\, Lausanne\, 1005\, Suisse
ATTACH;FMTTYPE=image/jpeg:https://actr.ch/wp-content/uploads/2021/08/203630485_10222836945666529_7403907742037433025_n.jpg
END:VEVENT
BEGIN:VEVENT
DTSTART;TZID=Europe/Zurich:20220419T200000
DTEND;TZID=Europe/Zurich:20220419T213000
DTSTAMP:20260424T095829
CREATED:20220410T144746Z
LAST-MODIFIED:20220410T144746Z
UID:4901-1650398400-1650403800@actr.ch
SUMMARY:Etude biblique & prière
DESCRIPTION:Etude biblique et prière \nThème: “Onction de David comme roi” (1 Sam 16) \nOrateur: André Cusin
URL:https://actr.ch/event/etude-biblique-priere-175/
LOCATION:ACTR\, Chemin des Trois-Rois 5\, Lausanne\, 1005\, Suisse
ATTACH;FMTTYPE=image/jpeg:https://actr.ch/wp-content/uploads/2017/05/ACTR-la-parole-de-Dieu-1-e1496258536129.jpg
END:VEVENT
BEGIN:VEVENT
DTSTART;TZID=Europe/Zurich:20220424T100000
DTEND;TZID=Europe/Zurich:20220424T114500
DTSTAMP:20260424T095829
CREATED:20220410T144113Z
LAST-MODIFIED:20220410T144113Z
UID:4897-1650794400-1650800700@actr.ch
SUMMARY:Culte et message biblique
DESCRIPTION:Dimanche 24 avril \nProgramme: \n10h00-11h10: Culte \n11h10-11h45: Message biblique:  “Ruth” 1ère partie\n \nOrateur: Jean Lacombe \n  \nVacances scolaire\, pas d’école du dimanche
URL:https://actr.ch/event/culte-et-message-biblique-40/
LOCATION:ACTR\, Chemin des Trois-Rois 5\, Lausanne\, 1005\, Suisse
ATTACH;FMTTYPE=image/jpeg:https://actr.ch/wp-content/uploads/2017/06/aaron-burden-276457.jpg
END:VEVENT
BEGIN:VEVENT
DTSTART;TZID=Europe/Zurich:20220426T200000
DTEND;TZID=Europe/Zurich:20220426T213000
DTSTAMP:20260424T095829
CREATED:20220410T144925Z
LAST-MODIFIED:20220410T144925Z
UID:4903-1651003200-1651008600@actr.ch
SUMMARY:Etude biblique & prière
DESCRIPTION:Etude biblique et prière \nThème: “Victoire de David sur Goliath” (1 Sam 17) \nOrateur: Jean-Pascal Richir
URL:https://actr.ch/event/etude-biblique-priere-176/
LOCATION:ACTR\, Chemin des Trois-Rois 5\, Lausanne\, 1005\, Suisse
ATTACH;FMTTYPE=image/jpeg:https://actr.ch/wp-content/uploads/2017/05/ACTR-la-parole-de-Dieu-1-e1496258536129.jpg
END:VEVENT
BEGIN:VEVENT
DTSTART;TZID=Europe/Zurich:20220429T183000
DTEND;TZID=Europe/Zurich:20220429T220000
DTSTAMP:20260424T095829
CREATED:20220426T094015Z
LAST-MODIFIED:20220426T094015Z
UID:4931-1651257000-1651269600@actr.ch
SUMMARY:Soirée jeux de société
DESCRIPTION:Moment convivial ouvert à tous!!! \nRDV à l’ACTR dès 18h30 avec pique-nique (optionnel) et 19h30 pour le début des jeux \nInformations: jaccard.camille@gmail.com \n 
URL:https://actr.ch/event/soiree-jeux-de-societe/
LOCATION:ACTR\, Chemin des Trois-Rois 5\, Lausanne\, 1005\, Suisse
ATTACH;FMTTYPE=image/jpeg:https://actr.ch/wp-content/uploads/2022/04/9d9d0895-5634-4910-8955-c71a790317f0.jpg
END:VEVENT
END:VCALENDAR