BEGIN:VCALENDAR
VERSION:2.0
PRODID:-//ACTR - ECPv6.2.9//NONSGML v1.0//EN
CALSCALE:GREGORIAN
METHOD:PUBLISH
X-ORIGINAL-URL:https://actr.ch
X-WR-CALDESC:évènements pour ACTR
REFRESH-INTERVAL;VALUE=DURATION:PT1H
X-Robots-Tag:noindex
X-PUBLISHED-TTL:PT1H
BEGIN:VTIMEZONE
TZID:Europe/Zurich
BEGIN:DAYLIGHT
TZOFFSETFROM:+0100
TZOFFSETTO:+0200
TZNAME:CEST
DTSTART:20220327T010000
END:DAYLIGHT
BEGIN:STANDARD
TZOFFSETFROM:+0200
TZOFFSETTO:+0100
TZNAME:CET
DTSTART:20221030T010000
END:STANDARD
END:VTIMEZONE
BEGIN:VEVENT
DTSTART;TZID=Europe/Zurich:20220301T200000
DTEND;TZID=Europe/Zurich:20220301T213000
DTSTAMP:20260424T040421
CREATED:20220208T085547Z
LAST-MODIFIED:20220208T085547Z
UID:4801-1646164800-1646170200@actr.ch
SUMMARY:Etude biblique & prière
DESCRIPTION:Etude biblique et prière (en présentiel) \nThème: “Défaite des philistins et bilan” (1 Sam 7) \nOrateur: Jean Lacombe
URL:https://actr.ch/event/etude-biblique-priere-169/
LOCATION:ACTR\, Chemin des Trois-Rois 5\, Lausanne\, 1005\, Suisse
ATTACH;FMTTYPE=image/jpeg:https://actr.ch/wp-content/uploads/2017/05/ACTR-la-parole-de-Dieu-1-e1496258536129.jpg
END:VEVENT
BEGIN:VEVENT
DTSTART;TZID=Europe/Zurich:20220306T100000
DTEND;TZID=Europe/Zurich:20220306T113000
DTSTAMP:20260424T040421
CREATED:20220221T085707Z
LAST-MODIFIED:20220221T085723Z
UID:4814-1646560800-1646566200@actr.ch
SUMMARY:Culte & message biblique
DESCRIPTION:Dimanche 6 mars \nProgramme: \n10h00-11h10: Culte \n11h10-11h45: Message biblique: Présentation des anciens\n \n 10h30: 11h45: Ecole du dimanche et garderie\n \n 
URL:https://actr.ch/event/culte-message-biblique-60/
LOCATION:ACTR\, Chemin des Trois-Rois 5\, Lausanne\, 1005\, Suisse
ATTACH;FMTTYPE=image/jpeg:https://actr.ch/wp-content/uploads/2022/02/137592426_471843940885117_918937027915118067_o.jpg
END:VEVENT
BEGIN:VEVENT
DTSTART;TZID=Europe/Zurich:20220308T200000
DTEND;TZID=Europe/Zurich:20220308T213000
DTSTAMP:20260424T040421
CREATED:20220228T100053Z
LAST-MODIFIED:20220228T100053Z
UID:4824-1646769600-1646775000@actr.ch
SUMMARY:Etude biblique & prière
DESCRIPTION:Etude biblique et prière (en présentiel) \nThème: “Le peuple demande un roi\, l’Eternel le révèle à Samuel” (1 Sam 8. 1-9. 17) \nOrateur: Clément Friderici
URL:https://actr.ch/event/etude-biblique-priere-170/
LOCATION:ACTR\, Chemin des Trois-Rois 5\, Lausanne\, 1005\, Suisse
ATTACH;FMTTYPE=image/jpeg:https://actr.ch/wp-content/uploads/2017/05/ACTR-la-parole-de-Dieu-1-e1496258536129.jpg
END:VEVENT
BEGIN:VEVENT
DTSTART;TZID=Europe/Zurich:20220313T100000
DTEND;TZID=Europe/Zurich:20220313T113000
DTSTAMP:20260424T040421
CREATED:20220228T100450Z
LAST-MODIFIED:20220228T100450Z
UID:4826-1647165600-1647171000@actr.ch
SUMMARY:Culte & message biblique
DESCRIPTION:Dimanche 13 mars \nProgramme: \n10h00-11h10: Culte \n11h10-11h45: Message biblique: Enseignement sur “les anciens”.\n \nOrateur: Jean Lacombe \n 10h30: 11h45: Ecole du dimanche et garderie
URL:https://actr.ch/event/culte-message-biblique-61/
LOCATION:ACTR\, Chemin des Trois-Rois 5\, Lausanne\, 1005\, Suisse
ATTACH;FMTTYPE=image/jpeg:https://actr.ch/wp-content/uploads/2022/02/119447491_376962607039918_10676362180709920_o.jpg
END:VEVENT
BEGIN:VEVENT
DTSTART;TZID=Europe/Zurich:20220315T200000
DTEND;TZID=Europe/Zurich:20220315T213000
DTSTAMP:20260424T040421
CREATED:20220307T092346Z
LAST-MODIFIED:20220307T092346Z
UID:4832-1647374400-1647379800@actr.ch
SUMMARY:Etude biblique & prière
DESCRIPTION:Etude biblique et prière (en présentiel) \nThème: “Désignation publique de Saül comme roi” (1 Sam 9.18-10.27) \nOrateur: Raymond Filiez
URL:https://actr.ch/event/etude-biblique-priere-171/
LOCATION:ACTR\, Chemin des Trois-Rois 5\, Lausanne\, 1005\, Suisse
ATTACH;FMTTYPE=image/jpeg:https://actr.ch/wp-content/uploads/2017/05/ACTR-la-parole-de-Dieu-1-e1496258536129.jpg
END:VEVENT
BEGIN:VEVENT
DTSTART;TZID=Europe/Zurich:20220320T100000
DTEND;TZID=Europe/Zurich:20220320T114500
DTSTAMP:20260424T040421
CREATED:20220307T092652Z
LAST-MODIFIED:20220314T163910Z
UID:4834-1647770400-1647776700@actr.ch
SUMMARY:Culte & message biblique
DESCRIPTION:Dimanche 20 mars \nProgramme: \n10h00-11h10: Culte \n11h10-11h45: Message biblique: L’évangélisation: rapprocher mon prochain de Dieu”. (avec différents témoignages)\n \nOrateur: Benoît Pfister \n 10h30: 11h45: Ecole du dimanche et garderie
URL:https://actr.ch/event/culte-message-biblique-62/
LOCATION:ACTR\, Chemin des Trois-Rois 5\, Lausanne\, 1005\, Suisse
ATTACH;FMTTYPE=image/jpeg:https://actr.ch/wp-content/uploads/2020/12/131692171_4363409230340307_6874781885018567676_o.jpg
END:VEVENT
BEGIN:VEVENT
DTSTART;TZID=Europe/Zurich:20220322T200000
DTEND;TZID=Europe/Zurich:20220322T213000
DTSTAMP:20260424T040421
CREATED:20220321T092537Z
LAST-MODIFIED:20220321T092537Z
UID:4855-1647979200-1647984600@actr.ch
SUMMARY:Etude biblique & prière
DESCRIPTION:Etude biblique et prière (en présentiel) \nThème: “Victoire de Saül sur les Ammonites et avertissements de Samuel” (1 Sam 11 & 12) \nOrateur: Michel Horisberger
URL:https://actr.ch/event/etude-biblique-priere-172/
LOCATION:ACTR\, Chemin des Trois-Rois 5\, Lausanne\, 1005\, Suisse
ATTACH;FMTTYPE=image/jpeg:https://actr.ch/wp-content/uploads/2017/05/ACTR-la-parole-de-Dieu-1-e1496258536129.jpg
END:VEVENT
BEGIN:VEVENT
DTSTART;TZID=Europe/Zurich:20220327T100000
DTEND;TZID=Europe/Zurich:20220327T114500
DTSTAMP:20260424T040421
CREATED:20220307T093153Z
LAST-MODIFIED:20220307T093234Z
UID:4836-1648375200-1648381500@actr.ch
SUMMARY:Culte OPEN DOOR
DESCRIPTION:Dimanche 27 mars \nProgramme: \n10h00-11h10: Culte OPEN DOOR\n \n11h10-11h45: Message biblique: “Soif de plus”.\n \nOrateur: Jérémy Magnenat \n 10h30: 11h45: Ecole du dimanche et garderie
URL:https://actr.ch/event/culte-open-door-8/
LOCATION:ACTR\, Chemin des Trois-Rois 5\, Lausanne\, 1005\, Suisse
ATTACH;FMTTYPE=image/jpeg:https://actr.ch/wp-content/uploads/2022/03/Flyer-27.03.22-Open-door.jpg
END:VEVENT
BEGIN:VEVENT
DTSTART;TZID=Europe/Zurich:20220329T200000
DTEND;TZID=Europe/Zurich:20220329T213000
DTSTAMP:20260424T040421
CREATED:20220321T092720Z
LAST-MODIFIED:20220322T075007Z
UID:4857-1648584000-1648589400@actr.ch
SUMMARY:Etude biblique & prière
DESCRIPTION:Etude biblique et prière (en présentiel) \nThème: Soirée sur l’évangélisation \nOrateur: Benoît Pfister
URL:https://actr.ch/event/etude-biblique-priere-173/
LOCATION:ACTR\, Chemin des Trois-Rois 5\, Lausanne\, 1005\, Suisse
ATTACH;FMTTYPE=image/jpeg:https://actr.ch/wp-content/uploads/2022/03/2022-03-21_10h53_25.jpg
END:VEVENT
END:VCALENDAR