BEGIN:VCALENDAR
VERSION:2.0
PRODID:-//ACTR - ECPv6.2.9//NONSGML v1.0//EN
CALSCALE:GREGORIAN
METHOD:PUBLISH
X-WR-CALNAME:ACTR
X-ORIGINAL-URL:https://actr.ch
X-WR-CALDESC:évènements pour ACTR
REFRESH-INTERVAL;VALUE=DURATION:PT1H
X-Robots-Tag:noindex
X-PUBLISHED-TTL:PT1H
BEGIN:VTIMEZONE
TZID:Europe/Zurich
BEGIN:DAYLIGHT
TZOFFSETFROM:+0100
TZOFFSETTO:+0200
TZNAME:CEST
DTSTART:20220327T010000
END:DAYLIGHT
BEGIN:STANDARD
TZOFFSETFROM:+0200
TZOFFSETTO:+0100
TZNAME:CET
DTSTART:20221030T010000
END:STANDARD
END:VTIMEZONE
BEGIN:VEVENT
DTSTART;TZID=Europe/Zurich:20220206T100000
DTEND;TZID=Europe/Zurich:20220206T114500
DTSTAMP:20260424T132704
CREATED:20220124T090330Z
LAST-MODIFIED:20220124T090330Z
UID:4763-1644141600-1644147900@actr.ch
SUMMARY:Culte & message biblique
DESCRIPTION:Dimanche 6 février \nProgramme: \n10h00-11h10: Culte \n11h10-11h45: Message biblique: “Laodicée: quand la foi devient tiède”\n \nPrésenté par Stefan Waldmann \n10h30-11h45: Garderie et école du dimanche
URL:https://actr.ch/event/culte-message-biblique-56/
LOCATION:ACTR\, Chemin des Trois-Rois 5\, Lausanne\, 1005\, Suisse
ATTACH;FMTTYPE=image/png:https://actr.ch/wp-content/uploads/2022/01/Campagne_janvier_22_visuel_programme_5.png
END:VEVENT
BEGIN:VEVENT
DTSTART;TZID=Europe/Zurich:20220213T100000
DTEND;TZID=Europe/Zurich:20220213T114500
DTSTAMP:20260424T132704
CREATED:20220124T090532Z
LAST-MODIFIED:20220131T085448Z
UID:4767-1644746400-1644752700@actr.ch
SUMMARY:Culte & message biblique
DESCRIPTION:Dimanche 13 février \nProgramme: \n10h00-11h10: Culte \n11h10-11h45: Message biblique: “Lettre à Lausanne”\n \nPrésenté par les anciens \n10h30-11h45: Garderie et école du dimanche \n  \nRepas convivial\, témoignages et activité pour les enfants
URL:https://actr.ch/event/culte-message-biblique-57/
LOCATION:ACTR\, Chemin des Trois-Rois 5\, Lausanne\, 1005\, Suisse
ATTACH;FMTTYPE=image/png:https://actr.ch/wp-content/uploads/2022/01/Dimanche.deglise_13.Fev_.ACTR_lastproposition.png
END:VEVENT
BEGIN:VEVENT
DTSTART;TZID=Europe/Zurich:20220220T100000
DTEND;TZID=Europe/Zurich:20220220T110000
DTSTAMP:20260424T132704
CREATED:20210927T110448Z
LAST-MODIFIED:20220228T095634Z
UID:4515-1645351200-1645354800@actr.ch
SUMMARY:INFO COVID
DESCRIPTION:INFO COVID  \nÀ partir du dimanche 20 février le pass sanitaire ainsi que le port du masque  ne sont plus nécessaires durant le culte. Chacun est libre de venir comme il l’entend et de manière libre. \nBienvenue à chacun!!!!!!!!
URL:https://actr.ch/event/info-covid/
LOCATION:ACTR\, Chemin des Trois-Rois 5\, Lausanne\, 1005\, Suisse
ATTACH;FMTTYPE=image/png:https://actr.ch/wp-content/uploads/2017/05/ACTR_logo-main.png
END:VEVENT
BEGIN:VEVENT
DTSTART;TZID=Europe/Zurich:20220220T100000
DTEND;TZID=Europe/Zurich:20220220T114500
DTSTAMP:20260424T132704
CREATED:20220208T084950Z
LAST-MODIFIED:20220208T084950Z
UID:4793-1645351200-1645357500@actr.ch
SUMMARY:Culte & message biblique
DESCRIPTION:Dimanche 20 février \nProgramme: \n10h00-11h10: Culte \n11h10-11h45: Message biblique  \n  \nVacances scolaires\, pas d’école du dimanche \n  \n 
URL:https://actr.ch/event/culte-message-biblique-58/
LOCATION:ACTR\, Chemin des Trois-Rois 5\, Lausanne\, 1005\, Suisse
ATTACH;FMTTYPE=image/jpeg:https://actr.ch/wp-content/uploads/2022/02/251493190_10226290662842554_2280288023514550154_n.jpg
END:VEVENT
BEGIN:VEVENT
DTSTART;TZID=Europe/Zurich:20220222T200000
DTEND;TZID=Europe/Zurich:20220222T213000
DTSTAMP:20260424T132705
CREATED:20220208T085317Z
LAST-MODIFIED:20220208T085317Z
UID:4799-1645560000-1645565400@actr.ch
SUMMARY:Etude biblique & prière
DESCRIPTION:Etude biblique et prière (en présentiel) \nThème: “Perte et retour de l’arche de l’alliance” (1 Sam 5 et 6) \nOrateur: Dominique Bourgeois
URL:https://actr.ch/event/etude-biblique-priere-168/
LOCATION:ACTR\, Chemin des Trois-Rois 5\, Lausanne\, 1005\, Suisse
ATTACH;FMTTYPE=image/jpeg:https://actr.ch/wp-content/uploads/2017/05/ACTR-la-parole-de-Dieu-1-e1496258536129.jpg
END:VEVENT
BEGIN:VEVENT
DTSTART;TZID=Europe/Zurich:20220227T100000
DTEND;TZID=Europe/Zurich:20220227T114500
DTSTAMP:20260424T132705
CREATED:20220208T085101Z
LAST-MODIFIED:20220208T085101Z
UID:4796-1645956000-1645962300@actr.ch
SUMMARY:Culte & message biblique
DESCRIPTION:Dimanche 27 février \nProgramme: \n10h00-11h10: Culte \n11h10-11h45: Message biblique  \n  \nVacances scolaires\, pas d’école du dimanche
URL:https://actr.ch/event/culte-message-biblique-59/
LOCATION:ACTR\, Chemin des Trois-Rois 5\, Lausanne\, 1005\, Suisse
ATTACH;FMTTYPE=image/jpeg:https://actr.ch/wp-content/uploads/2022/02/164746412_4376830929012059_7817325947762289876_o.jpg
END:VEVENT
END:VCALENDAR