BEGIN:VCALENDAR
VERSION:2.0
PRODID:-//ACTR - ECPv6.2.9//NONSGML v1.0//EN
CALSCALE:GREGORIAN
METHOD:PUBLISH
X-WR-CALNAME:ACTR
X-ORIGINAL-URL:https://actr.ch
X-WR-CALDESC:évènements pour ACTR
REFRESH-INTERVAL;VALUE=DURATION:PT1H
X-Robots-Tag:noindex
X-PUBLISHED-TTL:PT1H
BEGIN:VTIMEZONE
TZID:Europe/Zurich
BEGIN:DAYLIGHT
TZOFFSETFROM:+0100
TZOFFSETTO:+0200
TZNAME:CEST
DTSTART:20210328T010000
END:DAYLIGHT
BEGIN:STANDARD
TZOFFSETFROM:+0200
TZOFFSETTO:+0100
TZNAME:CET
DTSTART:20211031T010000
END:STANDARD
END:VTIMEZONE
BEGIN:VEVENT
DTSTART;TZID=Europe/Zurich:20211102T200000
DTEND;TZID=Europe/Zurich:20211102T213000
DTSTAMP:20260424T171435
CREATED:20211024T081217Z
LAST-MODIFIED:20211024T081217Z
UID:4546-1635883200-1635888600@actr.ch
SUMMARY:Etude biblique & prière
DESCRIPTION:Etude biblique et prière (en présentiel) \nSujet: “Crucifixion et mort de Jésus”. Matthieu 27 v. 32-56\n \nOrateur: André Cusin
URL:https://actr.ch/event/etude-biblique-priere-160/
LOCATION:ACTR\, Chemin des Trois-Rois 5\, Lausanne\, 1005\, Suisse
ATTACH;FMTTYPE=image/jpeg:https://actr.ch/wp-content/uploads/2017/06/ACTR-réunion-mardi-soir-05.06.17-1.jpg
END:VEVENT
BEGIN:VEVENT
DTSTART;TZID=Europe/Zurich:20211107T100000
DTEND;TZID=Europe/Zurich:20211107T114500
DTSTAMP:20260424T171435
CREATED:20211024T080406Z
LAST-MODIFIED:20211101T083635Z
UID:4544-1636279200-1636285500@actr.ch
SUMMARY:Culte & message biblique
DESCRIPTION:Dimanche 7 novembre \nProgramme: \n10h00-11h10: Culte\n \n11h10-11h45: Message biblique\n \nOrateur: Gilles Despins \n  \n10h30-11h30: Garderie\, école du dimanche
URL:https://actr.ch/event/culte-message-biblique-44/
LOCATION:ACTR\, Chemin des Trois-Rois 5\, Lausanne\, 1005\, Suisse
ATTACH;FMTTYPE=image/jpeg:https://actr.ch/wp-content/uploads/2021/01/119434529_376963720373140_5945105208021660451_o.jpg
END:VEVENT
BEGIN:VEVENT
DTSTART;TZID=Europe/Zurich:20211109T200000
DTEND;TZID=Europe/Zurich:20211109T213000
DTSTAMP:20260424T171435
CREATED:20211102T082809Z
LAST-MODIFIED:20211108T092759Z
UID:4555-1636488000-1636493400@actr.ch
SUMMARY:Etude biblique & prière
DESCRIPTION:Etude biblique et prière (en présentiel) \nThème: Entrons dans le repos de Dieu (Hébreux 4) \nOrateur: F. Wallraven
URL:https://actr.ch/event/etude-biblique-priere-161/
LOCATION:ACTR\, Chemin des Trois-Rois 5\, Lausanne\, 1005\, Suisse
ATTACH;FMTTYPE=image/jpeg:https://actr.ch/wp-content/uploads/2017/06/ACTR-réunion-mardi-soir-05.06.17-1.jpg
END:VEVENT
BEGIN:VEVENT
DTSTART;TZID=Europe/Zurich:20211114T100000
DTEND;TZID=Europe/Zurich:20211114T114500
DTSTAMP:20260424T171435
CREATED:20211102T083230Z
LAST-MODIFIED:20211108T092648Z
UID:4557-1636884000-1636890300@actr.ch
SUMMARY:Culte & message biblique
DESCRIPTION:Dimanche 14 novembre \nProgramme: \n10h00-10h20: Présentation des enfants (hors ligne)\n \n10h20-11h10: Culte\n \n11h10-11h45: Message biblique\n \nHumanité/divinité 2 (A la découverte du Christ) \nOrateur: Benoît Pfister \n  \n10h30-11h45: Garderie\, école du dimanche
URL:https://actr.ch/event/culte-message-biblique-45/
LOCATION:ACTR\, Chemin des Trois-Rois 5\, Lausanne\, 1005\, Suisse
ATTACH;FMTTYPE=image/png:https://actr.ch/wp-content/uploads/2021/11/7_Humanité_divinité_pt2.png
END:VEVENT
BEGIN:VEVENT
DTSTART;TZID=Europe/Zurich:20211116T200000
DTEND;TZID=Europe/Zurich:20211116T213000
DTSTAMP:20260424T171435
CREATED:20211115T100957Z
LAST-MODIFIED:20211115T100957Z
UID:4582-1637092800-1637098200@actr.ch
SUMMARY:Etude biblique & prière
DESCRIPTION:Etude biblique et prière (en présentiel) \nThème: Mise au tombeau (Matthieu 27 v. 32-56) \nOrateur: Eric Lecomte
URL:https://actr.ch/event/etude-biblique-priere-162/
LOCATION:ACTR\, Chemin des Trois-Rois 5\, Lausanne\, 1005\, Suisse
ATTACH;FMTTYPE=image/jpeg:https://actr.ch/wp-content/uploads/2017/06/ACTR-réunion-mardi-soir-05.06.17-e1496654616406.jpg
END:VEVENT
BEGIN:VEVENT
DTSTART;TZID=Europe/Zurich:20211121T100000
DTEND;TZID=Europe/Zurich:20211121T113000
DTSTAMP:20260424T171435
CREATED:20211108T092539Z
LAST-MODIFIED:20211118T140333Z
UID:4568-1637488800-1637494200@actr.ch
SUMMARY:CULTE OPEN DOOR
DESCRIPTION:Dimanche 21 novembre \nProgramme: \n10h00-11h30: Culte & message biblique \n“Exclusif et intolérant: pourquoi une religion plutôt qu’une autre?” \nOrateur: Simon Grunder \n  \n10h30-11h30: Garderie\, école du dimanche \n  \nLien pour suivre le culte en ligne: https://actr.ch/live/
URL:https://actr.ch/event/culte-open-door-7/
LOCATION:ACTR\, Chemin des Trois-Rois 5\, Lausanne\, 1005\, Suisse
ATTACH;FMTTYPE=image/jpeg:https://actr.ch/wp-content/uploads/2021/11/Flyer_Open_Door_21.11.22-scaled.jpg
END:VEVENT
BEGIN:VEVENT
DTSTART;TZID=Europe/Zurich:20211123T200000
DTEND;TZID=Europe/Zurich:20211123T213000
DTSTAMP:20260424T171435
CREATED:20211115T101210Z
LAST-MODIFIED:20211115T101210Z
UID:4584-1637697600-1637703000@actr.ch
SUMMARY:Etude biblique & prière
DESCRIPTION:Etude biblique et prière (en présentiel) \nThème: “Résurrection de Jésus (Matthieu 28 v. 1-15) \nOrateur: Thomas Sanchez
URL:https://actr.ch/event/etude-biblique-priere-163/
LOCATION:ACTR\, Chemin des Trois-Rois 5\, Lausanne\, 1005\, Suisse
ATTACH;FMTTYPE=image/jpeg:https://actr.ch/wp-content/uploads/2017/05/ACTR-la-parole-de-Dieu-1-e1496258536129.jpg
END:VEVENT
BEGIN:VEVENT
DTSTART;TZID=Europe/Zurich:20211128T100000
DTEND;TZID=Europe/Zurich:20211128T114500
DTSTAMP:20260424T171435
CREATED:20211115T101507Z
LAST-MODIFIED:20211115T125435Z
UID:4586-1638093600-1638099900@actr.ch
SUMMARY:Culte & message biblique
DESCRIPTION:Dimanche 28 novembre \nProgramme: \n10h00-11h10: Culte\n \n11h10-11h45: Message biblique\n \nTrinité (A la découverte du Christ) \nOrateur: Filipe Felgueiras \n  \n10h30-11h45: Garderie\, école du dimanche \n  \nLien pour suivre le culte en ligne: https://actr.ch/live/
URL:https://actr.ch/event/culte-message-biblique-46/
LOCATION:ACTR\, Chemin des Trois-Rois 5\, Lausanne\, 1005\, Suisse
ATTACH;FMTTYPE=image/png:https://actr.ch/wp-content/uploads/2021/11/8_Trinité.png
END:VEVENT
BEGIN:VEVENT
DTSTART;TZID=Europe/Zurich:20211130T200000
DTEND;TZID=Europe/Zurich:20211130T213000
DTSTAMP:20260424T171435
CREATED:20211123T073254Z
LAST-MODIFIED:20211123T073254Z
UID:4607-1638302400-1638307800@actr.ch
SUMMARY:Etude biblique & prière
DESCRIPTION:Etude biblique et prière (en présentiel) \nThème: “Envoi des disciples en mission et conclusion” (Matthieu 28 v. 16-20) \nOrateur: Thomas Saner \nRETOUR DU GBEU
URL:https://actr.ch/event/etude-biblique-priere-164/
LOCATION:ACTR\, Chemin des Trois-Rois 5\, Lausanne\, 1005\, Suisse
ATTACH;FMTTYPE=image/jpeg:https://actr.ch/wp-content/uploads/2017/05/ACTR-la-parole-de-Dieu-1-e1496258536129.jpg
END:VEVENT
END:VCALENDAR