BEGIN:VCALENDAR
VERSION:2.0
PRODID:-//ACTR - ECPv6.2.9//NONSGML v1.0//EN
CALSCALE:GREGORIAN
METHOD:PUBLISH
X-ORIGINAL-URL:https://actr.ch
X-WR-CALDESC:évènements pour ACTR
REFRESH-INTERVAL;VALUE=DURATION:PT1H
X-Robots-Tag:noindex
X-PUBLISHED-TTL:PT1H
BEGIN:VTIMEZONE
TZID:Europe/Zurich
BEGIN:DAYLIGHT
TZOFFSETFROM:+0100
TZOFFSETTO:+0200
TZNAME:CEST
DTSTART:20210328T010000
END:DAYLIGHT
BEGIN:STANDARD
TZOFFSETFROM:+0200
TZOFFSETTO:+0100
TZNAME:CET
DTSTART:20211031T010000
END:STANDARD
END:VTIMEZONE
BEGIN:VEVENT
DTSTART;TZID=Europe/Zurich:20210905T100000
DTEND;TZID=Europe/Zurich:20210905T113000
DTSTAMP:20260424T184203
CREATED:20210830T112751Z
LAST-MODIFIED:20210830T112751Z
UID:4438-1630836000-1630841400@actr.ch
SUMMARY:Culte & message biblique
DESCRIPTION:Dimanche 5 septembre \nProgramme: \n10h00-10h50: Culte (EN LIVESTREAM) \n10h50-11h30: Message biblique\n \n“Connaître Christ” \nOrateur: Gérald Stocker \n  \n10h30-11h30: Garderie et Ecole du dimanche \n  \nLien pour visionner le culte en ligne: https://actr.ch/live/
URL:https://actr.ch/event/culte-message-biblique-36/
LOCATION:ACTR\, Chemin des Trois-Rois 5\, Lausanne\, 1005\, Suisse
ATTACH;FMTTYPE=image/jpeg:https://actr.ch/wp-content/uploads/2017/06/cristina-gottardi-259243.jpg
END:VEVENT
BEGIN:VEVENT
DTSTART;TZID=Europe/Zurich:20210905T100000
DTEND;TZID=Europe/Zurich:20210905T113000
DTSTAMP:20260424T184203
CREATED:20210913T081552Z
LAST-MODIFIED:20210913T082251Z
UID:4487-1630836000-1630841400@actr.ch
SUMMARY:A la découverte de Christ!
DESCRIPTION:Série d’enseignements 2021: \nLe dimanche matin à l’ACTR 10h50-11h30 (également en LIVESTREAM: https://actr.ch/live/) \n  \n“A la découverte de Christ” \n5 septembre: Introduction (Gérald Stocker) \n26 septembre: Théophanies (Christian Cuendet) \n10 octobre: Prophéties messianiques (Paul Lacombe) \n31 octobre: Humanité & divinité 1ère partie (Clément Friderici) \n14 novembre: Humanité & divinité 2ème partie (Benoît Pfister) \n28 novembre: Trinité (Filipe Felgueiras) \n5 décembre: Intercesseur & Roi (Stefan Waldmann) \n 
URL:https://actr.ch/event/a-la-decouverte-de-christ/
LOCATION:ACTR\, Chemin des Trois-Rois 5\, Lausanne\, 1005\, Suisse
ATTACH;FMTTYPE=image/png:https://actr.ch/wp-content/uploads/2021/09/2_Sommaire.png
END:VEVENT
BEGIN:VEVENT
DTSTART;TZID=Europe/Zurich:20210907T200000
DTEND;TZID=Europe/Zurich:20210907T213000
DTSTAMP:20260424T184203
CREATED:20210825T094230Z
LAST-MODIFIED:20210825T094230Z
UID:4426-1631044800-1631050200@actr.ch
SUMMARY:Etude biblique & prière
DESCRIPTION:Etude biblique et prière (en présentiel) \nSujet: “Reproches de Jésus aux chefs religieux II” Matthieu 23 v. 13-39\n \nOrateur: Clément Friderici
URL:https://actr.ch/event/etude-biblique-priere-152/
LOCATION:ACTR\, Chemin des Trois-Rois 5\, Lausanne\, 1005\, Suisse
ATTACH;FMTTYPE=image/jpeg:https://actr.ch/wp-content/uploads/2017/05/ACTR-la-parole-de-Dieu-1-e1496258536129.jpg
END:VEVENT
BEGIN:VEVENT
DTSTART;TZID=Europe/Zurich:20210912T100000
DTEND;TZID=Europe/Zurich:20210912T113000
DTSTAMP:20260424T184203
CREATED:20210830T113056Z
LAST-MODIFIED:20210830T113210Z
UID:4440-1631440800-1631446200@actr.ch
SUMMARY:Culte OPEN DOOR
DESCRIPTION:Dimanche 12 septembre \nProgramme: \n10h00-10h50: Culte OPEN DOOR (EN LIVESTREAM) \n“Aimé” \nOrateur: Olivier Pfingstag \n  \n10h30-11h30: Garderie et Ecole du dimanche \n  \nLien pour visionner le culte en ligne: https://actr.ch/live/
URL:https://actr.ch/event/4440/
LOCATION:ACTR\, Chemin des Trois-Rois 5\, Lausanne\, 1005\, Suisse
ATTACH;FMTTYPE=image/jpeg:https://actr.ch/wp-content/uploads/2021/08/affiche-culte-open-door.jpg
END:VEVENT
BEGIN:VEVENT
DTSTART;TZID=Europe/Zurich:20210914T200000
DTEND;TZID=Europe/Zurich:20210914T213000
DTSTAMP:20260424T184203
CREATED:20210913T075956Z
LAST-MODIFIED:20210913T075956Z
UID:4483-1631649600-1631655000@actr.ch
SUMMARY:Etude biblique & prière
DESCRIPTION:Etude biblique et prière (en présentiel) \nSujet: “Paraboles des dix jeunes filles et des serviteurs et récompenses” Matthieu 25 v. 1-30\n \nOrateur: Raymond Filliez
URL:https://actr.ch/event/etude-biblique-priere-153/
LOCATION:ACTR\, Chemin des Trois-Rois 5\, Lausanne\, 1005\, Suisse
ATTACH;FMTTYPE=image/jpeg:https://actr.ch/wp-content/uploads/2017/05/ACTR-la-parole-de-Dieu-1-e1496258536129.jpg
END:VEVENT
BEGIN:VEVENT
DTSTART;TZID=Europe/Zurich:20210919T100000
DTEND;TZID=Europe/Zurich:20210919T113000
DTSTAMP:20260424T184203
CREATED:20210913T075300Z
LAST-MODIFIED:20210913T075300Z
UID:4478-1632045600-1632051000@actr.ch
SUMMARY:Culte & message biblique
DESCRIPTION:Dimanche 19 septembre \nProgramme: \n10h00-10h50: Culte\n \n10h50-11h30: Message biblique\n \n  \n10h30-11h30: Garderie \n  \nLien pour visionner le culte en ligne: https://actr.ch/live/
URL:https://actr.ch/event/culte-message-biblique-37/
LOCATION:ACTR\, Chemin des Trois-Rois 5\, Lausanne\, 1005\, Suisse
ATTACH;FMTTYPE=image/jpeg:https://actr.ch/wp-content/uploads/2017/06/denys-nevozhai-191635.jpg
END:VEVENT
BEGIN:VEVENT
DTSTART;TZID=Europe/Zurich:20210921T200000
DTEND;TZID=Europe/Zurich:20210921T210000
DTSTAMP:20260424T184203
CREATED:20210913T080158Z
LAST-MODIFIED:20210913T080158Z
UID:4485-1632254400-1632258000@actr.ch
SUMMARY:Etude biblique & prière
DESCRIPTION:Etude biblique et prière (en présentiel) \nSujet: “Jugement des nations” Matthieu 25 v. 31-46\n \nOrateur: Dominique Bourgeois
URL:https://actr.ch/event/etude-biblique-priere-154/
LOCATION:ACTR\, Chemin des Trois-Rois 5\, Lausanne\, 1005\, Suisse
ATTACH;FMTTYPE=image/jpeg:https://actr.ch/wp-content/uploads/2017/05/ACTR-la-parole-de-Dieu-1-e1496258536129.jpg
END:VEVENT
BEGIN:VEVENT
DTSTART;TZID=Europe/Zurich:20210926T100000
DTEND;TZID=Europe/Zurich:20210926T113000
DTSTAMP:20260424T184203
CREATED:20210913T075729Z
LAST-MODIFIED:20210921T075121Z
UID:4480-1632650400-1632655800@actr.ch
SUMMARY:Culte & message biblique
DESCRIPTION:Dimanche 26 septembre \nProgramme: \n10h00-10h20: Présentation des enfants\n \n10h20-11h00: Culte (début du Livestream) \n11h00-11h30: Message biblique\n \n“A la découverte de Christ: Théophanies” \nOrateur: Christian Cuendet \n  \n10h30-11h30: Garderie et Ecole du dimanche \n  \nLien pour visionner le culte en ligne: https://actr.ch/live/
URL:https://actr.ch/event/culte-message-biblique-38/
LOCATION:ACTR\, Chemin des Trois-Rois 5\, Lausanne\, 1005\, Suisse
ATTACH;FMTTYPE=image/png:https://actr.ch/wp-content/uploads/2021/09/4_Théophanies.png
END:VEVENT
BEGIN:VEVENT
DTSTART;TZID=Europe/Zurich:20210928T200000
DTEND;TZID=Europe/Zurich:20210928T213000
DTSTAMP:20260424T184203
CREATED:20210927T074905Z
LAST-MODIFIED:20210927T075647Z
UID:4508-1632859200-1632864600@actr.ch
SUMMARY:Etude biblique & prière
DESCRIPTION:Etude biblique et prière (en présentiel) \nSujet: “Complot contre Jésus et hommage à Jésus” Matthieu 26 v. 1-16\n \nOrateur: Dominique Bourgeois
URL:https://actr.ch/event/etude-biblique-priere-156/
LOCATION:ACTR\, Chemin des Trois-Rois 5\, Lausanne\, 1005\, Suisse
ATTACH;FMTTYPE=image/jpeg:https://actr.ch/wp-content/uploads/2017/06/ACTR-réunion-mardi-soir-05.06.17-1.jpg
END:VEVENT
END:VCALENDAR