BEGIN:VCALENDAR
VERSION:2.0
PRODID:-//ACTR - ECPv6.2.9//NONSGML v1.0//EN
CALSCALE:GREGORIAN
METHOD:PUBLISH
X-ORIGINAL-URL:https://actr.ch
X-WR-CALDESC:évènements pour ACTR
REFRESH-INTERVAL;VALUE=DURATION:PT1H
X-Robots-Tag:noindex
X-PUBLISHED-TTL:PT1H
BEGIN:VTIMEZONE
TZID:Europe/Zurich
BEGIN:DAYLIGHT
TZOFFSETFROM:+0100
TZOFFSETTO:+0200
TZNAME:CEST
DTSTART:20210328T010000
END:DAYLIGHT
BEGIN:STANDARD
TZOFFSETFROM:+0200
TZOFFSETTO:+0100
TZNAME:CET
DTSTART:20211031T010000
END:STANDARD
END:VTIMEZONE
BEGIN:VEVENT
DTSTART;TZID=Europe/Zurich:20210801T100000
DTEND;TZID=Europe/Zurich:20210801T113000
DTSTAMP:20260425T045754
CREATED:20210629T075935Z
LAST-MODIFIED:20210629T080031Z
UID:4371-1627812000-1627817400@actr.ch
SUMMARY:Culte & message biblique
DESCRIPTION:Dimanche 1er août \nProgramme EN LIGNE OU EN PRÉSENTIEL \n10h00-10h50: Culte\n \n10h50-11h30: Message biblique \n  \nLien pour visionner le culte en ligne: https://actr.ch/live/
URL:https://actr.ch/event/culte-message-biblique-31/
LOCATION:ACTR\, Chemin des Trois-Rois 5\, Lausanne\, 1005\, Suisse
ATTACH;FMTTYPE=image/jpeg:https://actr.ch/wp-content/uploads/2017/06/loreta-pavoliene-2175.jpg
END:VEVENT
BEGIN:VEVENT
DTSTART;TZID=Europe/Zurich:20210803T200000
DTEND;TZID=Europe/Zurich:20210803T213000
DTSTAMP:20260425T045754
CREATED:20210629T075132Z
LAST-MODIFIED:20210629T075132Z
UID:4363-1628020800-1628026200@actr.ch
SUMMARY:Etude biblique & prière
DESCRIPTION:Etude biblique et prière (en présentiel) \nSujet: LIBRE\n \nOrateur: libre
URL:https://actr.ch/event/etude-biblique-priere-147/
LOCATION:ACTR\, Chemin des Trois-Rois 5\, Lausanne\, 1005\, Suisse
ATTACH;FMTTYPE=image/jpeg:https://actr.ch/wp-content/uploads/2017/06/ACTR-réunion-mardi-soir-05.06.17-1.jpg
END:VEVENT
BEGIN:VEVENT
DTSTART;TZID=Europe/Zurich:20210808T100000
DTEND;TZID=Europe/Zurich:20210808T113000
DTSTAMP:20260425T045754
CREATED:20210727T081108Z
LAST-MODIFIED:20210727T081208Z
UID:4385-1628416800-1628422200@actr.ch
SUMMARY:Culte & message biblique
DESCRIPTION:Dimanche 8 août \nProgramme EN LIGNE OU EN PRÉSENTIEL \n10h00-10h50: Culte\n \n10h50-11h30: Message biblique \n  \nLien pour visionner le culte en ligne: https://actr.ch/live/
URL:https://actr.ch/event/culte-message-biblique-32/
LOCATION:ACTR\, Chemin des Trois-Rois 5\, Lausanne\, 1005\, Suisse
ATTACH;FMTTYPE=image/jpeg:https://actr.ch/wp-content/uploads/2021/07/207470629_900240770563434_4375420259903568099_n.jpg
END:VEVENT
BEGIN:VEVENT
DTSTART;TZID=Europe/Zurich:20210810T200000
DTEND;TZID=Europe/Zurich:20210810T213000
DTSTAMP:20260425T045754
CREATED:20210809T103827Z
LAST-MODIFIED:20210809T103827Z
UID:4400-1628625600-1628631000@actr.ch
SUMMARY:Etude biblique & prière
DESCRIPTION:Etude biblique et prière (en présentiel) \nSujet: “Jésus dans le temple” Matthieu 21 v. 12-27\n \nOrateur: Jean-Pascal Richir
URL:https://actr.ch/event/etude-biblique-priere-148/
LOCATION:ACTR\, Chemin des Trois-Rois 5\, Lausanne\, 1005\, Suisse
ATTACH;FMTTYPE=image/jpeg:https://actr.ch/wp-content/uploads/2017/06/ACTR-réunion-mardi-soir-05.06.17-e1496654616406.jpg
END:VEVENT
BEGIN:VEVENT
DTSTART;TZID=Europe/Zurich:20210815T100000
DTEND;TZID=Europe/Zurich:20210815T113000
DTSTAMP:20260425T045754
CREATED:20210809T103447Z
LAST-MODIFIED:20210809T103447Z
UID:4394-1629021600-1629027000@actr.ch
SUMMARY:Culte & message biblique
DESCRIPTION:Dimanche 15 août \nProgramme EN LIGNE OU EN PRÉSENTIEL \n10h00-10h50: Culte\n \n10h50-11h30: Message biblique \n  \nLien pour visionner le culte en ligne: https://actr.ch/live/
URL:https://actr.ch/event/culte-message-biblique-33/
LOCATION:ACTR\, Chemin des Trois-Rois 5\, Lausanne\, 1005\, Suisse
ATTACH;FMTTYPE=image/jpeg:https://actr.ch/wp-content/uploads/2021/08/203630485_10222836945666529_7403907742037433025_n.jpg
END:VEVENT
BEGIN:VEVENT
DTSTART;TZID=Europe/Zurich:20210817T200000
DTEND;TZID=Europe/Zurich:20210817T213000
DTSTAMP:20260425T045754
CREATED:20210809T104037Z
LAST-MODIFIED:20210809T104354Z
UID:4402-1629230400-1629235800@actr.ch
SUMMARY:Etude biblique & prière
DESCRIPTION:Etude biblique et prière (en présentiel) \nSujet: “Trois paraboles” Matthieu 21 v.28-22.14\n \nOrateur: Thomas Saner
URL:https://actr.ch/event/etude-biblique-priere-149/
LOCATION:ACTR\, Chemin des Trois-Rois 5\, Lausanne\, 1005\, Suisse
ATTACH;FMTTYPE=image/jpeg:https://actr.ch/wp-content/uploads/2017/05/ACTR-la-parole-de-Dieu-1-e1496258536129.jpg
END:VEVENT
BEGIN:VEVENT
DTSTART;TZID=Europe/Zurich:20210822T100000
DTEND;TZID=Europe/Zurich:20210822T113000
DTSTAMP:20260425T045754
CREATED:20210809T103620Z
LAST-MODIFIED:20210809T104314Z
UID:4397-1629626400-1629631800@actr.ch
SUMMARY:Culte & message biblique
DESCRIPTION:Dimanche 22 août \nProgramme EN LIGNE OU EN PRÉSENTIEL \n10h00-10h50: Culte\n \n10h50-11h30: Message biblique \n  \nLien pour visionner le culte en ligne: https://actr.ch/live/
URL:https://actr.ch/event/culte-message-biblique-34/
LOCATION:ACTR\, Chemin des Trois-Rois 5\, Lausanne\, 1005\, Suisse
ATTACH;FMTTYPE=image/jpeg:https://actr.ch/wp-content/uploads/2021/08/187475542_10158863446321293_9169735193372619115_n.jpg
END:VEVENT
BEGIN:VEVENT
DTSTART;TZID=Europe/Zurich:20210824T200000
DTEND;TZID=Europe/Zurich:20210824T213000
DTSTAMP:20260425T045754
CREATED:20210809T104217Z
LAST-MODIFIED:20210809T104217Z
UID:4404-1629835200-1629840600@actr.ch
SUMMARY:Etude biblique & prière
DESCRIPTION:Etude biblique et prière (en présentiel) \nSujet: “Tentatives de piéger Jésus” Matthieu 22 v.14-40\n \nOrateur: Stéphane Richir
URL:https://actr.ch/event/etude-biblique-priere-150/
LOCATION:ACTR\, Chemin des Trois-Rois 5\, Lausanne\, 1005\, Suisse
ATTACH;FMTTYPE=image/jpeg:https://actr.ch/wp-content/uploads/2017/06/ACTR-réunion-mardi-soir-05.06.17-1.jpg
END:VEVENT
BEGIN:VEVENT
DTSTART;TZID=Europe/Zurich:20210829T100000
DTEND;TZID=Europe/Zurich:20210829T113000
DTSTAMP:20260425T045754
CREATED:20210822T153010Z
LAST-MODIFIED:20210825T093826Z
UID:4416-1630231200-1630236600@actr.ch
SUMMARY:Culte & message biblique
DESCRIPTION:Dimanche 29 août \nProgramme: \n10h00-10h50: Culte (EN LIVESTREAM) \n10h50-11h30: Message biblique (UNIQUEMENT EN PRESENTIEL)\n \n“Rencontrer Jésus – témoignage” \nOrateur: Jean-Pascal Richir \n  \n10h30-11h30: Garderie et Ecole du dimanche \n  \nLien pour visionner le culte en ligne: https://actr.ch/live/ \n  \nREPAS CONVIVIAL: \nRDV dès midi au refuge des Cheseaux pour un pique-nique canadien avec grillades. \n 
URL:https://actr.ch/event/culte-message-biblique-35/
LOCATION:ACTR\, Chemin des Trois-Rois 5\, Lausanne\, 1005\, Suisse
ATTACH;FMTTYPE=image/jpeg:https://actr.ch/wp-content/uploads/2017/06/antoine-beauvillain-17799.jpg
END:VEVENT
BEGIN:VEVENT
DTSTART;TZID=Europe/Zurich:20210831T200000
DTEND;TZID=Europe/Zurich:20210831T213000
DTSTAMP:20260425T045754
CREATED:20210825T094043Z
LAST-MODIFIED:20210825T094043Z
UID:4424-1630440000-1630445400@actr.ch
SUMMARY:Etude biblique & prière
DESCRIPTION:Etude biblique et prière (en présentiel) \nSujet: “Reproches de Jésus aux chefs religieux I” Matthieu 22.41-23.12\n \nOrateur: Benoît Pfister
URL:https://actr.ch/event/etude-biblique-priere-151/
LOCATION:ACTR\, Chemin des Trois-Rois 5\, Lausanne\, 1005\, Suisse
ATTACH;FMTTYPE=image/jpeg:https://actr.ch/wp-content/uploads/2017/05/ACTR-la-parole-de-Dieu-1-e1496258536129.jpg
END:VEVENT
END:VCALENDAR