BEGIN:VCALENDAR
VERSION:2.0
PRODID:-//ACTR - ECPv6.2.9//NONSGML v1.0//EN
CALSCALE:GREGORIAN
METHOD:PUBLISH
X-WR-CALNAME:ACTR
X-ORIGINAL-URL:https://actr.ch
X-WR-CALDESC:évènements pour ACTR
REFRESH-INTERVAL;VALUE=DURATION:PT1H
X-Robots-Tag:noindex
X-PUBLISHED-TTL:PT1H
BEGIN:VTIMEZONE
TZID:Europe/Zurich
BEGIN:DAYLIGHT
TZOFFSETFROM:+0100
TZOFFSETTO:+0200
TZNAME:CEST
DTSTART:20210328T010000
END:DAYLIGHT
BEGIN:STANDARD
TZOFFSETFROM:+0200
TZOFFSETTO:+0100
TZNAME:CET
DTSTART:20211031T010000
END:STANDARD
END:VTIMEZONE
BEGIN:VEVENT
DTSTART;TZID=Europe/Zurich:20210704T100000
DTEND;TZID=Europe/Zurich:20210704T113000
DTSTAMP:20260425T122906
CREATED:20210625T155638Z
LAST-MODIFIED:20210628T090133Z
UID:4351-1625392800-1625398200@actr.ch
SUMMARY:Culte & message biblique
DESCRIPTION:Dimanche 4 juillet \nProgramme EN LIGNE OU EN PRÉSENTIEL \n10h00-10h50: Culte\n \n10h50-11h30: Message biblique \n  \nLien pour visionner le culte en ligne: https://actr.ch/live/
URL:https://actr.ch/event/4351/
LOCATION:ACTR\, Chemin des Trois-Rois 5\, Lausanne\, 1005\, Suisse
ATTACH;FMTTYPE=image/jpeg:https://actr.ch/wp-content/uploads/2017/06/joshua-earle-223653.jpg
END:VEVENT
BEGIN:VEVENT
DTSTART;TZID=Europe/Zurich:20210706T200000
DTEND;TZID=Europe/Zurich:20210706T213000
DTSTAMP:20260425T122906
CREATED:20210625T155023Z
LAST-MODIFIED:20210625T155023Z
UID:4349-1625601600-1625607000@actr.ch
SUMMARY:Etude biblique & prière
DESCRIPTION:Etude biblique et prière (en présentiel) \n” Premiers et derniers” (Acte III) Matthieu 20 v. 17-28 \nOrateur: Thomas Sanchez
URL:https://actr.ch/event/etude-biblique-priere-143/
LOCATION:ACTR\, Chemin des Trois-Rois 5\, Lausanne\, 1005\, Suisse
ATTACH;FMTTYPE=image/jpeg:https://actr.ch/wp-content/uploads/2017/06/ACTR-réunion-mardi-soir-05.06.17-1.jpg
END:VEVENT
BEGIN:VEVENT
DTSTART;TZID=Europe/Zurich:20210711T100000
DTEND;TZID=Europe/Zurich:20210711T113000
DTSTAMP:20260425T122906
CREATED:20210629T075526Z
LAST-MODIFIED:20210629T075526Z
UID:4365-1625997600-1626003000@actr.ch
SUMMARY:Culte & message biblique
DESCRIPTION:Dimanche 11 juillet \nProgramme EN LIGNE OU EN PRÉSENTIEL \n10h00-10h50: Culte\n \n10h50-11h30: Message biblique \n  \nLien pour visionner le culte en ligne: https://actr.ch/live/
URL:https://actr.ch/event/culte-message-biblique-28/
LOCATION:ACTR\, Chemin des Trois-Rois 5\, Lausanne\, 1005\, Suisse
ATTACH;FMTTYPE=image/jpeg:https://actr.ch/wp-content/uploads/2017/06/aaron-burden-276457.jpg
END:VEVENT
BEGIN:VEVENT
DTSTART;TZID=Europe/Zurich:20210713T200000
DTEND;TZID=Europe/Zurich:20210713T213000
DTSTAMP:20260425T122906
CREATED:20210629T074722Z
LAST-MODIFIED:20210629T074722Z
UID:4357-1626206400-1626211800@actr.ch
SUMMARY:Etude biblique & prière
DESCRIPTION:Etude biblique et prière (en présentiel) \n” Guérison de deux aveugles et entrée triomphale de Jésus à Jérusalem”. Matthieu 20 v. 29-21 v. 11 \nOrateur: Christophe Argaud
URL:https://actr.ch/event/etude-biblique-priere-144/
LOCATION:ACTR\, Chemin des Trois-Rois 5\, Lausanne\, 1005\, Suisse
ATTACH;FMTTYPE=image/jpeg:https://actr.ch/wp-content/uploads/2017/06/ACTR-réunion-mardi-soir-05.06.17-1.jpg
END:VEVENT
BEGIN:VEVENT
DTSTART;TZID=Europe/Zurich:20210718T100000
DTEND;TZID=Europe/Zurich:20210718T113000
DTSTAMP:20260425T122906
CREATED:20210629T075654Z
LAST-MODIFIED:20210629T075654Z
UID:4367-1626602400-1626607800@actr.ch
SUMMARY:Culte & message biblique
DESCRIPTION:Dimanche 18 juillet \nProgramme EN LIGNE OU EN PRÉSENTIEL \n10h00-10h50: Culte\n \n10h50-11h30: Message biblique \n  \nLien pour visionner le culte en ligne: https://actr.ch/live/
URL:https://actr.ch/event/culte-message-biblique-29/
LOCATION:ACTR\, Chemin des Trois-Rois 5\, Lausanne\, 1005\, Suisse
ATTACH;FMTTYPE=image/jpeg:https://actr.ch/wp-content/uploads/2017/06/ACTR-Culte-4.jpg
END:VEVENT
BEGIN:VEVENT
DTSTART;TZID=Europe/Zurich:20210720T200000
DTEND;TZID=Europe/Zurich:20210720T213000
DTSTAMP:20260425T122906
CREATED:20210629T074900Z
LAST-MODIFIED:20210629T075309Z
UID:4359-1626811200-1626816600@actr.ch
SUMMARY:Etude biblique & prière
DESCRIPTION:Etude biblique et prière (en présentiel) \nSujet: LIBRE\n \nOrateur: libre
URL:https://actr.ch/event/etude-biblique-priere-145/
LOCATION:ACTR\, Chemin des Trois-Rois 5\, Lausanne\, 1005\, Suisse
ATTACH;FMTTYPE=image/jpeg:https://actr.ch/wp-content/uploads/2017/06/ACTR-réunion-mardi-soir-05.06.17-1.jpg
END:VEVENT
BEGIN:VEVENT
DTSTART;TZID=Europe/Zurich:20210725T100000
DTEND;TZID=Europe/Zurich:20210725T113000
DTSTAMP:20260425T122906
CREATED:20210629T075810Z
LAST-MODIFIED:20210629T075810Z
UID:4369-1627207200-1627212600@actr.ch
SUMMARY:Culte & message biblique
DESCRIPTION:Dimanche 25 juillet \nProgramme EN LIGNE OU EN PRÉSENTIEL \n10h00-10h50: Culte\n \n10h50-11h30: Message biblique \n  \nLien pour visionner le culte en ligne: https://actr.ch/live/
URL:https://actr.ch/event/culte-message-biblique-30/
LOCATION:ACTR\, Chemin des Trois-Rois 5\, Lausanne\, 1005\, Suisse
ATTACH;FMTTYPE=image/jpeg:https://actr.ch/wp-content/uploads/2017/06/denys-nevozhai-191635.jpg
END:VEVENT
BEGIN:VEVENT
DTSTART;TZID=Europe/Zurich:20210727T200000
DTEND;TZID=Europe/Zurich:20210727T213000
DTSTAMP:20260425T122906
CREATED:20210629T075015Z
LAST-MODIFIED:20210629T075015Z
UID:4361-1627416000-1627421400@actr.ch
SUMMARY:Etude biblique & prière
DESCRIPTION:Etude biblique et prière (en présentiel) \nSujet: LIBRE\n \nOrateur: libre
URL:https://actr.ch/event/etude-biblique-priere-146/
LOCATION:ACTR\, Chemin des Trois-Rois 5\, Lausanne\, 1005\, Suisse
ATTACH;FMTTYPE=image/jpeg:https://actr.ch/wp-content/uploads/2017/06/ACTR-réunion-mardi-soir-05.06.17-1.jpg
END:VEVENT
END:VCALENDAR