BEGIN:VCALENDAR
VERSION:2.0
PRODID:-//ACTR - ECPv6.2.9//NONSGML v1.0//EN
CALSCALE:GREGORIAN
METHOD:PUBLISH
X-WR-CALNAME:ACTR
X-ORIGINAL-URL:https://actr.ch
X-WR-CALDESC:évènements pour ACTR
REFRESH-INTERVAL;VALUE=DURATION:PT1H
X-Robots-Tag:noindex
X-PUBLISHED-TTL:PT1H
BEGIN:VTIMEZONE
TZID:Europe/Zurich
BEGIN:DAYLIGHT
TZOFFSETFROM:+0100
TZOFFSETTO:+0200
TZNAME:CEST
DTSTART:20210328T010000
END:DAYLIGHT
BEGIN:STANDARD
TZOFFSETFROM:+0200
TZOFFSETTO:+0100
TZNAME:CET
DTSTART:20211031T010000
END:STANDARD
END:VTIMEZONE
BEGIN:VEVENT
DTSTART;TZID=Europe/Zurich:20210502T100000
DTEND;TZID=Europe/Zurich:20210502T113000
DTSTAMP:20260425T170951
CREATED:20210426T132539Z
LAST-MODIFIED:20210426T132539Z
UID:4249-1619949600-1619955000@actr.ch
SUMMARY:Culte & message biblique
DESCRIPTION:Dimanche 2 mai \nProgramme EN LIGNE OU EN PRÉSENTIEL SUR INSCRIPTION (za.gautier@gmail.com): \n10h00-11h30: Culte + message biblique \nThème: “L’encouragement” avec témoignages \nOrateur: Samuel et Sylvie Gindrat \n  \nCliquez ci-dessous pour assister en direct au culte ou pour visionner en différé les derniers cultes:\nhttps://actr.ch/live/
URL:https://actr.ch/event/culte-message-biblique-20/
LOCATION:ACTR\, Chemin des Trois-Rois 5\, Lausanne\, 1005\, Suisse
ATTACH;FMTTYPE=image/jpeg:https://actr.ch/wp-content/uploads/2021/04/175889354_3520662888038277_7914435480952196979_n.jpg
END:VEVENT
BEGIN:VEVENT
DTSTART;TZID=Europe/Zurich:20210504T200000
DTEND;TZID=Europe/Zurich:20210504T213000
DTSTAMP:20260425T170951
CREATED:20210426T151450Z
LAST-MODIFIED:20210426T151450Z
UID:4252-1620158400-1620163800@actr.ch
SUMMARY:Etude biblique & prière
DESCRIPTION:Etude biblique et prière (en présentiel) \n” Le levain des Pharisiens et Sadducéens” (Matthieu 16 v. 1-12) \nOrateur: Paul Lacombe
URL:https://actr.ch/event/etude-biblique-priere-134/
LOCATION:ACTR\, Chemin des Trois-Rois 5\, Lausanne\, 1005\, Suisse
ATTACH;FMTTYPE=image/jpeg:https://actr.ch/wp-content/uploads/2017/05/ACTR-la-parole-de-Dieu-1-e1496258536129.jpg
END:VEVENT
BEGIN:VEVENT
DTSTART;TZID=Europe/Zurich:20210509T100000
DTEND;TZID=Europe/Zurich:20210509T113000
DTSTAMP:20260425T170951
CREATED:20210503T073625Z
LAST-MODIFIED:20210503T073625Z
UID:4258-1620554400-1620559800@actr.ch
SUMMARY:Culte & message biblique
DESCRIPTION:Dimanche 9 mai \nProgramme EN LIGNE OU EN PRÉSENTIEL SUR INSCRIPTION (za.gautier@gmail.com): \n10h00-11h30: Culte + message biblique \nThème: “Vocation et travail” \nOrateur: Clément Friderici et Christophe Argaud \n  \nCliquez ci-dessous pour assister en direct au culte ou pour visionner en différé les derniers cultes:\nhttps://actr.ch/live/
URL:https://actr.ch/event/culte-message-biblique-21/
LOCATION:ACTR\, Chemin des Trois-Rois 5\, Lausanne\, 1005\, Suisse
CATEGORIES:Cultes
ATTACH;FMTTYPE=image/jpeg:https://actr.ch/wp-content/uploads/2021/05/149831358_1805227849637906_3542126544535766277_o.jpg
END:VEVENT
BEGIN:VEVENT
DTSTART;TZID=Europe/Zurich:20210511T200000
DTEND;TZID=Europe/Zurich:20210511T213000
DTSTAMP:20260425T170951
CREATED:20210503T073916Z
LAST-MODIFIED:20210503T073916Z
UID:4261-1620763200-1620768600@actr.ch
SUMMARY:Etude biblique & prière
DESCRIPTION:Etude biblique et prière (en présentiel) \n” Confession de Pierre\, destinée du Messie et de ses disciples” (Matthieu 16 v. 13-28) \nOrateur: Raymond Filliez
URL:https://actr.ch/event/etude-biblique-priere-135/
LOCATION:ACTR\, Chemin des Trois-Rois 5\, Lausanne\, 1005\, Suisse
ATTACH;FMTTYPE=image/jpeg:https://actr.ch/wp-content/uploads/2017/05/ACTR-la-parole-de-Dieu-1-e1496258536129.jpg
END:VEVENT
BEGIN:VEVENT
DTSTART;TZID=Europe/Zurich:20210516T100000
DTEND;TZID=Europe/Zurich:20210516T113000
DTSTAMP:20260425T170951
CREATED:20210510T084234Z
LAST-MODIFIED:20210510T084301Z
UID:4269-1621159200-1621164600@actr.ch
SUMMARY:Culte & message biblique
DESCRIPTION:Dimanche 16 mai \nProgramme EN LIGNE OU EN PRÉSENTIEL SUR INSCRIPTION (za.gautier@gmail.com): \n10h00-11h30: Culte + message biblique \nThème: “En route vers la maturité” \nOrateur: Eric Lecomte \n  \nCliquez ci-dessous pour assister en direct au culte ou pour visionner en différé les derniers cultes:\nhttps://actr.ch/live/
URL:https://actr.ch/event/culte-message-biblique-22/
LOCATION:ACTR\, Chemin des Trois-Rois 5\, Lausanne\, 1005\, Suisse
CATEGORIES:Cultes
ATTACH;FMTTYPE=image/jpeg:https://actr.ch/wp-content/uploads/2017/06/cristina-gottardi-259243.jpg
END:VEVENT
BEGIN:VEVENT
DTSTART;TZID=Europe/Zurich:20210518T200000
DTEND;TZID=Europe/Zurich:20210518T213000
DTSTAMP:20260425T170951
CREATED:20210510T084544Z
LAST-MODIFIED:20210510T084544Z
UID:4271-1621368000-1621373400@actr.ch
SUMMARY:Etude biblique & prière
DESCRIPTION:Etude biblique et prière (en présentiel) \n” Transfiguration de Jésus” (Matthieu 17 v. 1-12) \nOrateur: Jonathan Saber
URL:https://actr.ch/event/etude-biblique-priere-136/
LOCATION:ACTR\, Chemin des Trois-Rois 5\, Lausanne\, 1005\, Suisse
ATTACH;FMTTYPE=image/jpeg:https://actr.ch/wp-content/uploads/2017/05/ACTR-la-parole-de-Dieu-1-e1496258536129.jpg
END:VEVENT
BEGIN:VEVENT
DTSTART;TZID=Europe/Zurich:20210523T100000
DTEND;TZID=Europe/Zurich:20210523T113000
DTSTAMP:20260425T170951
CREATED:20210517T074510Z
LAST-MODIFIED:20210517T074510Z
UID:4277-1621764000-1621769400@actr.ch
SUMMARY:Culte & message biblique
DESCRIPTION:Dimanche 23 mai \nProgramme EN LIGNE OU EN PRÉSENTIEL SUR INSCRIPTION (za.gautier@gmail.com): \n10h00-11h30: Culte + message biblique \n  \nCliquez ci-dessous pour assister en direct au culte ou pour visionner en différé les derniers cultes:\nhttps://actr.ch/live/
URL:https://actr.ch/event/culte-message-biblique-23/
LOCATION:ACTR\, Chemin des Trois-Rois 5\, Lausanne\, 1005\, Suisse
CATEGORIES:Cultes
ATTACH;FMTTYPE=image/jpeg:https://actr.ch/wp-content/uploads/2017/06/loreta-pavoliene-2175.jpg
END:VEVENT
BEGIN:VEVENT
DTSTART;TZID=Europe/Zurich:20210525T200000
DTEND;TZID=Europe/Zurich:20210525T213000
DTSTAMP:20260425T170951
CREATED:20210517T154440Z
LAST-MODIFIED:20210517T154440Z
UID:4280-1621972800-1621978200@actr.ch
SUMMARY:Étude biblique & prière
DESCRIPTION:Etude biblique et prière (en présentiel) \n” Guérison d’un épileptique\, paiement de l’impôt du temple” (Matthieu 17 v. 13-27) \nOrateur: Eric Lecomte
URL:https://actr.ch/event/etude-biblique-priere-137/
LOCATION:ACTR\, Chemin des Trois-Rois 5\, Lausanne\, 1005\, Suisse
ATTACH;FMTTYPE=image/jpeg:https://actr.ch/wp-content/uploads/2017/06/ACTR-réunion-mardi-soir-05.06.17-1.jpg
END:VEVENT
BEGIN:VEVENT
DTSTART;TZID=Europe/Zurich:20210530T100000
DTEND;TZID=Europe/Zurich:20210530T113000
DTSTAMP:20260425T170951
CREATED:20210525T073255Z
LAST-MODIFIED:20210525T073255Z
UID:4290-1622368800-1622374200@actr.ch
SUMMARY:Culte & message biblique
DESCRIPTION:Dimanche 30 mai \nProgramme EN LIGNE OU EN PRÉSENTIEL SUR INSCRIPTION (za.gautier@gmail.com): \n10h00-11h30: Culte + message biblique \nThème: “Formé (e) pour un but précis”? \nOrateur: Stefan Waldmann \n  \n10h00-11h30: Ecole du dimanche pour les 3-15 ans \n  \nCliquez ci-dessous pour assister en direct au culte ou pour visionner en différé les derniers cultes:\nhttps://actr.ch/live/
URL:https://actr.ch/event/culte-message-biblique-25/
LOCATION:ACTR\, Chemin des Trois-Rois 5\, Lausanne\, 1005\, Suisse
CATEGORIES:Cultes
ATTACH;FMTTYPE=image/jpeg:https://actr.ch/wp-content/uploads/2021/05/187475542_10158863446321293_9169735193372619115_n.jpg
END:VEVENT
END:VCALENDAR