BEGIN:VCALENDAR
VERSION:2.0
PRODID:-//ACTR - ECPv6.2.9//NONSGML v1.0//EN
CALSCALE:GREGORIAN
METHOD:PUBLISH
X-ORIGINAL-URL:https://actr.ch
X-WR-CALDESC:évènements pour ACTR
REFRESH-INTERVAL;VALUE=DURATION:PT1H
X-Robots-Tag:noindex
X-PUBLISHED-TTL:PT1H
BEGIN:VTIMEZONE
TZID:Europe/Zurich
BEGIN:DAYLIGHT
TZOFFSETFROM:+0100
TZOFFSETTO:+0200
TZNAME:CEST
DTSTART:20210328T010000
END:DAYLIGHT
BEGIN:STANDARD
TZOFFSETFROM:+0200
TZOFFSETTO:+0100
TZNAME:CET
DTSTART:20211031T010000
END:STANDARD
END:VTIMEZONE
BEGIN:VEVENT
DTSTART;TZID=Europe/Zurich:20210404T100000
DTEND;TZID=Europe/Zurich:20210404T113000
DTSTAMP:20260425T203423
CREATED:20210322T125920Z
LAST-MODIFIED:20210322T125920Z
UID:4157-1617530400-1617535800@actr.ch
SUMMARY:Culte de Pâques
DESCRIPTION:Dimanche 4 avril \nProgramme EN LIGNE OU EN PRÉSENTIEL SUR INSCRIPTION (za.gautier@gmail.com): \n10h00-11h30: Culte de PÂQUES\n \nHistoire – chants – temps interactifs\, message de Pâques – surprises\n \n  \n10h00-11h30: Ecole du dimanche pour les enfants\n \n  \nCliquez ci-dessous pour assister en direct au culte ou pour visionner en différé les derniers cultes:\nhttps://actr.ch/live/ \n 
URL:https://actr.ch/event/culte-de-paques/
LOCATION:ACTR\, Chemin des Trois-Rois 5\, Lausanne\, 1005\, Suisse
CATEGORIES:Cultes
ATTACH;FMTTYPE=image/jpeg:https://actr.ch/wp-content/uploads/2021/03/ACTR-flyer-culte-Paques-2021-hor-LQ.jpg
END:VEVENT
BEGIN:VEVENT
DTSTART;TZID=Europe/Zurich:20210406T200000
DTEND;TZID=Europe/Zurich:20210406T213000
DTSTAMP:20260425T203423
CREATED:20210329T160923Z
LAST-MODIFIED:20210403T094023Z
UID:4198-1617739200-1617744600@actr.ch
SUMMARY:Etude biblique & prière
DESCRIPTION:Etude biblique et prière (en présentiel) \n” Multiplication des pains\, tempête sur le lac de Génésareth” (Matthieu 14 v. 13-36) \nOrateur: Thomas Saner
URL:https://actr.ch/event/etude-bibliqueu-priere/
LOCATION:ACTR\, Chemin des Trois-Rois 5\, Lausanne\, 1005\, Suisse
ATTACH;FMTTYPE=image/jpeg:https://actr.ch/wp-content/uploads/2017/06/ACTR-réunion-mardi-soir-05.06.17-e1496654616406.jpg
END:VEVENT
BEGIN:VEVENT
DTSTART;TZID=Europe/Zurich:20210411T100000
DTEND;TZID=Europe/Zurich:20210411T113000
DTSTAMP:20260425T203423
CREATED:20210403T094259Z
LAST-MODIFIED:20210403T094259Z
UID:4208-1618135200-1618140600@actr.ch
SUMMARY:Culte & message biblique
DESCRIPTION:Dimanche 11 avril \nProgramme EN LIGNE OU EN PRÉSENTIEL SUR INSCRIPTION (za.gautier@gmail.com): \n10h00-11h30: Culte + message biblique \n“Trouver Dieu dans le désert de l’âme” \nOrateur: Stefan Waldmann \n  \n  \nCliquez ci-dessous pour assister en direct au culte ou pour visionner en différé les derniers cultes:\nhttps://actr.ch/live/
URL:https://actr.ch/event/culte-message-biblique-17/
LOCATION:ACTR\, Chemin des Trois-Rois 5\, Lausanne\, 1005\, Suisse
CATEGORIES:Cultes
ATTACH;FMTTYPE=image/jpeg:https://actr.ch/wp-content/uploads/2021/04/160498456_10159065592098599_8795541286796449815_o.jpg
END:VEVENT
BEGIN:VEVENT
DTSTART;TZID=Europe/Zurich:20210413T200000
DTEND;TZID=Europe/Zurich:20210413T213000
DTSTAMP:20260425T203423
CREATED:20210412T125141Z
LAST-MODIFIED:20210412T125141Z
UID:4228-1618344000-1618349400@actr.ch
SUMMARY:Etude biblique & prière
DESCRIPTION:Etude biblique et prière (en présentiel) \n” Le coeur humain” (Matthieu 15 v. 1-20) \nOrateur: Jean-Pascal Richir
URL:https://actr.ch/event/etude-biblique-priere-131/
LOCATION:ACTR\, Chemin des Trois-Rois 5\, Lausanne\, 1005\, Suisse
ATTACH;FMTTYPE=image/jpeg:https://actr.ch/wp-content/uploads/2017/05/ACTR-la-parole-de-Dieu-1-e1496258536129.jpg
END:VEVENT
BEGIN:VEVENT
DTSTART;TZID=Europe/Zurich:20210418T100000
DTEND;TZID=Europe/Zurich:20210418T113000
DTSTAMP:20260425T203423
CREATED:20210412T124913Z
LAST-MODIFIED:20210412T124930Z
UID:4224-1618740000-1618745400@actr.ch
SUMMARY:Culte & message biblique
DESCRIPTION:Dimanche 18 avril \nProgramme EN LIGNE OU EN PRÉSENTIEL SUR INSCRIPTION (za.gautier@gmail.com): \n10h00-11h30: Culte + message biblique \nThème: “L’idolâtrie” \nOrateur: Filipe Felgueiras \n  \nCliquez ci-dessous pour assister en direct au culte ou pour visionner en différé les derniers cultes:\nhttps://actr.ch/live/
URL:https://actr.ch/event/culte-message-biblique-18/
LOCATION:ACTR\, Chemin des Trois-Rois 5\, Lausanne\, 1005\, Suisse
CATEGORIES:Cultes
ATTACH;FMTTYPE=image/jpeg:https://actr.ch/wp-content/uploads/2021/04/160268857_10208169047780242_9170284453528573932_n.jpg
END:VEVENT
BEGIN:VEVENT
DTSTART;TZID=Europe/Zurich:20210420T200000
DTEND;TZID=Europe/Zurich:20210420T213000
DTSTAMP:20260425T203423
CREATED:20210412T125313Z
LAST-MODIFIED:20210412T125313Z
UID:4230-1618948800-1618954200@actr.ch
SUMMARY:Etude biblique & prière
DESCRIPTION:Etude biblique et prière (en présentiel) \n” La femme Syro-phénicienne” (Matthieu 15 v. 21-28) \nOrateur: Christophe Argaud
URL:https://actr.ch/event/etude-biblique-priere-132/
LOCATION:ACTR\, Chemin des Trois-Rois 5\, Lausanne\, 1005\, Suisse
ATTACH;FMTTYPE=image/jpeg:https://actr.ch/wp-content/uploads/2017/06/ACTR-réunion-mardi-soir-05.06.17-1.jpg
END:VEVENT
BEGIN:VEVENT
DTSTART;TZID=Europe/Zurich:20210425T100000
DTEND;TZID=Europe/Zurich:20210425T113000
DTSTAMP:20260425T203423
CREATED:20210412T125557Z
LAST-MODIFIED:20210412T125557Z
UID:4232-1619344800-1619350200@actr.ch
SUMMARY:Culte & message biblique
DESCRIPTION:Dimanche 25 avril \nProgramme EN LIGNE OU EN PRÉSENTIEL SUR INSCRIPTION (za.gautier@gmail.com): \n10h00-11h30: Culte + message biblique \nThème: “Célibat\, famille et sexualité: quelles valeurs?” \nOrateur: Gérald Stocker \n  \nCliquez ci-dessous pour assister en direct au culte ou pour visionner en différé les derniers cultes:\nhttps://actr.ch/live/
URL:https://actr.ch/event/culte-message-biblique-19/
LOCATION:ACTR\, Chemin des Trois-Rois 5\, Lausanne\, 1005\, Suisse
CATEGORIES:Cultes
ATTACH;FMTTYPE=image/jpeg:https://actr.ch/wp-content/uploads/2021/04/hand-walking-v2_Sexualité-et-éthique.jpg
END:VEVENT
BEGIN:VEVENT
DTSTART;TZID=Europe/Zurich:20210427T200000
DTEND;TZID=Europe/Zurich:20210427T213000
DTSTAMP:20260425T203423
CREATED:20210419T141519Z
LAST-MODIFIED:20210419T141524Z
UID:4240-1619553600-1619559000@actr.ch
SUMMARY:Etude biblique & prière
DESCRIPTION:Etude biblique et prière (en présentiel) \n” guérison et multiplication des pains” (Matthieu 15 v. 29-39) \nOrateur: Stéphane Richir
URL:https://actr.ch/event/etude-biblique-priere-133/
LOCATION:ACTR\, Chemin des Trois-Rois 5\, Lausanne\, 1005\, Suisse
ATTACH;FMTTYPE=image/jpeg:https://actr.ch/wp-content/uploads/2017/05/ACTR-la-parole-de-Dieu-1-e1496258536129.jpg
END:VEVENT
END:VCALENDAR