BEGIN:VCALENDAR
VERSION:2.0
PRODID:-//ACTR - ECPv6.2.9//NONSGML v1.0//EN
CALSCALE:GREGORIAN
METHOD:PUBLISH
X-ORIGINAL-URL:https://actr.ch
X-WR-CALDESC:évènements pour ACTR
REFRESH-INTERVAL;VALUE=DURATION:PT1H
X-Robots-Tag:noindex
X-PUBLISHED-TTL:PT1H
BEGIN:VTIMEZONE
TZID:Europe/Zurich
BEGIN:DAYLIGHT
TZOFFSETFROM:+0100
TZOFFSETTO:+0200
TZNAME:CEST
DTSTART:20210328T010000
END:DAYLIGHT
BEGIN:STANDARD
TZOFFSETFROM:+0200
TZOFFSETTO:+0100
TZNAME:CET
DTSTART:20211031T010000
END:STANDARD
END:VTIMEZONE
BEGIN:VEVENT
DTSTART;TZID=Europe/Zurich:20210202T200000
DTEND;TZID=Europe/Zurich:20210202T213000
DTSTAMP:20260426T014258
CREATED:20210125T155155Z
LAST-MODIFIED:20210201T120012Z
UID:4053-1612296000-1612301400@actr.ch
SUMMARY:Etude biblique & prière
DESCRIPTION:Etude biblique et prière (en présentiel) \n” Refus et révélation de Jésus” (Matthieu 11 v. 20-30) \nOrateur: Christophe Argaud
URL:https://actr.ch/event/etude-biblique-priere-123/
LOCATION:ACTR\, Chemin des Trois-Rois 5\, Lausanne\, 1005\, Suisse
ATTACH;FMTTYPE=image/jpeg:https://actr.ch/wp-content/uploads/2017/05/ACTR-la-parole-de-Dieu-1-e1496258536129.jpg
END:VEVENT
BEGIN:VEVENT
DTSTART;TZID=Europe/Zurich:20210207T100000
DTEND;TZID=Europe/Zurich:20210207T113000
DTSTAMP:20260426T014258
CREATED:20210125T154919Z
LAST-MODIFIED:20210201T120227Z
UID:4047-1612692000-1612697400@actr.ch
SUMMARY:Culte OPEN DOOR
DESCRIPTION:Dimanche 7 février \nProgramme EN LIGNE OU EN PRÉSENTIEL SUR INSCRIPTION: \n10h00-11h30: Culte OPEN DOOR \nCliquez ci-dessous pour assister en direct au culte ou pour visionner en différé les derniers cultes:\nhttps://actr.ch/live/ \nRespectez les dernières consignes des Autorités sanitaires!\nhttps://ofsp-coronavirus.ch/CulLe
URL:https://actr.ch/event/culte-open-door-5/
LOCATION:ACTR\, Chemin des Trois-Rois 5\, Lausanne\, 1005\, Suisse
CATEGORIES:Cultes
ATTACH;FMTTYPE=image/jpeg:https://actr.ch/wp-content/uploads/2021/01/flyer-open-door-2021-02-07-v1.jpeg
END:VEVENT
BEGIN:VEVENT
DTSTART;TZID=Europe/Zurich:20210209T200000
DTEND;TZID=Europe/Zurich:20210209T213000
DTSTAMP:20260426T014258
CREATED:20210201T115948Z
LAST-MODIFIED:20210201T115948Z
UID:4065-1612900800-1612906200@actr.ch
SUMMARY:Etude biblique & prière
DESCRIPTION:Etude biblique et prière (en présentiel) \n” Jésus et le sabbat” (Matthieu 11 v. 1-13) \nOrateur: Christian Cuendet
URL:https://actr.ch/event/etude-biblique-priere-124/
LOCATION:ACTR\, Chemin des Trois-Rois 5\, Lausanne\, 1005\, Suisse
ATTACH;FMTTYPE=image/jpeg:https://actr.ch/wp-content/uploads/2017/05/ACTR-la-parole-de-Dieu-1-e1496258536129.jpg
END:VEVENT
BEGIN:VEVENT
DTSTART;TZID=Europe/Zurich:20210214T100000
DTEND;TZID=Europe/Zurich:20210214T113000
DTSTAMP:20260426T014258
CREATED:20210201T120140Z
LAST-MODIFIED:20210201T120140Z
UID:4068-1613296800-1613302200@actr.ch
SUMMARY:Culte et message biblique
DESCRIPTION:Dimanche 14 février \nProgramme EN LIGNE OU EN PRÉSENTIEL SUR INSCRIPTION: \n10h00-11h30: Culte + message biblique \nCliquez ci-dessous pour assister en direct au culte ou pour visionner en différé les derniers cultes:\nhttps://actr.ch/live/ \nRespectez les dernières consignes des Autorités sanitaires!\nhttps://ofsp-coronavirus.ch/CulLe
URL:https://actr.ch/event/culte-et-message-biblique-34/
LOCATION:ACTR\, Chemin des Trois-Rois 5\, Lausanne\, 1005\, Suisse
CATEGORIES:Cultes
ATTACH;FMTTYPE=image/jpeg:https://actr.ch/wp-content/uploads/2021/01/134670107_464028441666667_8603178267369550341_o.jpg
END:VEVENT
BEGIN:VEVENT
DTSTART;TZID=Europe/Zurich:20210216T200000
DTEND;TZID=Europe/Zurich:20210216T213000
DTSTAMP:20260426T014258
CREATED:20210213T171000Z
LAST-MODIFIED:20210213T171000Z
UID:4080-1613505600-1613511000@actr.ch
SUMMARY:Etude biblique & prière
DESCRIPTION:Etude biblique et prière (en présentiel) \n” Le serviteur de l’Eternel” (Matthieu 12 v. 14-23) \nOrateur: Jean Lacombe
URL:https://actr.ch/event/etude-biblique-priere-125/
LOCATION:ACTR\, Chemin des Trois-Rois 5\, Lausanne\, 1005\, Suisse
ATTACH;FMTTYPE=image/jpeg:https://actr.ch/wp-content/uploads/2017/05/ACTR-la-parole-de-Dieu-1-e1496258536129.jpg
END:VEVENT
BEGIN:VEVENT
DTSTART;TZID=Europe/Zurich:20210221T100000
DTEND;TZID=Europe/Zurich:20210221T113000
DTSTAMP:20260426T014258
CREATED:20210213T171524Z
LAST-MODIFIED:20210215T171539Z
UID:4084-1613901600-1613907000@actr.ch
SUMMARY:Culte et message biblique
DESCRIPTION:Dimanche 21 février \nProgramme EN LIGNE OU EN PRÉSENTIEL SUR INSCRIPTION: \n10h00-11h30: Culte + message biblique \n“Regarde comme Dieu te regarde!” \n10h00-11h30: Atelier créatif pour les enfants \nCliquez ci-dessous pour assister en direct au culte ou pour visionner en différé les derniers cultes:\nhttps://actr.ch/live/ \nRespectez les dernières consignes des Autorités sanitaires!\nhttps://ofsp-coronavirus.ch/CulLe
URL:https://actr.ch/event/culte-et-message-biblique-35/
LOCATION:ACTR\, Chemin des Trois-Rois 5\, Lausanne\, 1005\, Suisse
CATEGORIES:Cultes
ATTACH;FMTTYPE=image/jpeg:https://actr.ch/wp-content/uploads/2021/02/119447491_376962607039918_10676362180709920_o.jpg
END:VEVENT
BEGIN:VEVENT
DTSTART;TZID=Europe/Zurich:20210223T200000
DTEND;TZID=Europe/Zurich:20210223T213000
DTSTAMP:20260426T014258
CREATED:20210213T171217Z
LAST-MODIFIED:20210213T171217Z
UID:4082-1614110400-1614115800@actr.ch
SUMMARY:Etude biblique & prière
DESCRIPTION:Etude biblique et prière (en présentiel) \n” Jésus accusé de collusion avec Satan\, le péché contre le Saint-Esprit” (Matthieu 12 v. 24-37) \nOrateur: Dominique Bourgeois
URL:https://actr.ch/event/etude-biblique-priere-126/
LOCATION:ACTR\, Chemin des Trois-Rois 5\, Lausanne\, 1005\, Suisse
ATTACH;FMTTYPE=image/jpeg:https://actr.ch/wp-content/uploads/2016/09/L’AUTORITÉ-DE-LA-BIBLE.jpg
END:VEVENT
BEGIN:VEVENT
DTSTART;TZID=Europe/Zurich:20210228T100000
DTEND;TZID=Europe/Zurich:20210228T113000
DTSTAMP:20260426T014258
CREATED:20210221T172742Z
LAST-MODIFIED:20210221T173102Z
UID:4096-1614506400-1614511800@actr.ch
SUMMARY:Culte & message biblique
DESCRIPTION:Dimanche 28 février \nProgramme EN LIGNE OU EN PRÉSENTIEL SUR INSCRIPTION: \n10h00-11h30: Culte + message biblique \n“Etre disciple\, ça m’interpelle…” présenté par Michel Horisberger \n  \nCliquez ci-dessous pour assister en direct au culte ou pour visionner en différé les derniers cultes:\nhttps://actr.ch/live/ \nRespectez les dernières consignes des Autorités sanitaires!\nhttps://ofsp-coronavirus.ch/CulLe
URL:https://actr.ch/event/culte-message-biblique-15/
LOCATION:ACTR\, Chemin des Trois-Rois 5\, Lausanne\, 1005\, Suisse
ATTACH;FMTTYPE=image/jpeg:https://actr.ch/wp-content/uploads/2021/02/134726954_464027991666712_2313524891240791439_o.jpg
END:VEVENT
END:VCALENDAR