BEGIN:VCALENDAR
VERSION:2.0
PRODID:-//ACTR - ECPv6.2.9//NONSGML v1.0//EN
CALSCALE:GREGORIAN
METHOD:PUBLISH
X-ORIGINAL-URL:https://actr.ch
X-WR-CALDESC:évènements pour ACTR
REFRESH-INTERVAL;VALUE=DURATION:PT1H
X-Robots-Tag:noindex
X-PUBLISHED-TTL:PT1H
BEGIN:VTIMEZONE
TZID:Europe/Zurich
BEGIN:DAYLIGHT
TZOFFSETFROM:+0100
TZOFFSETTO:+0200
TZNAME:CEST
DTSTART:20210328T010000
END:DAYLIGHT
BEGIN:STANDARD
TZOFFSETFROM:+0200
TZOFFSETTO:+0100
TZNAME:CET
DTSTART:20211031T010000
END:STANDARD
END:VTIMEZONE
BEGIN:VEVENT
DTSTART;TZID=Europe/Zurich:20210103T100000
DTEND;TZID=Europe/Zurich:20210103T113000
DTSTAMP:20260426T044336
CREATED:20201225T092431Z
LAST-MODIFIED:20201225T092431Z
UID:3992-1609668000-1609673400@actr.ch
SUMMARY:EN LIGNE Culte & message biblique
DESCRIPTION:Dimanche 3 janvier \nProgramme UNIQUEMENT EN LIGNE: \n10h00-11h30: Culte + message biblique \nOrateur: Stefan Waldmann \nCliquez ci-dessous pour assister en direct au culte ou pour visionner en différé les derniers cultes:\nhttps://actr.ch/live/ \nRespectez les dernières consignes des Autorités sanitaires!\nhttps://ofsp-coronavirus.ch/CulLe
URL:https://actr.ch/event/en-ligne-culte-message-biblique-3/
LOCATION:ACTR\, Chemin des Trois-Rois 5\, Lausanne\, 1005\, Suisse
CATEGORIES:Cultes
ATTACH;FMTTYPE=image/jpeg:https://actr.ch/wp-content/uploads/2020/12/131692171_4363409230340307_6874781885018567676_o.jpg
END:VEVENT
BEGIN:VEVENT
DTSTART;TZID=Europe/Zurich:20210105T200000
DTEND;TZID=Europe/Zurich:20210105T213000
DTSTAMP:20260426T044336
CREATED:20201218T172306Z
LAST-MODIFIED:20201218T172418Z
UID:3980-1609876800-1609882200@actr.ch
SUMMARY:Etude biblique & prière
DESCRIPTION:Etude biblique et prière (en présentiel) \n“Appel aux disciples” (Matthieu 9 v. 35 – 10 v. 4) \nOrateur: Dominique Frossard \n 
URL:https://actr.ch/event/etude-biblique-priere-119/
LOCATION:ACTR\, Chemin des Trois-Rois 5\, Lausanne\, 1005\, Suisse
ATTACH;FMTTYPE=image/jpeg:https://actr.ch/wp-content/uploads/2017/05/ACTR-la-parole-de-Dieu-1-e1496258536129.jpg
END:VEVENT
BEGIN:VEVENT
DTSTART;TZID=Europe/Zurich:20210110T100000
DTEND;TZID=Europe/Zurich:20210110T113000
DTSTAMP:20260426T044336
CREATED:20210103T162620Z
LAST-MODIFIED:20210103T163054Z
UID:4006-1610272800-1610278200@actr.ch
SUMMARY:EN LIGNE Culte & message biblique
DESCRIPTION:Dimanche 10 janvier \nProgramme UNIQUEMENT EN LIGNE: \n10h00-11h30: Culte + message biblique \nOrateur: Paul Lacombe \nCliquez ci-dessous pour assister en direct au culte ou pour visionner en différé les derniers cultes:\nhttps://actr.ch/live/ \nRespectez les dernières consignes des Autorités sanitaires!\nhttps://ofsp-coronavirus.ch/CulLe
URL:https://actr.ch/event/en-ligne-culte-message-biblique-4/
LOCATION:ACTR\, Chemin des Trois-Rois 5\, Lausanne\, 1005\, Suisse
CATEGORIES:Cultes
ATTACH;FMTTYPE=image/jpeg:https://actr.ch/wp-content/uploads/2017/06/lawton-cook-276474-2.jpg
END:VEVENT
BEGIN:VEVENT
DTSTART;TZID=Europe/Zurich:20210112T200000
DTEND;TZID=Europe/Zurich:20210112T213000
DTSTAMP:20260426T044336
CREATED:20210103T163336Z
LAST-MODIFIED:20210103T163419Z
UID:4011-1610481600-1610487000@actr.ch
SUMMARY:Etude biblique & prière
DESCRIPTION:Etude biblique et prière (en présentiel) \n“Recommandation en vue de leur mission” (Matthieu 10 5-16) \nOrateur: Gérald Stocker
URL:https://actr.ch/event/etude-biblique-priere-120/
LOCATION:ACTR\, Chemin des Trois-Rois 5\, Lausanne\, 1005\, Suisse
ATTACH;FMTTYPE=image/jpeg:https://actr.ch/wp-content/uploads/2017/05/ACTR-la-parole-de-Dieu-1-e1496258536129.jpg
END:VEVENT
BEGIN:VEVENT
DTSTART;TZID=Europe/Zurich:20210117T100000
DTEND;TZID=Europe/Zurich:20210117T113000
DTSTAMP:20260426T044336
CREATED:20210103T163630Z
LAST-MODIFIED:20210103T163630Z
UID:4013-1610877600-1610883000@actr.ch
SUMMARY:EN LIGNE Culte & message biblique
DESCRIPTION:Dimanche 17 janvier \nProgramme UNIQUEMENT EN LIGNE: \n10h00-11h30: Culte + message biblique \nOrateur: Thomas Saner \nCliquez ci-dessous pour assister en direct au culte ou pour visionner en différé les derniers cultes:\nhttps://actr.ch/live/ \nRespectez les dernières consignes des Autorités sanitaires!\nhttps://ofsp-coronavirus.ch/CulLe
URL:https://actr.ch/event/en-ligne-culte-message-biblique-5/
LOCATION:ACTR\, Chemin des Trois-Rois 5\, Lausanne\, 1005\, Suisse
CATEGORIES:Cultes
ATTACH;FMTTYPE=image/jpeg:https://actr.ch/wp-content/uploads/2020/12/131573253_4096712990357189_6454366151242579706_o.jpg
END:VEVENT
BEGIN:VEVENT
DTSTART;TZID=Europe/Zurich:20210120T200000
DTEND;TZID=Europe/Zurich:20210120T213000
DTSTAMP:20260426T044336
CREATED:20210117T145332Z
LAST-MODIFIED:20210117T145332Z
UID:4032-1611172800-1611178200@actr.ch
SUMMARY:Etude biblique & prière
DESCRIPTION:Etude biblique et prière (en présentiel) \n“Annonces de conflits et de persécutions\, la qualité du disciple” (Matthieu 10 17-42) \nOrateur: Thomas Sanchez
URL:https://actr.ch/event/etude-biblique-priere-121/
LOCATION:ACTR\, Chemin des Trois-Rois 5\, Lausanne\, 1005\, Suisse
ATTACH;FMTTYPE=image/jpeg:https://actr.ch/wp-content/uploads/2017/06/ACTR-réunion-mardi-soir-05.06.17-e1496654616406.jpg
END:VEVENT
BEGIN:VEVENT
DTSTART;TZID=Europe/Zurich:20210124T100000
DTEND;TZID=Europe/Zurich:20210124T113000
DTSTAMP:20260426T044336
CREATED:20210117T144659Z
LAST-MODIFIED:20210117T144729Z
UID:4024-1611482400-1611487800@actr.ch
SUMMARY:Culte & message biblique
DESCRIPTION:Dimanche 24 janvier \nProgramme EN LIGNE OU EN PRÉSENTIEL SUR INSCRIPTION: \n10h00-11h30: Culte + message biblique \nOrateur: Kimo Horisberger \nCliquez ci-dessous pour assister en direct au culte ou pour visionner en différé les derniers cultes:\nhttps://actr.ch/live/ \nRespectez les dernières consignes des Autorités sanitaires!\nhttps://ofsp-coronavirus.ch/CulLe
URL:https://actr.ch/event/culte-message-biblique-13/
LOCATION:ACTR\, Chemin des Trois-Rois 5\, Lausanne\, 1005\, Suisse
CATEGORIES:Cultes
ATTACH;FMTTYPE=image/jpeg:https://actr.ch/wp-content/uploads/2021/01/137592426_471843940885117_918937027915118067_o.jpg
END:VEVENT
BEGIN:VEVENT
DTSTART;TZID=Europe/Zurich:20210127T200000
DTEND;TZID=Europe/Zurich:20210127T213000
DTSTAMP:20260426T044336
CREATED:20210117T145732Z
LAST-MODIFIED:20210117T145732Z
UID:4034-1611777600-1611783000@actr.ch
SUMMARY:Etude biblique & prière
DESCRIPTION:Etude biblique et prière (en présentiel) \n” Les doutes de Jean-Baptiste et le regarde de Jésus sur lui” (Matthieu 11 1-19) \nOrateur: André Cusin
URL:https://actr.ch/event/etude-biblique-priere-122/
LOCATION:ACTR\, Chemin des Trois-Rois 5\, Lausanne\, 1005\, Suisse
ATTACH;FMTTYPE=image/jpeg:https://actr.ch/wp-content/uploads/2017/06/ACTR-réunion-mardi-soir-05.06.17-e1496654616406.jpg
END:VEVENT
BEGIN:VEVENT
DTSTART;TZID=Europe/Zurich:20210131T100000
DTEND;TZID=Europe/Zurich:20210131T113000
DTSTAMP:20260426T044336
CREATED:20210117T145036Z
LAST-MODIFIED:20210125T154731Z
UID:4029-1612087200-1612092600@actr.ch
SUMMARY:Culte & message biblique
DESCRIPTION:Dimanche 31 janvier \nProgramme EN LIGNE OU EN PRÉSENTIEL SUR INSCRIPTION: \n10h00-11h30: Culte + message biblique \n“La course d’une vie” présenté par Christophe Argaud \nCliquez ci-dessous pour assister en direct au culte ou pour visionner en différé les derniers cultes:\nhttps://actr.ch/live/ \nRespectez les dernières consignes des Autorités sanitaires!\nhttps://ofsp-coronavirus.ch/CulLe
URL:https://actr.ch/event/culte-message-biblique-14/
LOCATION:ACTR\, Chemin des Trois-Rois 5\, Lausanne\, 1005\, Suisse
CATEGORIES:Cultes
ATTACH;FMTTYPE=image/jpeg:https://actr.ch/wp-content/uploads/2021/01/119434529_376963720373140_5945105208021660451_o.jpg
END:VEVENT
END:VCALENDAR