BEGIN:VCALENDAR
VERSION:2.0
PRODID:-//ACTR - ECPv6.2.9//NONSGML v1.0//EN
CALSCALE:GREGORIAN
METHOD:PUBLISH
X-WR-CALNAME:ACTR
X-ORIGINAL-URL:https://actr.ch
X-WR-CALDESC:évènements pour ACTR
REFRESH-INTERVAL;VALUE=DURATION:PT1H
X-Robots-Tag:noindex
X-PUBLISHED-TTL:PT1H
BEGIN:VTIMEZONE
TZID:Europe/Zurich
BEGIN:DAYLIGHT
TZOFFSETFROM:+0100
TZOFFSETTO:+0200
TZNAME:CEST
DTSTART:20200329T010000
END:DAYLIGHT
BEGIN:STANDARD
TZOFFSETFROM:+0200
TZOFFSETTO:+0100
TZNAME:CET
DTSTART:20201025T010000
END:STANDARD
END:VTIMEZONE
BEGIN:VEVENT
DTSTART;TZID=Europe/Zurich:20201122T100000
DTEND;TZID=Europe/Zurich:20201122T113000
DTSTAMP:20260422T073851
CREATED:20201110T091211Z
LAST-MODIFIED:20201110T091211Z
UID:3891-1606039200-1606044600@actr.ch
SUMMARY:EN LIGNE Culte OPEN DOOR
DESCRIPTION:Dimanche 22 novembre \nProgramme UNIQUEMENT EN LIGNE: \n10h00-11h30:\n– Culte OPEN DOOR avec Jean-Philippe Chavey\n“Surpris par la grâce…..même en 2020” \nCliquez ci-dessous pour assister en direct au culte ou pour visionner en différé les derniers cultes:\nhttps://actr.ch/live/ \nRespectez les dernières consignes des Autorités sanitaires!\nhttps://ofsp-coronavirus.ch/CulLe
URL:https://actr.ch/event/en-ligne-culte-open-door/
LOCATION:ACTR\, Chemin des Trois-Rois 5\, Lausanne\, 1005\, Suisse
CATEGORIES:Cultes
ATTACH;FMTTYPE=image/jpeg:https://actr.ch/wp-content/uploads/2020/11/flyer-culte-livestream-24.11.20-925x1024-1.jpg
END:VEVENT
END:VCALENDAR