BEGIN:VCALENDAR
VERSION:2.0
PRODID:-//ACTR - ECPv6.2.9//NONSGML v1.0//EN
CALSCALE:GREGORIAN
METHOD:PUBLISH
X-ORIGINAL-URL:https://actr.ch
X-WR-CALDESC:évènements pour ACTR
REFRESH-INTERVAL;VALUE=DURATION:PT1H
X-Robots-Tag:noindex
X-PUBLISHED-TTL:PT1H
BEGIN:VTIMEZONE
TZID:Europe/Zurich
BEGIN:DAYLIGHT
TZOFFSETFROM:+0100
TZOFFSETTO:+0200
TZNAME:CEST
DTSTART:20200329T010000
END:DAYLIGHT
BEGIN:STANDARD
TZOFFSETFROM:+0200
TZOFFSETTO:+0100
TZNAME:CET
DTSTART:20201025T010000
END:STANDARD
END:VTIMEZONE
BEGIN:VEVENT
DTSTART;TZID=Europe/Zurich:20200202T100000
DTEND;TZID=Europe/Zurich:20200202T113000
DTSTAMP:20260423T060545
CREATED:20200124T075426Z
LAST-MODIFIED:20200124T075426Z
UID:3345-1580637600-1580643000@actr.ch
SUMMARY:Culte et message biblique
DESCRIPTION:10h00: CULTE OPEN DOOR \nDavid Prigent est le leader du groupe “Antydot”. Il partagera en musique son parcours du chemin de la délingance à une vie de foi. \n10h00: garderie 0-10 ans \n10h45-11h30: Ecole du dimanche 4-15 ans \n11h30: Café/biscuits
URL:https://actr.ch/event/culte-et-message-biblique-29/
LOCATION:ACTR\, Chemin des Trois-Rois 5\, Lausanne\, 1005\, Suisse
CATEGORIES:Cultes
ATTACH;FMTTYPE=image/jpeg:https://actr.ch/wp-content/uploads/2020/01/Flyer-recto-v2-20200202.jpg
END:VEVENT
END:VCALENDAR