BEGIN:VCALENDAR
VERSION:2.0
PRODID:-//ACTR - ECPv6.2.9//NONSGML v1.0//EN
CALSCALE:GREGORIAN
METHOD:PUBLISH
X-ORIGINAL-URL:https://actr.ch
X-WR-CALDESC:évènements pour ACTR
REFRESH-INTERVAL;VALUE=DURATION:PT1H
X-Robots-Tag:noindex
X-PUBLISHED-TTL:PT1H
BEGIN:VTIMEZONE
TZID:Europe/Zurich
BEGIN:DAYLIGHT
TZOFFSETFROM:+0100
TZOFFSETTO:+0200
TZNAME:CEST
DTSTART:20190331T010000
END:DAYLIGHT
BEGIN:STANDARD
TZOFFSETFROM:+0200
TZOFFSETTO:+0100
TZNAME:CET
DTSTART:20191027T010000
END:STANDARD
END:VTIMEZONE
BEGIN:VEVENT
DTSTART;TZID=Europe/Zurich:20190505T093000
DTEND;TZID=Europe/Zurich:20190505T113000
DTSTAMP:20260423T221047
CREATED:20190416T074944Z
LAST-MODIFIED:20190416T074944Z
UID:3105-1557048600-1557055800@actr.ch
SUMMARY:culte et message biblique
DESCRIPTION:9h30: Culte \n10h00: Garderie 0-10 ans \n10h45: Ecole du dimanche 3-15 ans \n10h45: Enseignement biblique: “porter la parole de vie” présenté par Gaël Petermann\n \n11h30: Café du dimanche \n 
URL:https://actr.ch/event/culte-et-message-biblique/
LOCATION:ACTR\, Chemin des Trois-Rois 5\, Lausanne\, 1005\, Suisse
CATEGORIES:Cultes
ATTACH;FMTTYPE=image/jpeg:https://actr.ch/wp-content/uploads/2017/06/elijah-hail-182443.jpg
END:VEVENT
END:VCALENDAR