BEGIN:VCALENDAR
VERSION:2.0
PRODID:-//ACTR - ECPv6.2.9//NONSGML v1.0//EN
CALSCALE:GREGORIAN
METHOD:PUBLISH
X-ORIGINAL-URL:https://actr.ch
X-WR-CALDESC:évènements pour ACTR
REFRESH-INTERVAL;VALUE=DURATION:PT1H
X-Robots-Tag:noindex
X-PUBLISHED-TTL:PT1H
BEGIN:VTIMEZONE
TZID:Europe/Zurich
BEGIN:DAYLIGHT
TZOFFSETFROM:+0100
TZOFFSETTO:+0200
TZNAME:CEST
DTSTART:20190331T010000
END:DAYLIGHT
BEGIN:STANDARD
TZOFFSETFROM:+0200
TZOFFSETTO:+0100
TZNAME:CET
DTSTART:20191027T010000
END:STANDARD
END:VTIMEZONE
BEGIN:VEVENT
DTSTART;VALUE=DATE:20190210
DTEND;VALUE=DATE:20190211
DTSTAMP:20260424T084955
CREATED:20190107T101539Z
LAST-MODIFIED:20190107T101539Z
UID:3038-1549756800-1549843199@actr.ch
SUMMARY:WEEK-END D'EGLISE AUX MOSSES
DESCRIPTION:PROGRAMME: \n8h30: Petit déjeuner \n10h00: CULTE FAMILIAL \n12h00: Repas \n13h00: Départ pour différentes activités: ski\, luge\, raquettes\,…
URL:https://actr.ch/event/week-end-deglise-aux-mosses-3/
LOCATION:Les Mosses\, Suisse
CATEGORIES:Activités,Cultes
ATTACH;FMTTYPE=image/jpeg:https://actr.ch/wp-content/uploads/2019/01/LesMosses-LaLecherette.jpg
END:VEVENT
END:VCALENDAR