BEGIN:VCALENDAR
VERSION:2.0
PRODID:-//ACTR - ECPv6.2.9//NONSGML v1.0//EN
CALSCALE:GREGORIAN
METHOD:PUBLISH
X-ORIGINAL-URL:https://actr.ch
X-WR-CALDESC:évènements pour ACTR
REFRESH-INTERVAL;VALUE=DURATION:PT1H
X-Robots-Tag:noindex
X-PUBLISHED-TTL:PT1H
BEGIN:VTIMEZONE
TZID:Europe/Zurich
BEGIN:DAYLIGHT
TZOFFSETFROM:+0100
TZOFFSETTO:+0200
TZNAME:CEST
DTSTART:20180325T010000
END:DAYLIGHT
BEGIN:STANDARD
TZOFFSETFROM:+0200
TZOFFSETTO:+0100
TZNAME:CET
DTSTART:20181028T010000
END:STANDARD
END:VTIMEZONE
BEGIN:VEVENT
DTSTART;TZID=Europe/Zurich:20181202T093000
DTEND;TZID=Europe/Zurich:20181202T113000
DTSTAMP:20260424T141038
CREATED:20181105T165627Z
LAST-MODIFIED:20181105T165627Z
UID:2993-1543743000-1543750200@actr.ch
SUMMARY:Culte
DESCRIPTION:9h30: Culte \n10h00: Garderie \n10h45: Ecole du dimanche pour les 3-12 ans \n10h45: Enseignement biblique:  “sujet libre” \n11h30: Café du dimanche
URL:https://actr.ch/event/culte-73/
LOCATION:ACTR\, Chemin des Trois-Rois 5\, Lausanne\, 1005\, Suisse
CATEGORIES:Cultes
ATTACH;FMTTYPE=image/jpeg:https://actr.ch/wp-content/uploads/2017/05/ACTR-Vision-e1496257315486.jpg
END:VEVENT
END:VCALENDAR