BEGIN:VCALENDAR
VERSION:2.0
PRODID:-//ACTR - ECPv6.2.9//NONSGML v1.0//EN
CALSCALE:GREGORIAN
METHOD:PUBLISH
X-WR-CALNAME:ACTR
X-ORIGINAL-URL:https://actr.ch
X-WR-CALDESC:évènements pour ACTR
REFRESH-INTERVAL;VALUE=DURATION:PT1H
X-Robots-Tag:noindex
X-PUBLISHED-TTL:PT1H
BEGIN:VTIMEZONE
TZID:Europe/Zurich
BEGIN:DAYLIGHT
TZOFFSETFROM:+0100
TZOFFSETTO:+0200
TZNAME:CEST
DTSTART:20180325T010000
END:DAYLIGHT
BEGIN:STANDARD
TZOFFSETFROM:+0200
TZOFFSETTO:+0100
TZNAME:CET
DTSTART:20181028T010000
END:STANDARD
END:VTIMEZONE
BEGIN:VEVENT
DTSTART;TZID=Europe/Zurich:20180826T093000
DTEND;TZID=Europe/Zurich:20180826T113000
DTSTAMP:20260425T002835
CREATED:20180625T074421Z
LAST-MODIFIED:20180824T162721Z
UID:2889-1535275800-1535283000@actr.ch
SUMMARY:Culte
DESCRIPTION:9h30: Culte \n10h00: Louange pour les enfants \n10h45: Ecole du dimanche pour les 3-12 ans \n10h45: Enseignement biblique:  “Portons la Parole de vie”\, présenté par Nathan Petermann \n11h30: Café du dimanche
URL:https://actr.ch/event/culte-61/
LOCATION:ACTR\, Chemin des Trois-Rois 5\, Lausanne\, 1005\, Suisse
CATEGORIES:Cultes
ATTACH;FMTTYPE=image/jpeg:https://actr.ch/wp-content/uploads/2017/06/cristina-gottardi-259243.jpg
END:VEVENT
END:VCALENDAR