BEGIN:VCALENDAR
VERSION:2.0
PRODID:-//ACTR - ECPv6.2.9//NONSGML v1.0//EN
CALSCALE:GREGORIAN
METHOD:PUBLISH
X-WR-CALNAME:ACTR
X-ORIGINAL-URL:https://actr.ch
X-WR-CALDESC:évènements pour ACTR
REFRESH-INTERVAL;VALUE=DURATION:PT1H
X-Robots-Tag:noindex
X-PUBLISHED-TTL:PT1H
BEGIN:VTIMEZONE
TZID:Europe/Zurich
BEGIN:DAYLIGHT
TZOFFSETFROM:+0100
TZOFFSETTO:+0200
TZNAME:CEST
DTSTART:20210328T010000
END:DAYLIGHT
BEGIN:STANDARD
TZOFFSETFROM:+0200
TZOFFSETTO:+0100
TZNAME:CET
DTSTART:20211031T010000
END:STANDARD
END:VTIMEZONE
BEGIN:VEVENT
DTSTART;TZID=Europe/Zurich:20210307T100000
DTEND;TZID=Europe/Zurich:20210307T113000
DTSTAMP:20260421T120155
CREATED:20210301T170611Z
LAST-MODIFIED:20210301T170611Z
UID:4108-1615111200-1615116600@actr.ch
SUMMARY:Culte et message biblique
DESCRIPTION:Dimanche 7 mars \nProgramme EN LIGNE OU EN PRÉSENTIEL SUR INSCRIPTION: \n10h00-11h30: Culte + message biblique \n“Fondements bibliques d’une éthique chrétienne” présenté par Michel Gonin \n  \nCliquez ci-dessous pour assister en direct au culte ou pour visionner en différé les derniers cultes:\nhttps://actr.ch/live/ \nRespectez les dernières consignes des Autorités sanitaires!\nhttps://ofsp-coronavirus.ch/CulLe
URL:https://actr.ch/event/culte-et-message-biblique-36/
LOCATION:ACTR\, Chemin des Trois-Rois 5\, Lausanne\, 1005\, Suisse
CATEGORIES:Cultes
ATTACH;FMTTYPE=image/jpeg:https://actr.ch/wp-content/uploads/2021/03/150570366_10159007193168599_5703237994851057531_o.jpg
END:VEVENT
BEGIN:VEVENT
DTSTART;TZID=Europe/Zurich:20210314T100000
DTEND;TZID=Europe/Zurich:20210314T113000
DTSTAMP:20260421T120155
CREATED:20210308T100311Z
LAST-MODIFIED:20210308T100311Z
UID:4117-1615716000-1615721400@actr.ch
SUMMARY:Culte et message biblique
DESCRIPTION:Dimanche 14 mars \nProgramme EN LIGNE OU EN PRÉSENTIEL SUR INSCRIPTION: \n10h00-11h30: Culte + message biblique \n10h00-11h30: Ecole du dimanche pour les enfants\n \n  \nCliquez ci-dessous pour assister en direct au culte ou pour visionner en différé les derniers cultes:\nhttps://actr.ch/live/ \nRespectez les dernières consignes des Autorités sanitaires!\nhttps://ofsp-coronavirus.ch/CulLe
URL:https://actr.ch/event/culte-et-message-biblique-37/
LOCATION:ACTR\, Chemin des Trois-Rois 5\, Lausanne\, 1005\, Suisse
CATEGORIES:Cultes
ATTACH;FMTTYPE=image/jpeg:https://actr.ch/wp-content/uploads/2017/06/ACTR-Culte-18-1.jpg
END:VEVENT
BEGIN:VEVENT
DTSTART;TZID=Europe/Zurich:20210321T080000
DTEND;TZID=Europe/Zurich:20210321T170000
DTSTAMP:20260421T120155
CREATED:20210315T084304Z
LAST-MODIFIED:20210315T084304Z
UID:4129-1616313600-1616346000@actr.ch
SUMMARY:Culte et message biblique
DESCRIPTION:Dimanche 21 mars \nProgramme EN LIGNE OU EN PRÉSENTIEL SUR INSCRIPTION (za.gautier@gmail.com): \n10h00-11h30: Culte + message biblique \n“La dignité de la personne humaine: Début et fin de la vie” \nOrateur: Dominique Bourgeois & Christian Cuendet \n  \n10h00-11h30: Ecole du dimanche pour les enfants\n \n  \nCliquez ci-dessous pour assister en direct au culte ou pour visionner en différé les derniers cultes:\nhttps://actr.ch/live/ \n 
URL:https://actr.ch/event/culte-et-message-biblique-38/
LOCATION:ACTR\, Chemin des Trois-Rois 5\, Lausanne\, 1005\, Suisse
CATEGORIES:Cultes
ATTACH;FMTTYPE=image/jpeg:https://actr.ch/wp-content/uploads/2021/03/hand-walking-v2_Dignite-hum-aine-Début-et-fin-de-vie.jpg
END:VEVENT
BEGIN:VEVENT
DTSTART;TZID=Europe/Zurich:20210328T100000
DTEND;TZID=Europe/Zurich:20210328T113000
DTSTAMP:20260421T120155
CREATED:20210322T125610Z
LAST-MODIFIED:20210322T125610Z
UID:4155-1616925600-1616931000@actr.ch
SUMMARY:Culte & message biblique
DESCRIPTION:Dimanche 28 mars \nProgramme EN LIGNE OU EN PRÉSENTIEL SUR INSCRIPTION (za.gautier@gmail.com): \n10h00-11h30: Culte + message biblique \n“Le roi serviteur” \nOrateur: Paul Lacombe \n  \n10h00-11h30: Ecole du dimanche pour les enfants\n \n  \nCliquez ci-dessous pour assister en direct au culte ou pour visionner en différé les derniers cultes:\nhttps://actr.ch/live/ \n 
URL:https://actr.ch/event/culte-message-biblique-16/
LOCATION:ACTR\, Chemin des Trois-Rois 5\, Lausanne\, 1005\, Suisse
CATEGORIES:Cultes
ATTACH;FMTTYPE=image/jpeg:https://actr.ch/wp-content/uploads/2021/01/119434529_376963720373140_5945105208021660451_o.jpg
END:VEVENT
END:VCALENDAR