BEGIN:VCALENDAR
VERSION:2.0
PRODID:-//ACTR - ECPv6.2.9//NONSGML v1.0//EN
CALSCALE:GREGORIAN
METHOD:PUBLISH
X-ORIGINAL-URL:https://actr.ch
X-WR-CALDESC:évènements pour ACTR
REFRESH-INTERVAL;VALUE=DURATION:PT1H
X-Robots-Tag:noindex
X-PUBLISHED-TTL:PT1H
BEGIN:VTIMEZONE
TZID:Europe/Zurich
BEGIN:DAYLIGHT
TZOFFSETFROM:+0100
TZOFFSETTO:+0200
TZNAME:CEST
DTSTART:20210328T010000
END:DAYLIGHT
BEGIN:STANDARD
TZOFFSETFROM:+0200
TZOFFSETTO:+0100
TZNAME:CET
DTSTART:20211031T010000
END:STANDARD
END:VTIMEZONE
BEGIN:VEVENT
DTSTART;TZID=Europe/Zurich:20210207T100000
DTEND;TZID=Europe/Zurich:20210207T113000
DTSTAMP:20260421T152815
CREATED:20210125T154919Z
LAST-MODIFIED:20210201T120227Z
UID:4047-1612692000-1612697400@actr.ch
SUMMARY:Culte OPEN DOOR
DESCRIPTION:Dimanche 7 février \nProgramme EN LIGNE OU EN PRÉSENTIEL SUR INSCRIPTION: \n10h00-11h30: Culte OPEN DOOR \nCliquez ci-dessous pour assister en direct au culte ou pour visionner en différé les derniers cultes:\nhttps://actr.ch/live/ \nRespectez les dernières consignes des Autorités sanitaires!\nhttps://ofsp-coronavirus.ch/CulLe
URL:https://actr.ch/event/culte-open-door-5/
LOCATION:ACTR\, Chemin des Trois-Rois 5\, Lausanne\, 1005\, Suisse
CATEGORIES:Cultes
ATTACH;FMTTYPE=image/jpeg:https://actr.ch/wp-content/uploads/2021/01/flyer-open-door-2021-02-07-v1.jpeg
END:VEVENT
BEGIN:VEVENT
DTSTART;TZID=Europe/Zurich:20210214T100000
DTEND;TZID=Europe/Zurich:20210214T113000
DTSTAMP:20260421T152815
CREATED:20210201T120140Z
LAST-MODIFIED:20210201T120140Z
UID:4068-1613296800-1613302200@actr.ch
SUMMARY:Culte et message biblique
DESCRIPTION:Dimanche 14 février \nProgramme EN LIGNE OU EN PRÉSENTIEL SUR INSCRIPTION: \n10h00-11h30: Culte + message biblique \nCliquez ci-dessous pour assister en direct au culte ou pour visionner en différé les derniers cultes:\nhttps://actr.ch/live/ \nRespectez les dernières consignes des Autorités sanitaires!\nhttps://ofsp-coronavirus.ch/CulLe
URL:https://actr.ch/event/culte-et-message-biblique-34/
LOCATION:ACTR\, Chemin des Trois-Rois 5\, Lausanne\, 1005\, Suisse
CATEGORIES:Cultes
ATTACH;FMTTYPE=image/jpeg:https://actr.ch/wp-content/uploads/2021/01/134670107_464028441666667_8603178267369550341_o.jpg
END:VEVENT
BEGIN:VEVENT
DTSTART;TZID=Europe/Zurich:20210221T100000
DTEND;TZID=Europe/Zurich:20210221T113000
DTSTAMP:20260421T152815
CREATED:20210213T171524Z
LAST-MODIFIED:20210215T171539Z
UID:4084-1613901600-1613907000@actr.ch
SUMMARY:Culte et message biblique
DESCRIPTION:Dimanche 21 février \nProgramme EN LIGNE OU EN PRÉSENTIEL SUR INSCRIPTION: \n10h00-11h30: Culte + message biblique \n“Regarde comme Dieu te regarde!” \n10h00-11h30: Atelier créatif pour les enfants \nCliquez ci-dessous pour assister en direct au culte ou pour visionner en différé les derniers cultes:\nhttps://actr.ch/live/ \nRespectez les dernières consignes des Autorités sanitaires!\nhttps://ofsp-coronavirus.ch/CulLe
URL:https://actr.ch/event/culte-et-message-biblique-35/
LOCATION:ACTR\, Chemin des Trois-Rois 5\, Lausanne\, 1005\, Suisse
CATEGORIES:Cultes
ATTACH;FMTTYPE=image/jpeg:https://actr.ch/wp-content/uploads/2021/02/119447491_376962607039918_10676362180709920_o.jpg
END:VEVENT
END:VCALENDAR