BEGIN:VCALENDAR
VERSION:2.0
PRODID:-//ACTR - ECPv6.2.9//NONSGML v1.0//EN
CALSCALE:GREGORIAN
METHOD:PUBLISH
X-ORIGINAL-URL:https://actr.ch
X-WR-CALDESC:évènements pour ACTR
REFRESH-INTERVAL;VALUE=DURATION:PT1H
X-Robots-Tag:noindex
X-PUBLISHED-TTL:PT1H
BEGIN:VTIMEZONE
TZID:Europe/Zurich
BEGIN:DAYLIGHT
TZOFFSETFROM:+0100
TZOFFSETTO:+0200
TZNAME:CEST
DTSTART:20200329T010000
END:DAYLIGHT
BEGIN:STANDARD
TZOFFSETFROM:+0200
TZOFFSETTO:+0100
TZNAME:CET
DTSTART:20201025T010000
END:STANDARD
END:VTIMEZONE
BEGIN:VEVENT
DTSTART;TZID=Europe/Zurich:20201206T100000
DTEND;TZID=Europe/Zurich:20201206T113000
DTSTAMP:20260422T034616
CREATED:20201129T093238Z
LAST-MODIFIED:20201129T093238Z
UID:3911-1607248800-1607254200@actr.ch
SUMMARY:EN LIGNE Culte en message biblique
DESCRIPTION:Dimanche 6 décembre \nProgramme UNIQUEMENT EN LIGNE: \n10h00-11h30: “Remercier Dieu en tout temps”. \nCliquez ci-dessous pour assister en direct au culte ou pour visionner en différé les derniers cultes:\nhttps://actr.ch/live/ \nRespectez les dernières consignes des Autorités sanitaires!\nhttps://ofsp-coronavirus.ch/CulLe
URL:https://actr.ch/event/en-ligne-culte-en-message-biblique/
LOCATION:ACTR\, Chemin des Trois-Rois 5\, Lausanne\, 1005\, Suisse
CATEGORIES:Cultes
ATTACH;FMTTYPE=image/jpeg:https://actr.ch/wp-content/uploads/2020/11/fullsizeoutput_3cd2-scaled.jpeg
END:VEVENT
BEGIN:VEVENT
DTSTART;TZID=Europe/Zurich:20201213T100000
DTEND;TZID=Europe/Zurich:20201213T113000
DTSTAMP:20260422T034616
CREATED:20201206T101813Z
LAST-MODIFIED:20201206T101813Z
UID:3930-1607853600-1607859000@actr.ch
SUMMARY:EN LIGNE Culte & message biblique
DESCRIPTION:Dimanche 13 décembre \nProgramme UNIQUEMENT EN LIGNE: \n10h00-11h30: Culte \nCliquez ci-dessous pour assister en direct au culte ou pour visionner en différé les derniers cultes:\nhttps://actr.ch/live/ \nRespectez les dernières consignes des Autorités sanitaires!\nhttps://ofsp-coronavirus.ch/CulLe
URL:https://actr.ch/event/en-ligne-culte-message-biblique/
LOCATION:ACTR\, Chemin des Trois-Rois 5\, Lausanne\, 1005\, Suisse
CATEGORIES:Cultes
ATTACH;FMTTYPE=image/jpeg:https://actr.ch/wp-content/uploads/2020/12/IMG_6365-scaled.jpg
END:VEVENT
BEGIN:VEVENT
DTSTART;TZID=Europe/Zurich:20201220T100000
DTEND;TZID=Europe/Zurich:20201220T113000
DTSTAMP:20260422T034616
CREATED:20201212T095559Z
LAST-MODIFIED:20201215T095907Z
UID:3938-1608458400-1608463800@actr.ch
SUMMARY:EN LIGNE Culte et message biblique
DESCRIPTION:Dimanche 20 décembre \nProgramme UNIQUEMENT EN LIGNE: \n10h00-11h30: Culte de Noël \n“La pré-histoire de Noël” présenté par Jean-Lacombe \nCliquez ci-dessous pour assister en direct au culte ou pour visionner en différé les derniers cultes:\nhttps://actr.ch/live/ \nRespectez les dernières consignes des Autorités sanitaires!\nhttps://ofsp-coronavirus.ch/CulLe
URL:https://actr.ch/event/en-ligne-culte-et-message-biblique-3/
LOCATION:ACTR\, Chemin des Trois-Rois 5\, Lausanne\, 1005\, Suisse
CATEGORIES:Cultes
ATTACH;FMTTYPE=image/jpeg:https://actr.ch/wp-content/uploads/2020/12/NoelACTR_flyer-copie.jpg
END:VEVENT
END:VCALENDAR