BEGIN:VCALENDAR
VERSION:2.0
PRODID:-//ACTR - ECPv6.2.9//NONSGML v1.0//EN
CALSCALE:GREGORIAN
METHOD:PUBLISH
X-WR-CALNAME:ACTR
X-ORIGINAL-URL:https://actr.ch
X-WR-CALDESC:évènements pour ACTR
REFRESH-INTERVAL;VALUE=DURATION:PT1H
X-Robots-Tag:noindex
X-PUBLISHED-TTL:PT1H
BEGIN:VTIMEZONE
TZID:Europe/Zurich
BEGIN:DAYLIGHT
TZOFFSETFROM:+0100
TZOFFSETTO:+0200
TZNAME:CEST
DTSTART:20200329T010000
END:DAYLIGHT
BEGIN:STANDARD
TZOFFSETFROM:+0200
TZOFFSETTO:+0100
TZNAME:CET
DTSTART:20201025T010000
END:STANDARD
END:VTIMEZONE
BEGIN:VEVENT
DTSTART;TZID=Europe/Zurich:20200906T100000
DTEND;TZID=Europe/Zurich:20200906T113000
DTSTAMP:20260422T162111
CREATED:20200622T110301Z
LAST-MODIFIED:20200822T102017Z
UID:3544-1599386400-1599391800@actr.ch
SUMMARY:Culte OPEN DOOR au local & "en ligne"
DESCRIPTION:CULTE \nDimanche 6 septembre\nProgramme: \n10h00:\n– Louange\n– Message de David Richir: “Jésus-Christ\, invention ou réalité?”\n– info/annonces \nCliquez ci-dessous pour assister en direct au culte ou pour visionner en différé les cultes:\nhttps://actr.ch/live/ \nRespectez les dernières consignes des Autorités sanitaires!\nhttps://ofsp-coronavirus.ch/Cul
URL:https://actr.ch/event/culte-au-local-en-ligne/
LOCATION:ACTR\, Chemin des Trois-Rois 5\, Lausanne\, 1005\, Suisse
CATEGORIES:Cultes
ATTACH;FMTTYPE=image/jpeg:https://actr.ch/wp-content/uploads/2020/06/culteOpenDoorFlyer_LQ-copie.jpg
END:VEVENT
BEGIN:VEVENT
DTSTART;TZID=Europe/Zurich:20200913T100000
DTEND;TZID=Europe/Zurich:20200913T113000
DTSTAMP:20260422T162111
CREATED:20200719T095315Z
LAST-MODIFIED:20200831T104523Z
UID:3574-1599991200-1599996600@actr.ch
SUMMARY:Culte au local et "en ligne"
DESCRIPTION:CULTE \nDimanche 13 septembre \nProgramme: \n10h00-11h00:\n– Culte \n11h00-11h30:\nMessage biblique: “Le Saint-Esprit\, sa nature\, son rôle dans la Trinité\, son oeuvre”\nOrateur: Robin Reeve \nCliquez ci-dessous pour assister en direct au culte ou pour visionner en différé les cultes de mars\, avril et mai 2020 :\nhttps://actr.ch/live/ \nRespectez les dernières consignes des Autorités sanitaires!\nhttps://ofsp-coronavirus.ch/Cul
URL:https://actr.ch/event/culte-au-local-et-en-ligne-2/
LOCATION:ACTR\, Chemin des Trois-Rois 5\, Lausanne\, 1005\, Suisse
CATEGORIES:Cultes
ATTACH;FMTTYPE=image/jpeg:https://actr.ch/wp-content/uploads/2017/06/mike-rawlings-277885-2.jpg
END:VEVENT
BEGIN:VEVENT
DTSTART;TZID=Europe/Zurich:20200920T100000
DTEND;TZID=Europe/Zurich:20200920T113000
DTSTAMP:20260422T162111
CREATED:20200831T104430Z
LAST-MODIFIED:20200831T104430Z
UID:3743-1600596000-1600601400@actr.ch
SUMMARY:Culte au local et "en ligne
DESCRIPTION:CULTE \nDimanche 20 septembre \nProgramme: \n10h00-11h00:\n– Culte \n11h00-11h30:\nMessage biblique:  \nCliquez ci-dessous pour assister en direct au culte ou pour visionner en différé les cultes de mars\, avril et mai 2020 :\nhttps://actr.ch/live/ \nRespectez les dernières consignes des Autorités sanitaires!\nhttps://ofsp-coronavirus.ch/Cul
URL:https://actr.ch/event/culte-au-local-et-en-ligne-3/
LOCATION:ACTR\, Chemin des Trois-Rois 5\, Lausanne\, 1005\, Suisse
CATEGORIES:Cultes
ATTACH;FMTTYPE=image/jpeg:https://actr.ch/wp-content/uploads/2017/06/anton-repponen-109642.jpg
END:VEVENT
BEGIN:VEVENT
DTSTART;TZID=Europe/Zurich:20200927T100000
DTEND;TZID=Europe/Zurich:20200927T113000
DTSTAMP:20260422T162111
CREATED:20200916T093042Z
LAST-MODIFIED:20200916T093042Z
UID:3767-1601200800-1601206200@actr.ch
SUMMARY:Culte au local & en ligne
DESCRIPTION:CULTE \nDimanche 27 septembre \nProgramme: \n10h00-11h00:\n– Culte \n11h00-11h30:\nMessage biblique:  \nCliquez ci-dessous pour assister en direct au culte ou pour visionner en différé les cultes de mars\, avril et mai 2020 :\nhttps://actr.ch/live/ \nRespectez les dernières consignes des Autorités sanitaires!\nhttps://ofsp-coronavirus.ch/Cul
URL:https://actr.ch/event/culte-au-local-en-ligne-3/
LOCATION:ACTR\, Chemin des Trois-Rois 5\, Lausanne\, 1005\, Suisse
CATEGORIES:Cultes
ATTACH;FMTTYPE=image/jpeg:https://actr.ch/wp-content/uploads/2017/06/austin-neill-160132.jpg
END:VEVENT
END:VCALENDAR