BEGIN:VCALENDAR
VERSION:2.0
PRODID:-//ACTR - ECPv6.2.9//NONSGML v1.0//EN
CALSCALE:GREGORIAN
METHOD:PUBLISH
X-WR-CALNAME:ACTR
X-ORIGINAL-URL:https://actr.ch
X-WR-CALDESC:évènements pour ACTR
REFRESH-INTERVAL;VALUE=DURATION:PT1H
X-Robots-Tag:noindex
X-PUBLISHED-TTL:PT1H
BEGIN:VTIMEZONE
TZID:Europe/Zurich
BEGIN:DAYLIGHT
TZOFFSETFROM:+0100
TZOFFSETTO:+0200
TZNAME:CEST
DTSTART:20190331T010000
END:DAYLIGHT
BEGIN:STANDARD
TZOFFSETFROM:+0200
TZOFFSETTO:+0100
TZNAME:CET
DTSTART:20191027T010000
END:STANDARD
END:VTIMEZONE
BEGIN:VEVENT
DTSTART;TZID=Europe/Zurich:20190707T093000
DTEND;TZID=Europe/Zurich:20190707T113000
DTSTAMP:20260423T185503
CREATED:20190702T093634Z
LAST-MODIFIED:20190702T093634Z
UID:3157-1562491800-1562499000@actr.ch
SUMMARY:Culte et message biblique
DESCRIPTION:9h30: Culte \n10h00: Garderie 0-10 ans \n10h45: Enseignement biblique: Sujet LIBRE\n \n11h30: Café du dimanche \nVacances scolaires\, pas d’école du dimanche
URL:https://actr.ch/event/culte-et-message-biblique-9/
LOCATION:ACTR\, Chemin des Trois-Rois 5\, Lausanne\, 1005\, Suisse
CATEGORIES:Cultes
ATTACH;FMTTYPE=image/jpeg:https://actr.ch/wp-content/uploads/2017/06/johannes-plenio-278099-2.jpg
END:VEVENT
BEGIN:VEVENT
DTSTART;TZID=Europe/Zurich:20190714T093000
DTEND;TZID=Europe/Zurich:20190714T113000
DTSTAMP:20260423T185503
CREATED:20190702T093745Z
LAST-MODIFIED:20190702T093745Z
UID:3159-1563096600-1563103800@actr.ch
SUMMARY:Culte et message biblique
DESCRIPTION:9h30: Culte \n10h00: Garderie 0-10 ans \n10h45: Enseignement biblique: Sujet LIBRE\n \n11h30: Café du dimanche \nVacances scolaires\, pas d’école du dimanche
URL:https://actr.ch/event/culte-et-message-biblique-10/
LOCATION:ACTR\, Chemin des Trois-Rois 5\, Lausanne\, 1005\, Suisse
CATEGORIES:Cultes
ATTACH;FMTTYPE=image/jpeg:https://actr.ch/wp-content/uploads/2017/06/matthew-kane-278419-2.jpg
END:VEVENT
BEGIN:VEVENT
DTSTART;TZID=Europe/Zurich:20190721T093000
DTEND;TZID=Europe/Zurich:20190721T113000
DTSTAMP:20260423T185503
CREATED:20190702T094011Z
LAST-MODIFIED:20190715T162843Z
UID:3161-1563701400-1563708600@actr.ch
SUMMARY:Culte et message biblique
DESCRIPTION:9h30: Culte \n10h00: Garderie 0-10 ans \n10h45: Enseignement biblique\n \n11h30: Café du dimanche \nVacances scolaires\, pas d’école du dimanche
URL:https://actr.ch/event/culte-et-message-biblique-11/
LOCATION:ACTR\, Chemin des Trois-Rois 5\, Lausanne\, 1005\, Suisse
CATEGORIES:Cultes
ATTACH;FMTTYPE=image/jpeg:https://actr.ch/wp-content/uploads/2017/05/ACTR-Culte-11.06.2017-1.jpg
END:VEVENT
BEGIN:VEVENT
DTSTART;TZID=Europe/Zurich:20190728T093000
DTEND;TZID=Europe/Zurich:20190728T113000
DTSTAMP:20260423T185503
CREATED:20190702T094126Z
LAST-MODIFIED:20190702T094126Z
UID:3163-1564306200-1564313400@actr.ch
SUMMARY:Culte et message biblique
DESCRIPTION:9h30: Culte \n10h00: Garderie 0-10 ans \n10h45: Enseignement biblique: Sujet LIBRE\n \n11h30: Café du dimanche \nVacances scolaires\, pas d’école du dimanche
URL:https://actr.ch/event/culte-et-message-biblique-12/
LOCATION:ACTR\, Chemin des Trois-Rois 5\, Lausanne\, 1005\, Suisse
CATEGORIES:Cultes
ATTACH;FMTTYPE=image/jpeg:https://actr.ch/wp-content/uploads/2017/05/Culte-11.06.2017.jpg
END:VEVENT
END:VCALENDAR