BEGIN:VCALENDAR
VERSION:2.0
PRODID:-//ACTR - ECPv6.2.9//NONSGML v1.0//EN
CALSCALE:GREGORIAN
METHOD:PUBLISH
X-WR-CALNAME:ACTR
X-ORIGINAL-URL:https://actr.ch
X-WR-CALDESC:évènements pour ACTR
REFRESH-INTERVAL;VALUE=DURATION:PT1H
X-Robots-Tag:noindex
X-PUBLISHED-TTL:PT1H
BEGIN:VTIMEZONE
TZID:Europe/Zurich
BEGIN:DAYLIGHT
TZOFFSETFROM:+0100
TZOFFSETTO:+0200
TZNAME:CEST
DTSTART:20190331T010000
END:DAYLIGHT
BEGIN:STANDARD
TZOFFSETFROM:+0200
TZOFFSETTO:+0100
TZNAME:CET
DTSTART:20191027T010000
END:STANDARD
END:VTIMEZONE
BEGIN:VEVENT
DTSTART;TZID=Europe/Zurich:20190407T093000
DTEND;TZID=Europe/Zurich:20190407T113000
DTSTAMP:20260424T044655
CREATED:20190326T074907Z
LAST-MODIFIED:20190326T074907Z
UID:3083-1554629400-1554636600@actr.ch
SUMMARY:Culte
DESCRIPTION:9h30: Culte \n10h00: Garderie 0-10 ans \n10h45: Ecole du dimanche 3-14 ans \n10h45: Enseignement biblique:  “sujet libre”\n \n11h30: Café du dimanche
URL:https://actr.ch/event/culte-88/
LOCATION:ACTR\, Chemin des Trois-Rois 5\, Lausanne\, 1005\, Suisse
CATEGORIES:Cultes
ATTACH;FMTTYPE=image/jpeg:https://actr.ch/wp-content/uploads/2017/05/Culte-11.06.2017.jpg
END:VEVENT
BEGIN:VEVENT
DTSTART;TZID=Europe/Zurich:20190414T093000
DTEND;TZID=Europe/Zurich:20190414T113000
DTSTAMP:20260424T044655
CREATED:20190326T075056Z
LAST-MODIFIED:20190326T075056Z
UID:3085-1555234200-1555241400@actr.ch
SUMMARY:Culte
DESCRIPTION:9h30: Culte \n10h00: Garderie 0-10 ans \n10h45: Enseignement biblique:  “Sujet libre” \n11h30: Café du dimanche \nVacances scolaires\, pas d’école du dimanche
URL:https://actr.ch/event/culte-89/
LOCATION:ACTR\, Chemin des Trois-Rois 5\, Lausanne\, 1005\, Suisse
CATEGORIES:Cultes
ATTACH;FMTTYPE=image/jpeg:https://actr.ch/wp-content/uploads/2017/06/paul-morris-167780.jpg
END:VEVENT
BEGIN:VEVENT
DTSTART;TZID=Europe/Zurich:20190421T093000
DTEND;TZID=Europe/Zurich:20190421T113000
DTSTAMP:20260424T044655
CREATED:20190326T075241Z
LAST-MODIFIED:20190326T075241Z
UID:3087-1555839000-1555846200@actr.ch
SUMMARY:Culte
DESCRIPTION:9h30: Culte \n10h00: Garderie 0-10 ans \n10h45: Enseignement biblique:  “Sujet libre”\n \n11h30: Café du dimanche \nVacances scolaires\, pas d’école du dimanche
URL:https://actr.ch/event/culte-90/
LOCATION:ACTR\, Chemin des Trois-Rois 5\, Lausanne\, 1005\, Suisse
CATEGORIES:Cultes
ATTACH;FMTTYPE=image/jpeg:https://actr.ch/wp-content/uploads/2017/05/Enseignement-des-enfants-1-e1495529915192.jpg
END:VEVENT
BEGIN:VEVENT
DTSTART;TZID=Europe/Zurich:20190428T083000
DTEND;TZID=Europe/Zurich:20190428T113000
DTSTAMP:20260424T044655
CREATED:20190326T075605Z
LAST-MODIFIED:20190326T075605Z
UID:3089-1556440200-1556451000@actr.ch
SUMMARY:Culte
DESCRIPTION:9h30: Culte \n10h00: Garderie 0-10 ans \n10h45: Enseignement biblique:  présentation de Douglas Virgint\n \n11h30: Café du dimanche \nVacances scolaires\, pas d’école du dimanche
URL:https://actr.ch/event/culte-91/
LOCATION:ACTR\, Chemin des Trois-Rois 5\, Lausanne\, 1005\, Suisse
CATEGORIES:Cultes
ATTACH;FMTTYPE=image/jpeg:https://actr.ch/wp-content/uploads/2017/01/pQS0ETF3KTI-arto-marttinen.jpg
END:VEVENT
END:VCALENDAR