BEGIN:VCALENDAR
VERSION:2.0
PRODID:-//ACTR - ECPv6.2.9//NONSGML v1.0//EN
CALSCALE:GREGORIAN
METHOD:PUBLISH
X-WR-CALNAME:ACTR
X-ORIGINAL-URL:https://actr.ch
X-WR-CALDESC:évènements pour ACTR
REFRESH-INTERVAL;VALUE=DURATION:PT1H
X-Robots-Tag:noindex
X-PUBLISHED-TTL:PT1H
BEGIN:VTIMEZONE
TZID:Europe/Zurich
BEGIN:DAYLIGHT
TZOFFSETFROM:+0100
TZOFFSETTO:+0200
TZNAME:CEST
DTSTART:20180325T010000
END:DAYLIGHT
BEGIN:STANDARD
TZOFFSETFROM:+0200
TZOFFSETTO:+0100
TZNAME:CET
DTSTART:20181028T010000
END:STANDARD
END:VTIMEZONE
BEGIN:VEVENT
DTSTART;TZID=Europe/Zurich:20181202T093000
DTEND;TZID=Europe/Zurich:20181202T113000
DTSTAMP:20260424T140325
CREATED:20181105T165627Z
LAST-MODIFIED:20181105T165627Z
UID:2993-1543743000-1543750200@actr.ch
SUMMARY:Culte
DESCRIPTION:9h30: Culte \n10h00: Garderie \n10h45: Ecole du dimanche pour les 3-12 ans \n10h45: Enseignement biblique:  “sujet libre” \n11h30: Café du dimanche
URL:https://actr.ch/event/culte-73/
LOCATION:ACTR\, Chemin des Trois-Rois 5\, Lausanne\, 1005\, Suisse
CATEGORIES:Cultes
ATTACH;FMTTYPE=image/jpeg:https://actr.ch/wp-content/uploads/2017/05/ACTR-Vision-e1496257315486.jpg
END:VEVENT
BEGIN:VEVENT
DTSTART;TZID=Europe/Zurich:20181209T103000
DTEND;TZID=Europe/Zurich:20181209T150000
DTSTAMP:20260424T140325
CREATED:20181105T170013Z
LAST-MODIFIED:20181105T170013Z
UID:2995-1544351400-1544367600@actr.ch
SUMMARY:Spectacle de Noël
DESCRIPTION:10h00- 11h45: Spectacle de Noël présenté par les enfants et le groupe de jeunes \nET SI C’ETAIT A REVIVRE…..! \n12h00: Apéro \n13h00: Buffet canadiens avec différentes représentations surprises \n15h00: Fin \n 
URL:https://actr.ch/event/spectacle-de-noel/
LOCATION:ACTR\, Chemin des Trois-Rois 5\, Lausanne\, 1005\, Suisse
CATEGORIES:Cultes
ATTACH;FMTTYPE=image/jpeg:https://actr.ch/wp-content/uploads/2018/11/Noël-2018.jpg
END:VEVENT
BEGIN:VEVENT
DTSTART;TZID=Europe/Zurich:20181216T093000
DTEND;TZID=Europe/Zurich:20181216T113000
DTSTAMP:20260424T140325
CREATED:20181211T080234Z
LAST-MODIFIED:20181211T080234Z
UID:3017-1544952600-1544959800@actr.ch
SUMMARY:Culte
DESCRIPTION:9h30: Culte \n10h00: Garderie 0-10 ans \n10h45: Ecole du dimanche pour les 3-12 ans \n10h45: Enseignement biblique:  “Vivre la cène aujourd’hui” présenté par Jean Lacombe \n11h30: Café du dimanche
URL:https://actr.ch/event/culte-74/
LOCATION:ACTR\, Chemin des Trois-Rois 5\, Lausanne\, 1005\, Suisse
CATEGORIES:Cultes
ATTACH;FMTTYPE=image/jpeg:https://actr.ch/wp-content/uploads/2017/05/ACTR-la-parole-de-Dieu-e1496257211851.jpg
END:VEVENT
BEGIN:VEVENT
DTSTART;TZID=Europe/Zurich:20181223T093000
DTEND;TZID=Europe/Zurich:20181223T113000
DTSTAMP:20260424T140325
CREATED:20181211T080516Z
LAST-MODIFIED:20181211T080516Z
UID:3019-1545557400-1545564600@actr.ch
SUMMARY:Culte
DESCRIPTION:9h30: Culte \n10h00: Garderie \n10h45: Enseignement biblique:  “sujet libre” \n11h30: Café du dimanche
URL:https://actr.ch/event/culte-75/
LOCATION:ACTR\, Chemin des Trois-Rois 5\, Lausanne\, 1005\, Suisse
CATEGORIES:Cultes
ATTACH;FMTTYPE=image/jpeg:https://actr.ch/wp-content/uploads/2017/06/tobias-keller-99139-e1509483154789.jpg
END:VEVENT
BEGIN:VEVENT
DTSTART;TZID=Europe/Zurich:20181230T093000
DTEND;TZID=Europe/Zurich:20181230T113000
DTSTAMP:20260424T140325
CREATED:20181211T080653Z
LAST-MODIFIED:20181211T080653Z
UID:3021-1546162200-1546169400@actr.ch
SUMMARY:Culte
DESCRIPTION:9h30: Culte \n10h00: Garderie \n10h45: Enseignement biblique:  “sujet libre” \n11h30: Café du dimanche
URL:https://actr.ch/event/culte-76/
LOCATION:ACTR\, Chemin des Trois-Rois 5\, Lausanne\, 1005\, Suisse
CATEGORIES:Cultes
ATTACH;FMTTYPE=image/jpeg:https://actr.ch/wp-content/uploads/2017/06/joshua-earle-234740.jpg
END:VEVENT
END:VCALENDAR