BEGIN:VCALENDAR
VERSION:2.0
PRODID:-//ACTR - ECPv6.2.9//NONSGML v1.0//EN
CALSCALE:GREGORIAN
METHOD:PUBLISH
X-ORIGINAL-URL:https://actr.ch
X-WR-CALDESC:évènements pour ACTR
REFRESH-INTERVAL;VALUE=DURATION:PT1H
X-Robots-Tag:noindex
X-PUBLISHED-TTL:PT1H
BEGIN:VTIMEZONE
TZID:Europe/Zurich
BEGIN:DAYLIGHT
TZOFFSETFROM:+0100
TZOFFSETTO:+0200
TZNAME:CEST
DTSTART:20180325T010000
END:DAYLIGHT
BEGIN:STANDARD
TZOFFSETFROM:+0200
TZOFFSETTO:+0100
TZNAME:CET
DTSTART:20181028T010000
END:STANDARD
END:VTIMEZONE
BEGIN:VEVENT
DTSTART;TZID=Europe/Zurich:20181007T093000
DTEND;TZID=Europe/Zurich:20181007T113000
DTSTAMP:20260424T160047
CREATED:20180924T114319Z
LAST-MODIFIED:20180924T114319Z
UID:2937-1538904600-1538911800@actr.ch
SUMMARY:Culte
DESCRIPTION:9h30: Culte \n10h00: Garderie \n10h45: Ecole du dimanche pour les enfants 3-12 ans \n10h45: Enseignement biblique:  “La Cène” présenté par Jean Lacombe \n11h30: Café du dimanche
URL:https://actr.ch/event/culte-66/
LOCATION:ACTR\, Chemin des Trois-Rois 5\, Lausanne\, 1005\, Suisse
CATEGORIES:Cultes
ATTACH;FMTTYPE=image/jpeg:https://actr.ch/wp-content/uploads/2017/05/ACTR-Culte-11.06.2017-1.jpg
END:VEVENT
BEGIN:VEVENT
DTSTART;TZID=Europe/Zurich:20181014T093000
DTEND;TZID=Europe/Zurich:20181014T113000
DTSTAMP:20260424T160047
CREATED:20180924T114526Z
LAST-MODIFIED:20180924T114526Z
UID:2939-1539509400-1539516600@actr.ch
SUMMARY:Culte
DESCRIPTION:9h30: Culte \n10h00: Garderie \n10h45: Enseignement biblique:  Sujet libre \n11h30: Café du dimanche
URL:https://actr.ch/event/culte-67/
LOCATION:ACTR\, Chemin des Trois-Rois 5\, Lausanne\, 1005\, Suisse
CATEGORIES:Cultes
ATTACH;FMTTYPE=image/jpeg:https://actr.ch/wp-content/uploads/2017/06/Culte-11.06.2017-1.jpg
END:VEVENT
BEGIN:VEVENT
DTSTART;TZID=Europe/Zurich:20181021T093000
DTEND;TZID=Europe/Zurich:20181021T113000
DTSTAMP:20260424T160047
CREATED:20180924T114650Z
LAST-MODIFIED:20180924T114650Z
UID:2941-1540114200-1540121400@actr.ch
SUMMARY:Culte
DESCRIPTION:9h30: Culte \n10h00: Garderie \n10h45: Enseignement biblique:  Sujet libre \n11h30: Café du dimanche
URL:https://actr.ch/event/culte-68/
LOCATION:ACTR\, Chemin des Trois-Rois 5\, Lausanne\, 1005\, Suisse
CATEGORIES:Cultes
ATTACH;FMTTYPE=image/jpeg:https://actr.ch/wp-content/uploads/2017/06/paul-morris-167780.jpg
END:VEVENT
BEGIN:VEVENT
DTSTART;TZID=Europe/Zurich:20181028T093000
DTEND;TZID=Europe/Zurich:20181028T113000
DTSTAMP:20260424T160047
CREATED:20180924T114940Z
LAST-MODIFIED:20180924T114956Z
UID:2943-1540719000-1540726200@actr.ch
SUMMARY:Culte
DESCRIPTION:9h30: Culte \n10h00: Garderie \n10h45: Enseignement biblique:  “Apologétique 1” présenté par Christophe Argaud \n11h30: Café du dimanche
URL:https://actr.ch/event/2943/
LOCATION:ACTR\, Chemin des Trois-Rois 5\, Lausanne\, 1005\, Suisse
CATEGORIES:Cultes
ATTACH;FMTTYPE=image/jpeg:https://actr.ch/wp-content/uploads/2017/06/loreta-pavoliene-2175.jpg
END:VEVENT
END:VCALENDAR