BEGIN:VCALENDAR
VERSION:2.0
PRODID:-//ACTR - ECPv6.2.9//NONSGML v1.0//EN
CALSCALE:GREGORIAN
METHOD:PUBLISH
X-WR-CALNAME:ACTR
X-ORIGINAL-URL:https://actr.ch
X-WR-CALDESC:évènements pour ACTR
REFRESH-INTERVAL;VALUE=DURATION:PT1H
X-Robots-Tag:noindex
X-PUBLISHED-TTL:PT1H
BEGIN:VTIMEZONE
TZID:Europe/Zurich
BEGIN:DAYLIGHT
TZOFFSETFROM:+0100
TZOFFSETTO:+0200
TZNAME:CEST
DTSTART:20180325T010000
END:DAYLIGHT
BEGIN:STANDARD
TZOFFSETFROM:+0200
TZOFFSETTO:+0100
TZNAME:CET
DTSTART:20181028T010000
END:STANDARD
END:VTIMEZONE
BEGIN:VEVENT
DTSTART;TZID=Europe/Zurich:20180902T093000
DTEND;TZID=Europe/Zurich:20180902T113000
DTSTAMP:20260424T205851
CREATED:20180824T162557Z
LAST-MODIFIED:20180824T163526Z
UID:2928-1535880600-1535887800@actr.ch
SUMMARY:CULTE OPEN DOOR
DESCRIPTION:10h00 Culte OPEN DOOR avec Matthieu Perraud \n“Aujourd’hui\, tout peut changer… Quelque soit votre situation\, votre impasse ou votre difficulté\, Dieu est celui qui s’intéresse à votre besoin et qui peut rendre l’impossible possible dans votre vie.” \n10h00: Garderie \n10h45: Ecole du dimanche pour les enfants 3-12 ans \n11h30: Café du dimanche
URL:https://actr.ch/event/culte-65/
LOCATION:ACTR\, Chemin des Trois-Rois 5\, Lausanne\, 1005\, Suisse
CATEGORIES:Cultes
ATTACH;FMTTYPE=image/jpeg:https://actr.ch/wp-content/uploads/2018/08/Open-Door-2-sept.jpeg
END:VEVENT
BEGIN:VEVENT
DTSTART;TZID=Europe/Zurich:20180909T103000
DTEND;TZID=Europe/Zurich:20180909T170000
DTSTAMP:20260424T205851
CREATED:20180824T161637Z
LAST-MODIFIED:20180824T161637Z
UID:2919-1536489000-1536512400@actr.ch
SUMMARY:CULTE OPEN AIR
DESCRIPTION:10h30: Culte OPEN AIR à Ballaigues \n12h00. “Grillade Party” \n 
URL:https://actr.ch/event/culte-open-air/
LOCATION:Ballaigues\, Le Muret\,  Ballaigues\, 1338\, Suisse
CATEGORIES:Activités,Cultes
ATTACH;FMTTYPE=image/jpeg:https://actr.ch/wp-content/uploads/2018/08/P1040498.jpg
END:VEVENT
BEGIN:VEVENT
DTSTART;TZID=Europe/Zurich:20180916T093000
DTEND;TZID=Europe/Zurich:20180916T113000
DTSTAMP:20260424T205851
CREATED:20180824T161939Z
LAST-MODIFIED:20180824T161939Z
UID:2922-1537090200-1537097400@actr.ch
SUMMARY:CULTE
DESCRIPTION:9h30: Culte \n10h00. Garderie \n10h45: Enseignement biblique:  Sujet libre \n11h30: Café du dimanche
URL:https://actr.ch/event/culte-62/
LOCATION:ACTR\, Chemin des Trois-Rois 5\, Lausanne\, 1005\, Suisse
CATEGORIES:Cultes
ATTACH;FMTTYPE=image/jpeg:https://actr.ch/wp-content/uploads/2017/06/austin-neill-160132.jpg
END:VEVENT
BEGIN:VEVENT
DTSTART;TZID=Europe/Zurich:20180923T093000
DTEND;TZID=Europe/Zurich:20180923T113000
DTSTAMP:20260424T205851
CREATED:20180824T162213Z
LAST-MODIFIED:20180824T162213Z
UID:2924-1537695000-1537702200@actr.ch
SUMMARY:CULTE
DESCRIPTION:9h30: Culte \n10h00: Garderie \n10h45: Ecole du dimanche pour les enfants 3-12 ans \n10h45: Enseignement biblique:  “Développer un caractère chrétien”\, présenté par Jonathan Saber \n11h30: Café du dimanche
URL:https://actr.ch/event/culte-63/
LOCATION:ACTR\, Chemin des Trois-Rois 5\, Lausanne\, 1005\, Suisse
CATEGORIES:Cultes
ATTACH;FMTTYPE=image/jpeg:https://actr.ch/wp-content/uploads/2017/06/mike-rawlings-277885-2.jpg
END:VEVENT
BEGIN:VEVENT
DTSTART;TZID=Europe/Zurich:20180930T093000
DTEND;TZID=Europe/Zurich:20180930T113000
DTSTAMP:20260424T205851
CREATED:20180824T162402Z
LAST-MODIFIED:20180824T162402Z
UID:2926-1538299800-1538307000@actr.ch
SUMMARY:CULTE
DESCRIPTION:9h30: Culte \n10h00: Garderie \n10h45: Ecole du dimanche pour les enfants 3-12 ans \n10h45: Enseignement biblique:  Sujet libre \n11h30: Café du dimanche
URL:https://actr.ch/event/culte-64/
LOCATION:ACTR\, Chemin des Trois-Rois 5\, Lausanne\, 1005\, Suisse
CATEGORIES:Cultes
ATTACH;FMTTYPE=image/jpeg:https://actr.ch/wp-content/uploads/2017/06/ACTR-Culte-4.jpg
END:VEVENT
END:VCALENDAR