BEGIN:VCALENDAR
VERSION:2.0
PRODID:-//ACTR - ECPv6.2.9//NONSGML v1.0//EN
CALSCALE:GREGORIAN
METHOD:PUBLISH
X-ORIGINAL-URL:https://actr.ch
X-WR-CALDESC:évènements pour ACTR
REFRESH-INTERVAL;VALUE=DURATION:PT1H
X-Robots-Tag:noindex
X-PUBLISHED-TTL:PT1H
BEGIN:VTIMEZONE
TZID:Europe/Zurich
BEGIN:DAYLIGHT
TZOFFSETFROM:+0100
TZOFFSETTO:+0200
TZNAME:CEST
DTSTART:20240331T010000
END:DAYLIGHT
BEGIN:STANDARD
TZOFFSETFROM:+0200
TZOFFSETTO:+0100
TZNAME:CET
DTSTART:20241027T010000
END:STANDARD
END:VTIMEZONE
BEGIN:VEVENT
DTSTART;TZID=Europe/Zurich:20240313T120000
DTEND;TZID=Europe/Zurich:20240313T140000
DTSTAMP:20260421T152358
CREATED:20240226T120924Z
LAST-MODIFIED:20240226T120924Z
UID:7615-1710331200-1710338400@actr.ch
SUMMARY:La P'tite Tablée
DESCRIPTION:La P’tite Tablée \nMercredi 13 mars de 12h-14h à l’ACTR. \nInscriptions: sur la tableau d’affichage à l’entrée du local. \n 
URL:https://actr.ch/event/la-ptite-tablee-4/
LOCATION:ACTR\, Chemin des Trois-Rois 5\, Lausanne\, 1005\, Suisse
ATTACH;FMTTYPE=application/pdf:https://actr.ch/wp-content/uploads/2024/02/La-Ptite-tablee.pdf
END:VEVENT
END:VCALENDAR