BEGIN:VCALENDAR
VERSION:2.0
PRODID:-//ACTR - ECPv6.2.9//NONSGML v1.0//EN
CALSCALE:GREGORIAN
METHOD:PUBLISH
X-ORIGINAL-URL:https://actr.ch
X-WR-CALDESC:évènements pour ACTR
REFRESH-INTERVAL;VALUE=DURATION:PT1H
X-Robots-Tag:noindex
X-PUBLISHED-TTL:PT1H
BEGIN:VTIMEZONE
TZID:Europe/Zurich
BEGIN:DAYLIGHT
TZOFFSETFROM:+0100
TZOFFSETTO:+0200
TZNAME:CEST
DTSTART:20230326T010000
END:DAYLIGHT
BEGIN:STANDARD
TZOFFSETFROM:+0200
TZOFFSETTO:+0100
TZNAME:CET
DTSTART:20231029T010000
END:STANDARD
END:VTIMEZONE
BEGIN:VEVENT
DTSTART;TZID=Europe/Zurich:20231224T100000
DTEND;TZID=Europe/Zurich:20231224T114500
DTSTAMP:20260422T034448
CREATED:20231006T123705Z
LAST-MODIFIED:20231216T222121Z
UID:7009-1703412000-1703418300@actr.ch
SUMMARY:Culte & Message biblique | Noël et l'espérance du royaume de Dieu
DESCRIPTION:Dimanche 24 décembre 2023 \n10h-11h45: Culte & Message biblique | Noël et l’espérance du royaume de Dieu – Esaïe 8.23-9.6 \nOrateur: Thomas Sanchez \n10h30-11h45: Il n’y a pas d’école du dimanche. Mais la garderie est ouverte – les parents s’arrangent entre eux.
URL:https://actr.ch/event/culte-message-biblique-107/
LOCATION:ACTR\, Chemin des Trois-Rois 5\, Lausanne\, 1005\, Suisse
ATTACH;FMTTYPE=image/jpeg:https://actr.ch/wp-content/uploads/2023/10/2023.12.24_ImagetoUse-scaled.jpg
END:VEVENT
END:VCALENDAR