BEGIN:VCALENDAR
VERSION:2.0
PRODID:-//ACTR - ECPv6.2.9//NONSGML v1.0//EN
CALSCALE:GREGORIAN
METHOD:PUBLISH
X-WR-CALNAME:ACTR
X-ORIGINAL-URL:https://actr.ch
X-WR-CALDESC:évènements pour ACTR
REFRESH-INTERVAL;VALUE=DURATION:PT1H
X-Robots-Tag:noindex
X-PUBLISHED-TTL:PT1H
BEGIN:VTIMEZONE
TZID:Europe/Zurich
BEGIN:DAYLIGHT
TZOFFSETFROM:+0100
TZOFFSETTO:+0200
TZNAME:CEST
DTSTART:20230326T010000
END:DAYLIGHT
BEGIN:STANDARD
TZOFFSETFROM:+0200
TZOFFSETTO:+0100
TZNAME:CET
DTSTART:20231029T010000
END:STANDARD
END:VTIMEZONE
BEGIN:VEVENT
DTSTART;TZID=Europe/Zurich:20231212T200000
DTEND;TZID=Europe/Zurich:20231212T213000
DTSTAMP:20260422T000523
CREATED:20231006T122132Z
LAST-MODIFIED:20231006T122132Z
UID:6984-1702411200-1702416600@actr.ch
SUMMARY:Partage biblique & Prière
DESCRIPTION:Mardi 12 décembre 2023 \nPartage biblique et prière \nThème: Jn 14.13\, 15.1-7\, 15.16 & 16.23-24 & 1 Jn 3.22 et 5.14-15: Jean et la prière: l’absolu de la réponse Ce sont des textes encourageants mais aussi perturbants parfois\, comment les comprendre?\nIntroduit par Michel H.
URL:https://actr.ch/event/partage-biblique-priere-51/
LOCATION:ACTR\, Chemin des Trois-Rois 5\, Lausanne\, 1005\, Suisse
ATTACH;FMTTYPE=image/jpeg:https://actr.ch/wp-content/uploads/2023/01/2023_PartageBibliqueEtPriere.jpg
END:VEVENT
END:VCALENDAR