BEGIN:VCALENDAR
VERSION:2.0
PRODID:-//ACTR - ECPv6.2.9//NONSGML v1.0//EN
CALSCALE:GREGORIAN
METHOD:PUBLISH
X-ORIGINAL-URL:https://actr.ch
X-WR-CALDESC:évènements pour ACTR
REFRESH-INTERVAL;VALUE=DURATION:PT1H
X-Robots-Tag:noindex
X-PUBLISHED-TTL:PT1H
BEGIN:VTIMEZONE
TZID:Europe/Zurich
BEGIN:DAYLIGHT
TZOFFSETFROM:+0100
TZOFFSETTO:+0200
TZNAME:CEST
DTSTART:20230326T010000
END:DAYLIGHT
BEGIN:STANDARD
TZOFFSETFROM:+0200
TZOFFSETTO:+0100
TZNAME:CET
DTSTART:20231029T010000
END:STANDARD
END:VTIMEZONE
BEGIN:VEVENT
DTSTART;TZID=Europe/Zurich:20231207T100000
DTEND;TZID=Europe/Zurich:20231207T140000
DTSTAMP:20260421T222153
CREATED:20231123T193437Z
LAST-MODIFIED:20231123T193437Z
UID:7171-1701943200-1701957600@actr.ch
SUMMARY:Jeux & Amitiés
DESCRIPTION:Jeudi 7 décembre 2023 \nJeux & Amitiés \nDe 10h à 14h\, avec repas \nDans les locaux de l’ACTR. \nInscription auprès de Janelyse [079 424 54 24]
URL:https://actr.ch/event/jeux-amities-16/
LOCATION:ACTR\, Chemin des Trois-Rois 5\, Lausanne\, 1005\, Suisse
ATTACH;FMTTYPE=image/jpeg:https://actr.ch/wp-content/uploads/2023/11/2023.12.07_JeuxAmities.jpg
END:VEVENT
END:VCALENDAR