BEGIN:VCALENDAR
VERSION:2.0
PRODID:-//ACTR - ECPv6.2.9//NONSGML v1.0//EN
CALSCALE:GREGORIAN
METHOD:PUBLISH
X-WR-CALNAME:ACTR
X-ORIGINAL-URL:https://actr.ch
X-WR-CALDESC:évènements pour ACTR
REFRESH-INTERVAL;VALUE=DURATION:PT1H
X-Robots-Tag:noindex
X-PUBLISHED-TTL:PT1H
BEGIN:VTIMEZONE
TZID:Europe/Zurich
BEGIN:DAYLIGHT
TZOFFSETFROM:+0100
TZOFFSETTO:+0200
TZNAME:CEST
DTSTART:20230326T010000
END:DAYLIGHT
BEGIN:STANDARD
TZOFFSETFROM:+0200
TZOFFSETTO:+0100
TZNAME:CET
DTSTART:20231029T010000
END:STANDARD
END:VTIMEZONE
BEGIN:VEVENT
DTSTART;TZID=Europe/Zurich:20231203T100000
DTEND;TZID=Europe/Zurich:20231203T114500
DTSTAMP:20260421T221650
CREATED:20231006T123244Z
LAST-MODIFIED:20231127T083647Z
UID:7000-1701597600-1701603900@actr.ch
SUMMARY:Culte & Message biblique | Ne jamais partir au combat sans armure
DESCRIPTION:Dimanche 3 décembre 2023 \n10h-11h45: Culte\, avec introduction dédiée aux enfants suivi d’un moment de louange durant lequel leurs propositions de chants sont attendues & Message biblique | Ne jamais partir au combat sans armure (la guerre invisible)  \nBasé sur Éphésiens 6:10-18\nOrateur: Stefan Waldmann \n10h30-11h45: Ecole du dimanche & Minicell
URL:https://actr.ch/event/culte-message-biblique-105/
LOCATION:ACTR\, Chemin des Trois-Rois 5\, Lausanne\, 1005\, Suisse
ATTACH;FMTTYPE=image/jpeg:https://actr.ch/wp-content/uploads/2023/10/2023.11.19_Vide.jpg
END:VEVENT
BEGIN:VEVENT
DTSTART;TZID=Europe/Zurich:20231203T103000
DTEND;TZID=Europe/Zurich:20231203T114500
DTSTAMP:20260421T221650
CREATED:20231027T212210Z
LAST-MODIFIED:20231027T212210Z
UID:7073-1701599400-1701603900@actr.ch
SUMMARY:Minicell
DESCRIPTION:Dimanche 3 décembre 2023 \n10h30-11h45: Minicell\, pour les 0-3 ans \nMinicell\, un programme d’éveil à la foi pour les petits. Moment que les parents sont conviés à vivre conjointement avec leur(s) enfant(s).
URL:https://actr.ch/event/minicell-14/
LOCATION:ACTR\, Chemin des Trois-Rois 5\, Lausanne\, 1005\, Suisse
ATTACH;FMTTYPE=image/jpeg:https://actr.ch/wp-content/uploads/2023/10/2023.12.03_Minicell.jpg
END:VEVENT
BEGIN:VEVENT
DTSTART;TZID=Europe/Zurich:20231203T133000
DTEND;TZID=Europe/Zurich:20231203T153000
DTSTAMP:20260421T221650
CREATED:20231008T055111Z
LAST-MODIFIED:20231023T171545Z
UID:7021-1701610200-1701617400@actr.ch
SUMMARY:Parler de sexualité | Après-midi avec Jessica Volery
DESCRIPTION:Dimanche 3 décembre 2023 \nAprès-midi avec Jessica Volery | Le développement psycho-sexuel chez l’enfant de 0 à 20 ans \nMerci de vous inscrire auprès de info@actr.ch \n[Première session le 19 novembre 2023]
URL:https://actr.ch/event/parler-de-sexualite-apres-midi-avec-jessica-volery-2/
LOCATION:ACTR\, Chemin des Trois-Rois 5\, Lausanne\, 1005\, Suisse
ATTACH;FMTTYPE=image/jpeg:https://actr.ch/wp-content/uploads/2023/10/2023.11.19_ParlerDeSexualite.jpg
END:VEVENT
END:VCALENDAR