BEGIN:VCALENDAR
VERSION:2.0
PRODID:-//ACTR - ECPv6.2.9//NONSGML v1.0//EN
CALSCALE:GREGORIAN
METHOD:PUBLISH
X-ORIGINAL-URL:https://actr.ch
X-WR-CALDESC:évènements pour ACTR
REFRESH-INTERVAL;VALUE=DURATION:PT1H
X-Robots-Tag:noindex
X-PUBLISHED-TTL:PT1H
BEGIN:VTIMEZONE
TZID:Europe/Zurich
BEGIN:DAYLIGHT
TZOFFSETFROM:+0100
TZOFFSETTO:+0200
TZNAME:CEST
DTSTART:20230326T010000
END:DAYLIGHT
BEGIN:STANDARD
TZOFFSETFROM:+0200
TZOFFSETTO:+0100
TZNAME:CET
DTSTART:20231029T010000
END:STANDARD
END:VTIMEZONE
BEGIN:VEVENT
DTSTART;TZID=Europe/Zurich:20231128T200000
DTEND;TZID=Europe/Zurich:20231128T213000
DTSTAMP:20260421T131331
CREATED:20231006T121816Z
LAST-MODIFIED:20231016T203450Z
UID:6980-1701201600-1701207000@actr.ch
SUMMARY:Partage biblique & Prière
DESCRIPTION:Mardi 28 novembre 2023 \nPartage biblique et prière \nThème: Matt 18.15-22: Un passage à lire en un bloc: ton frère a péché\, ce que vous lierez\, la prière des deux ou trois\, la présence du Christ\, combien de fois pardonnerai-je? Comment vivre tout cela en église?\nIntroduit par Jacques R.
URL:https://actr.ch/event/partage-biblique-priere-49/
LOCATION:ACTR\, Chemin des Trois-Rois 5\, Lausanne\, 1005\, Suisse
ATTACH;FMTTYPE=image/jpeg:https://actr.ch/wp-content/uploads/2023/01/2023_PartageBibliqueEtPriere.jpg
END:VEVENT
END:VCALENDAR