BEGIN:VCALENDAR
VERSION:2.0
PRODID:-//ACTR - ECPv6.2.9//NONSGML v1.0//EN
CALSCALE:GREGORIAN
METHOD:PUBLISH
X-WR-CALNAME:ACTR
X-ORIGINAL-URL:https://actr.ch
X-WR-CALDESC:évènements pour ACTR
REFRESH-INTERVAL;VALUE=DURATION:PT1H
X-Robots-Tag:noindex
X-PUBLISHED-TTL:PT1H
BEGIN:VTIMEZONE
TZID:Europe/Zurich
BEGIN:DAYLIGHT
TZOFFSETFROM:+0100
TZOFFSETTO:+0200
TZNAME:CEST
DTSTART:20230326T010000
END:DAYLIGHT
BEGIN:STANDARD
TZOFFSETFROM:+0200
TZOFFSETTO:+0100
TZNAME:CET
DTSTART:20231029T010000
END:STANDARD
END:VTIMEZONE
BEGIN:VEVENT
DTSTART;TZID=Europe/Zurich:20231022T100000
DTEND;TZID=Europe/Zurich:20231022T114500
DTSTAMP:20260421T221256
CREATED:20230920T172653Z
LAST-MODIFIED:20231016T195318Z
UID:6931-1697968800-1697975100@actr.ch
SUMMARY:Culte & Message biblique | La foi d'Abraham\, espoir et modèle pour les enfants d'Abraham
DESCRIPTION:Dimanche 22 octobre 2023 \n10h-11h45: Culte & Message biblique | La foi d’Abraham\, espoir et modèle pour les enfants d’Abraham [base de texte: Romains 4] \nOrateur: Christophe Argaud \n10h30-11h45: Programme de vacances pour l’école du dimanche & Garderie
URL:https://actr.ch/event/culte-message-biblique-102/
LOCATION:ACTR\, Chemin des Trois-Rois 5\, Lausanne\, 1005\, Suisse
ATTACH;FMTTYPE=image/png:https://actr.ch/wp-content/uploads/2023/10/2023.10.22_imagetouse.png
END:VEVENT
END:VCALENDAR