BEGIN:VCALENDAR
VERSION:2.0
PRODID:-//ACTR - ECPv6.2.9//NONSGML v1.0//EN
CALSCALE:GREGORIAN
METHOD:PUBLISH
X-WR-CALNAME:ACTR
X-ORIGINAL-URL:https://actr.ch
X-WR-CALDESC:évènements pour ACTR
REFRESH-INTERVAL;VALUE=DURATION:PT1H
X-Robots-Tag:noindex
X-PUBLISHED-TTL:PT1H
BEGIN:VTIMEZONE
TZID:Europe/Zurich
BEGIN:DAYLIGHT
TZOFFSETFROM:+0100
TZOFFSETTO:+0200
TZNAME:CEST
DTSTART:20230326T010000
END:DAYLIGHT
BEGIN:STANDARD
TZOFFSETFROM:+0200
TZOFFSETTO:+0100
TZNAME:CET
DTSTART:20231029T010000
END:STANDARD
END:VTIMEZONE
BEGIN:VEVENT
DTSTART;TZID=Europe/Zurich:20231017T200000
DTEND;TZID=Europe/Zurich:20231017T213000
DTSTAMP:20260422T033301
CREATED:20231006T120025Z
LAST-MODIFIED:20231006T120025Z
UID:6967-1697572800-1697578200@actr.ch
SUMMARY:Partage biblique & Prière
DESCRIPTION:Mardi 17 octobre 2023 \nPartage biblique et prière \nThème: Jésus est pour nous individuellement et comme église un modèle de prière: dans un lieu désert (Marc 1:35)\, à l’écart sur la montagne (Mat 14:23)\, en prière une nuit entière pour choisir les disciples (Luc 6:12-13)\, troublé dans son âme (Jean 12:27-28) et à Gethsémané (Mat 26:36-37 avec Hébr. 5:7-8). Comment le mettre en pratique?\nIntroduit par Christophe Argaud
URL:https://actr.ch/event/partage-biblique-priere-44/
LOCATION:ACTR\, Chemin des Trois-Rois 5\, Lausanne\, 1005\, Suisse
ATTACH;FMTTYPE=image/jpeg:https://actr.ch/wp-content/uploads/2023/01/2023_PartageBibliqueEtPriere.jpg
END:VEVENT
END:VCALENDAR