BEGIN:VCALENDAR
VERSION:2.0
PRODID:-//ACTR - ECPv6.2.9//NONSGML v1.0//EN
CALSCALE:GREGORIAN
METHOD:PUBLISH
X-WR-CALNAME:ACTR
X-ORIGINAL-URL:https://actr.ch
X-WR-CALDESC:évènements pour ACTR
REFRESH-INTERVAL;VALUE=DURATION:PT1H
X-Robots-Tag:noindex
X-PUBLISHED-TTL:PT1H
BEGIN:VTIMEZONE
TZID:Europe/Zurich
BEGIN:DAYLIGHT
TZOFFSETFROM:+0100
TZOFFSETTO:+0200
TZNAME:CEST
DTSTART:20230326T010000
END:DAYLIGHT
BEGIN:STANDARD
TZOFFSETFROM:+0200
TZOFFSETTO:+0100
TZNAME:CET
DTSTART:20231029T010000
END:STANDARD
END:VTIMEZONE
BEGIN:VEVENT
DTSTART;TZID=Europe/Zurich:20231010T200000
DTEND;TZID=Europe/Zurich:20231010T213000
DTSTAMP:20260422T015541
CREATED:20231006T115638Z
LAST-MODIFIED:20231006T115638Z
UID:6965-1696968000-1696973400@actr.ch
SUMMARY:Partage biblique & Prière
DESCRIPTION:Mardi 10 octobre 2023 \nPartage biblique et prière \nThème: Luc 1.46-57: Magnificat\, prière de Marie: 1ère prière de l’évangile. En quoi cette prière me parle-t-elle et comment la dire en église?\nIntroduit par Eric Lecomte
URL:https://actr.ch/event/partage-biblique-priere-43/
LOCATION:ACTR\, Chemin des Trois-Rois 5\, Lausanne\, 1005\, Suisse
ATTACH;FMTTYPE=image/jpeg:https://actr.ch/wp-content/uploads/2023/01/2023_PartageBibliqueEtPriere.jpg
END:VEVENT
END:VCALENDAR