BEGIN:VCALENDAR
VERSION:2.0
PRODID:-//ACTR - ECPv6.2.9//NONSGML v1.0//EN
CALSCALE:GREGORIAN
METHOD:PUBLISH
X-WR-CALNAME:ACTR
X-ORIGINAL-URL:https://actr.ch
X-WR-CALDESC:évènements pour ACTR
REFRESH-INTERVAL;VALUE=DURATION:PT1H
X-Robots-Tag:noindex
X-PUBLISHED-TTL:PT1H
BEGIN:VTIMEZONE
TZID:Europe/Zurich
BEGIN:DAYLIGHT
TZOFFSETFROM:+0100
TZOFFSETTO:+0200
TZNAME:CEST
DTSTART:20230326T010000
END:DAYLIGHT
BEGIN:STANDARD
TZOFFSETFROM:+0200
TZOFFSETTO:+0100
TZNAME:CET
DTSTART:20231029T010000
END:STANDARD
END:VTIMEZONE
BEGIN:VEVENT
DTSTART;TZID=Europe/Zurich:20231001T100000
DTEND;TZID=Europe/Zurich:20231001T114500
DTSTAMP:20260421T221409
CREATED:20230912T083702Z
LAST-MODIFIED:20230924T191141Z
UID:6904-1696154400-1696160700@actr.ch
SUMMARY:Culte\, avec intro pour les enfants & Message biblique | Un alphabet de louange | Ps 145
DESCRIPTION:Dimanche 1er octobre 2023 \n10h-11h45: Culte\, avec introduction pour les enfants suivi d’un moment de louange durant lequel leurs propositions de chants sont attendues & Message biblique | Encore actuels\, les Psaumes ? Un alphabet de louange | Psaume 145 & Conclusion du cycle des Psaumes –  Orateur: Christophe Argaud \n10h30-11h45: Ecole du dimanche & Minicell
URL:https://actr.ch/event/culte-message-biblique-psaume-145-conclusion-du-cycle-des-psaumes/
LOCATION:ACTR\, Chemin des Trois-Rois 5\, Lausanne\, 1005\, Suisse
ATTACH;FMTTYPE=image/jpeg:https://actr.ch/wp-content/uploads/2023/09/2023.10.01_ps145new.jpg
END:VEVENT
BEGIN:VEVENT
DTSTART;TZID=Europe/Zurich:20231001T103000
DTEND;TZID=Europe/Zurich:20231001T114500
DTSTAMP:20260421T221409
CREATED:20230912T085429Z
LAST-MODIFIED:20230912T085429Z
UID:6911-1696156200-1696160700@actr.ch
SUMMARY:Minicell
DESCRIPTION:Dimanche 1 octobre 2023 \n10h30-11h45: Minicell\, pour les 0-3 ans \nMinicell\, un programme d’éveil à la foi pour les petits. Moment que les parents sont conviés à vivre conjointement avec leur(s) enfant(s).
URL:https://actr.ch/event/minicell-12/
LOCATION:ACTR\, Chemin des Trois-Rois 5\, Lausanne\, 1005\, Suisse
ATTACH;FMTTYPE=image/jpeg:https://actr.ch/wp-content/uploads/2023/09/2023.10.01_Minicell.jpg
END:VEVENT
END:VCALENDAR